{"text_format":"1","workbook":"xlsx","n_sheets":16,"sheets":["INSURED INFORMATION","Bupa Privilege Care","Bupa Advantage Care","Bupa Secure Care","Bupa Essential Care","Rate Summary","Comparacion de Beneficios","Tablas","2","3","4","5","6","8","9","PERU2020"],"not_rendered":{"charts":0,"images":12,"macros":1,"external_links":0,"defined_names":7,"comments":1,"pivot_tables":0},"unopened":[],"bounds":{"document_bytes":16777216,"sheet_cells":100000,"rows_first":2000,"rows_last":500,"rows_between":2000,"halvings":0,"cell_chars":16384,"cell_head_chars":4096},"cells_cut":0,"cells_raw":0,"read":"whole","date_system":"1900"}

{"sheet":"INSURED INFORMATION","index":0,"n_rows":58,"n_cols":23,"rows_kept":58,"cut":false,"hidden":false,"merged":[[62,14,62,15],[61,14,61,15],[47,14,47,19],[45,14,45,15],[58,14,58,15],[59,14,59,15],[50,15,50,20],[4,21,11,21],[3,14,3,16],[46,2,46,11],[35,2,35,11],[35,0,35,1],[37,0,37,1],[39,0,39,1],[41,0,41,1],[43,0,43,1],[16,14,16,19],[4,18,11,18],[46,0,46,1],[7,0,7,9],[31,15,31,20],[29,15,29,20]]}
[]
[null,null,null,null,null,null,null,null," "," "," ",null,null,null,"24 years",false]
[]
[null,null,null,null,null,null,null,null,null,null,null,null,null,null,"Descuento 24 años (por edad)"]
[null,null,null,null,null,null,null,null,null,null,null,null,null,null,"age","Discount (%)","Parameter",null,"Type","New Business",null,"REGION",2]
[null,null,null,null,null,null,null,null," "," "," "," ",null,null,24,35,{"$f":"1-P6/100","v":0.65},null,null,"Renewals",null,null,3]
[null,null,null,null,null,null,null,null,null,null,null,null,null,null,25,30,{"$f":"1-P7/100","v":0.7},null,null,null,null,null,4]
[null,null,null,null,null,null,null,null,null,null,null,null,null,null,26,25,0.75,null,null,null,null,null,5]
[null,null,null,null,null,null,null,null,null,null,null,null,null,null,27,20,0.8,null,null,null,null,null,6]
[null,null,null,null,null,null,null,null,null,null,null,null,null,null,28,15,0.85,null,null,null,null,null,8]
[null,null,null,null,null,null,null,null,null,null,null,null,null,null,29,6,0.94,null,null,null,null,null,9]
[null,null,null,null,null,null,null,null,null,null,null,null,null,null,"All ages",0,1,null,null,null,null,null,"Perú\n(Pólizas: 2020)"]
[null,null,null,null,null,null,null,null,null,null,null,null,null,null,null,null,null,null,"Type selected",2,null,"Selección",6]
[null,null,null,null,null,null,null,null,null,null,null,null,null,null,null,null,null,null,null,null,null,"REGION",{"$f":"IF(W13=1,2,IF(W13=2,3,IF(W13=3,4,IF(W13=4,5,IF(W13=4,5,IF(W13=5,6,IF(W13=6,8,IF(W13=7,9,IF(W13=8,\"PERU2020\")))))))))","v":8}]
[null,null,null,null,null,null,null,null,null,null,null,null,null,null,null,null,null,null,null,null,null,null,"Trinidad & Tobago"]
[]
[]
[]
[null,null,null,null,null,null,null,null,null,null,null,null,null,null,"Descuento de 24 años:",{"$f":"IF(P2,_xlfn.SWITCH(C42,O6,Q6,O7,Q7,O8,Q8,O9,Q9,O10,Q10,O11,Q11,Q12),Q12)","v":1}]
[]
[]
[]
[]
[null,null,null,null,null,null,null,null,null,null,null,null,null,null,"Descuento por variante de coaseguro","N/A"]
[]
[]
[]
[]
[]
[null,null,null,null,null,null,null,null,null,null,null,null,null,null,null,"Descuento si es nuevo negocio (ENTRADA MANUAL)"]
[]
[null,null,null,null,null,null,null,null,null,null,null,null,null,null,null,"NEW BUSINESS DISCOUNT"]
[null,null,null,null,null,null,null,null,null,null,null,null,null,null,null,"Critical","Exclusive","Privilege","Advantage (Mundial)","Secure","Essential"]
[null,null,null,null,null,null,null,null,null,null,null,null,null,null,"Plan 1",0.3,0.3,0.3,0.3,0.3,0.3]
[null,null,null,null,null,null,null,null,null,null,null,null,null,null,"Plan2",0.3,0.3,0.3,0.3,0.3,0.3]
["Main Insured Name",null,"John Doe",null,null,null,null,null,null,null,null,null,null,null,"Plan 3",0.3,0.3,0.3,0.3,0.3,0.3]
[null,null,null,null,null,null,null,null,null,null,null,null,null,null,"Plan 4",0.3,0.3,0.3,0.3,0.3,0.3]
["Number of adults in the policy ",null,1,null,null,null,null,null,null,null,null,null,null,null,"Plan 5",0.3,0.3,0.3,0.3,0.3,0.3]
[null,null,null,null,null,null,null,null,null,null,null,null,null,null,"Plan 6",0.3,0.3,0.3,0.3,0.3,0.3]
["Número de hijos en la póliza:",null,0]
[]
["Age of the main insured",null,18]
[]
["Age of Spouse",null,46]
[]
[]
["Agency Name:",null,"Agency"]
[null,null,null,null,null,null,null,null,null,null,null,null,null,null,"Descuento combinado 24 años + Nuevo Negocio o Roneovaciones"]
[]
[]
[null,null,null,null,null,null,null,null,null,null,null,null,null,null,null,"TOTAL DISCOUNT"]
[null,null,null,null,null,null,null,null,null,null,null,null,null,null,null,"Critical","Exclusive","Privilege","Advantage","Secure","Essential"]
[null,null,null,null,null,null,null,null,null,null,null,null,null,null,"Plan 1",{"$f":"IF($T$13=2,1,(1-P34))","v":1},{"$f":"IF($T$13=2,1,(1-Q34))","v":1},1,1,1,{"$f":"IF($T$13=2,1,(1-U34))","v":1}]
[null,null,null,null,null,null,null,null,null,null,null,null,null,null,"Plan2",{"$f":"IF($T$13=2,1,(1-P35))","v":1},1,1,1,1,1]
[null,null,null,null,null,null,null,null,null,null,null,null,null,null,"Plan 3",{"$f":"IF($T$13=2,1,(1-P36))","v":1},1,1,1,1,1]
[null,null,null,null,null,null,null,null,null,null,null,null,null,null,"Plan 4",{"$f":"IF($T$13=2,1,(1-P37))","v":1},1,1,1,1,1]
[null,null,null,null,null,null,null,null,null,null,null,null,null,null,"Plan 5",{"$f":"IF($T$13=2,1,(1-P38))","v":1},1,1,1,1,1]
[null,null,null,null,null,null,null,null,null,null,null,null,null,null,"Plan 6",{"$f":"IF($T$13=2,1,(1-P39))","v":1},1,1,1,1,1]

{"sheet":"Bupa Privilege Care","index":1,"n_rows":72,"n_cols":43,"rows_kept":72,"cut":false,"hidden":false,"merged":[[20,5,21,5],[20,10,21,11],[20,8,21,9],[14,6,14,11],[12,6,12,11],[17,8,17,9],[51,0,51,1],[51,2,51,3],[50,0,50,1],[50,2,50,3],[29,5,29,11],[38,5,38,11],[46,0,49,1],[33,0,33,1],[34,0,34,1],[38,0,38,1],[45,0,45,1],[39,0,39,1],[40,0,40,1],[41,0,41,1],[36,0,36,1],[35,0,35,1],[25,2,25,3],[25,0,25,1],[26,0,26,1],[24,2,24,3],[32,0,32,1],[29,0,29,1],[31,2,31,3],[27,0,27,1],[28,0,28,1],[30,0,31,1],[24,0,24,1],[26,2,26,3],[29,2,29,3],[27,2,27,3],[28,2,28,3],[43,0,43,1],[44,0,44,1],[42,0,42,1],[30,2,30,3],[33,2,33,3],[46,2,49,3],[32,2,32,3],[34,2,34,3],[45,2,45,3],[35,2,35,3],[42,2,42,3],[36,2,36,3],[40,2,40,3],[38,2,38,3],[41,2,41,3],[43,2,43,3],[44,2,44,3],[39,2,39,3],[49,5,49,11],[71,5,75,11],[60,5,60,11],[0,27,0,39],[22,30,22,31],[44,32,44,39],[46,32,49,39],[0,13,0,25],[22,16,22,17],[44,18,44,25],[46,18,49,25],[4,11,5,11],[6,11,10,11],[4,5,10,10],[16,8,16,10],[18,8,18,10]]}
[null,null,null,null,null,null,null,null,null,null,null,null,null,"RESUMEN DE BENEFICIOS",null,null,null,null,null,null,null,null,null,null,null,null,null,"RESUMEN DE BENEFICIOS"]
[null,null,null,null,null,null,false,null," "," "," "]
[]
[]
[null,null,null,null,null,"Quote for International Health Insurance\nBupa Privilege Care\nRates in US$ |Effective: January 1, 2026",null,null,null,null,null,"REGION"]
[]
[null,null,null,null,null,null,null,null,null,null,null,{"$f":"'INSURED INFORMATION'!W15","v":"Trinidad & Tobago"}]
[]
[]
[]
[]
[]
[null,null,null,null,null,"Main Insured Name",{"$f":"+'INSURED INFORMATION'!$C$36","v":"John Doe"}]
[]
[null,null,null,null,null,"Broker/Agent",{"$f":"+'INSURED INFORMATION'!$C$47","v":"Agency"}]
[]
[null,null,null,null,null,"Number of adults in the policy",{"$f":"+'INSURED INFORMATION'!$C$38","v":1},null,"Dependents (under 24 years)",null,null,{"$f":"+'INSURED INFORMATION'!$C$40","v":0}]
[null,null,null,null,null,null,null,null,{"$f":"IF('INSURED INFORMATION'!$P$2=TRUE, \"Cotización para dependiente de 24 años\",\"\")","v":""}]
[null,null,null,null,null,"Age of the main insured",{"$f":"+'INSURED INFORMATION'!$C$42","v":18},null,"Spouse's age",null,null,{"$f":"+'INSURED INFORMATION'!$C$44","v":46}]
[]
[null,null,null,null,null,null,null,null," Quote date",null,{"$f":"NOW()","v":"2025-11-19T09:47:12.310"}]
[null,null,null,null,null,null,null,null,null,null,null,null,null,null,null,null,null,null,null,null,null,null,null,null,null,null,null,null,null,null,null,null,null,null,null,null,null,null,null,null,null,null,"BG"]
[]
[]
[null,null,null,null,null,"DEDUCTIBLES","PLAN 1","PLAN 2","PLAN 3","PLAN 4","PLAN 5","PLAN 6"]
[null,null,null,null,null,"Inside the country of residence","n/a",1000,2000,5000,10000,20000]
[null,null,null,null,null,"Outside the country of residence","n/a",2000,3000,5000,10000,20000]
[]
[]
[null,null,null,null,null,"ANNUAL RATES"]
[null,null,null,null,null,"Main Insured Premium","n/a",{"$f":"VLOOKUP($G$19,Tablas!$A$158:$H$181,4,TRUE)","v":9566},{"$f":"VLOOKUP($G$19,Tablas!$A$158:$H$181,5,TRUE)","v":6579},{"$f":"VLOOKUP($G$19,Tablas!$A$158:$H$181,6,TRUE)","v":4614},{"$f":"VLOOKUP($G$19,Tablas!$A$158:$H$181,7,TRUE)","v":3213},{"$f":"VLOOKUP($G$19,Tablas!$A$158:$H$181,8,TRUE)","v":2446}]
[null,null,null,null,null,"Spouse's Premium","n/a",{"$f":"IF($G$17=1,0,(VLOOKUP($L$19,Tablas!$A$158:$H$181,4,TRUE)))","v":0},{"$f":"IF($G$17=1,0,(VLOOKUP($L$19,Tablas!$A$158:$H$181,5,TRUE)))","v":0},{"$f":"IF($G$17=1,0,(VLOOKUP($L$19,Tablas!$A$158:$H$181,6,TRUE)))","v":0},{"$f":"IF($G$17=1,0,(VLOOKUP($L$19,Tablas!$A$158:$H$181,7,TRUE)))","v":0},{"$f":"IF($G$17=1,0,(VLOOKUP($L$19,Tablas!$A$158:$H$181,8,TRUE)))","v":0}]
[null,null,null,null,null,"Primas Hijos","n/a",{"$f":"IF($L$17=0,0,(VLOOKUP($L$17,Tablas!$A$182:$H$184,4,TRUE)))","v":0},{"$f":"IF($L$17=0,0,(VLOOKUP($L$17,Tablas!$A$182:$H$184,5,TRUE)))","v":0},{"$f":"IF($L$17=0,0,(VLOOKUP($L$17,Tablas!$A$182:$H$184,6,TRUE)))","v":0},{"$f":"IF($L$17=0,0,(VLOOKUP($L$17,Tablas!$A$182:$H$184,7,TRUE)))","v":0},{"$f":"IF($L$17=0,0,(VLOOKUP($L$17,Tablas!$A$182:$H$184,8,TRUE)))","v":0}]
[null,null,null,null,null,"Rider: Maternity Complications","n/a",{"$f":"+IF($G$2=FALSE,0,Tablas!D$185)","v":0},{"$f":"+IF($G$2=FALSE,0,Tablas!E$185)","v":0},{"$f":"+IF($G$2=FALSE,0,Tablas!F$185)","v":0},{"$f":"+IF($G$2=FALSE,0,Tablas!G$185)","v":0},{"$f":"+IF($G$2=FALSE,0,Tablas!H$185)","v":0}]
[null,null,null,null,null,"TOTAL NET PREMIUM","n/a",{"$f":"SUM(H31:H34)","v":9566},{"$f":"SUM(I31:I34)","v":6579},{"$f":"SUM(J31:J34)","v":4614},{"$f":"SUM(K31:K34)","v":3213},{"$f":"SUM(L31:L34)","v":2446}]
[null,null,null,null,null,"Annual administrative Fee","n/a",75,75,75,75,75]
[null,null,null,null,null,"GRAND TOTAL","n/a",{"$f":"SUM(H35:H36)","v":9641},{"$f":"SUM(I35:I36)","v":6654},{"$f":"SUM(J35:J36)","v":4689},{"$f":"SUM(K35:K36)","v":3288},{"$f":"SUM(L35:L36)","v":2521}]
[]
[null,null,null,null,null,"SEMI-ANNUAL RATES"]
[null,null,null,null,null,"Main Insured Premium","n/a",{"$f":"VLOOKUP($G$19,Tablas!$A$193:$H$216,4,TRUE)","v":4878.66},{"$f":"VLOOKUP($G$19,Tablas!$A$193:$H$216,5,TRUE)","v":3355.29},{"$f":"VLOOKUP($G$19,Tablas!$A$193:$H$216,6,TRUE)","v":2353.14},{"$f":"VLOOKUP($G$19,Tablas!$A$193:$H$216,7,TRUE)","v":1638.63},{"$f":"VLOOKUP($G$19,Tablas!$A$193:$H$216,8,TRUE)","v":1247.46}]
[null,null,null,null,null,"Spouse's Premium","n/a",{"$f":"IF($G$17=1,0,(VLOOKUP($L$19,Tablas!$A$193:$H$216,4,TRUE)))","v":0},{"$f":"IF($G$17=1,0,(VLOOKUP($L$19,Tablas!$A$193:$H$216,5,TRUE)))","v":0},{"$f":"IF($G$17=1,0,(VLOOKUP($L$19,Tablas!$A$193:$H$216,6,TRUE)))","v":0},{"$f":"IF($G$17=1,0,(VLOOKUP($L$19,Tablas!$A$193:$H$216,7,TRUE)))","v":0},{"$f":"IF($G$17=1,0,(VLOOKUP($L$19,Tablas!$A$193:$H$216,8,TRUE)))","v":0}]
[null,null,null,null,null,"Primas Hijos","n/a",{"$f":"IF($L$17=0,0,(VLOOKUP($L$17,Tablas!$A$217:$H$219,4,TRUE)))","v":0},{"$f":"IF($L$17=0,0,(VLOOKUP($L$17,Tablas!$A$217:$H$219,5,TRUE)))","v":0},{"$f":"IF($L$17=0,0,(VLOOKUP($L$17,Tablas!$A$217:$H$219,6,TRUE)))","v":0},{"$f":"IF($L$17=0,0,(VLOOKUP($L$17,Tablas!$A$217:$H$219,7,TRUE)))","v":0},{"$f":"IF($L$17=0,0,(VLOOKUP($L$17,Tablas!$A$217:$H$219,8,TRUE)))","v":0}]
[null,null,null,null,null,"Prima Rider Complic. Maternidad","n/a",{"$f":"+IF($G$2=FALSE,0,Tablas!D$220)","v":0},{"$f":"+IF($G$2=FALSE,0,Tablas!E$220)","v":0},{"$f":"+IF($G$2=FALSE,0,Tablas!F$220)","v":0},{"$f":"+IF($G$2=FALSE,0,Tablas!G$220)","v":0},{"$f":"+IF($G$2=FALSE,0,Tablas!H$220)","v":0}]
[null,null,null,null,null,"TOTAL NET PREMIUM","n/a",{"$f":"SUM(H40:H43)","v":4878.66},{"$f":"SUM(I40:I43)","v":3355.29},{"$f":"SUM(J40:J43)","v":2353.14},{"$f":"SUM(K40:K43)","v":1638.63},{"$f":"SUM(L40:L43)","v":1247.46}]
[null,null,null,null,null,"Annual administrative Fee","n/a",75,75,75,75,75]
[null,null,null,null,null,"TOTAL (1st Rate)","n/a",{"$f":"SUM(H44:H45)","v":4953.66},{"$f":"SUM(I44:I45)","v":3430.29},{"$f":"SUM(J44:J45)","v":2428.14},{"$f":"SUM(K44:K45)","v":1713.63},{"$f":"SUM(L44:L45)","v":1322.46}]
[null,null,null,null,null,"TOTAL  (2nd Rate)","n/a",{"$f":"H44","v":4878.66},{"$f":"I44","v":3355.29},2353.14,1638.63,1247.46]
[null,null,null,null,null,"GRAND TOTAL","n/a",{"$f":"SUM(H46:H47)","v":9832.32},{"$f":"SUM(I46:I47)","v":6785.58},4781.28,3352.26,2569.92]
[]
[null,null,null,null,null,"QUARTERLY RATES"]
[null,null,null,null,null,"Main Insured Premium","n/a",{"$f":"H31*Tablas!$G$3","v":2534.9900000000002},{"$f":"I31*Tablas!$G$3","v":1743.4350000000002},{"$f":"J31*Tablas!$G$3","v":1222.71},{"$f":"K31*Tablas!$G$3","v":851.44500000000005},{"$f":"L31*Tablas!$G$3","v":648.19000000000005}]
[null,null,null,null,null,"Spouse's Premium","n/a",{"$f":"H32*Tablas!$G$3","v":0},{"$f":"I32*Tablas!$G$3","v":0},{"$f":"J32*Tablas!$G$3","v":0},{"$f":"K32*Tablas!$G$3","v":0},{"$f":"L32*Tablas!$G$3","v":0}]
[null," ",null,null,null,"Primas Hijos","n/a",{"$f":"H33*Tablas!$G$3","v":0},{"$f":"I33*Tablas!$G$3","v":0},{"$f":"J33*Tablas!$G$3","v":0},{"$f":"K33*Tablas!$G$3","v":0},{"$f":"L33*Tablas!$G$3","v":0}]
[null,null,null,null,null,"Prima Rider Complic. Maternidad","n/a",{"$f":"H34*Tablas!$G$3","v":0},{"$f":"I34*Tablas!$G$3","v":0},{"$f":"J34*Tablas!$G$3","v":0},{"$f":"K34*Tablas!$G$3","v":0},{"$f":"L34*Tablas!$G$3","v":0}]
[null,null,null,null,null,"TOTAL NET PREMIUM","n/a",{"$f":"SUM(H51:H54)","v":2534.9900000000002},{"$f":"SUM(I51:I54)","v":1743.4350000000002},{"$f":"SUM(J51:J54)","v":1222.71},{"$f":"SUM(K51:K54)","v":851.44500000000005},{"$f":"SUM(L51:L54)","v":648.19000000000005}]
[null,null,null,null,null,"Annual administrative Fee","n/a",75,75,75,75,75]
[null,null,null,null,null,"TOTAL (1st Rate)","n/a",{"$f":"SUM(H55:H56)","v":2609.9900000000002},{"$f":"SUM(I55:I56)","v":1818.4350000000002},{"$f":"SUM(J55:J56)","v":1297.71},{"$f":"SUM(K55:K56)","v":926.44500000000005},{"$f":"SUM(L55:L56)","v":723.19}]
[null,null,null,null,null,"TOTAL  (Rate 2 to 4)","n/a",{"$f":"H55","v":2534.9900000000002},{"$f":"I55","v":1743.4350000000002},1222.71,851.44500000000005,648.19000000000005]
[null,null,null,null,null,"GRAND TOTAL","n/a",{"$f":"H57+H58*3","v":10214.960000000001},{"$f":"I57+I58*3","v":7048.7400000000007},4965.84,3480.78,{"$f":"L57+L58*3","v":2667.76}]
[]
[null,null,null,null,null,"MONTHLY RATES"]
[null,null,null,null,null,"Main Insured Premium","n/a",{"$f":"H31*Tablas!$G$4","v":892.79477999999995},{"$f":"I31*Tablas!$G$4","v":614.01806999999997},{"$f":"J31*Tablas!$G$4","v":430.62461999999999},{"$f":"K31*Tablas!$G$4","v":299.86928999999998},{"$f":"L31*Tablas!$G$4","v":228.28518}]
[null,null,null,null,null,"Spouse's Premium","n/a",{"$f":"H32*Tablas!$G$4","v":0},{"$f":"I32*Tablas!$G$4","v":0},{"$f":"J32*Tablas!$G$4","v":0},{"$f":"K32*Tablas!$G$4","v":0},{"$f":"L32*Tablas!$G$4","v":0}]
[null,null,null,null,null,"Primas Hijos","n/a",{"$f":"H33*Tablas!$G$4","v":0},{"$f":"I33*Tablas!$G$4","v":0},{"$f":"J33*Tablas!$G$4","v":0},{"$f":"K33*Tablas!$G$4","v":0},{"$f":"L33*Tablas!$G$4","v":0}]
[null,null,null,null,null,"Prima Rider Complic. Maternidad","n/a",{"$f":"H34*Tablas!$G$4","v":0},{"$f":"I34*Tablas!$G$4","v":0},{"$f":"J34*Tablas!$G$4","v":0},{"$f":"K34*Tablas!$G$4","v":0},{"$f":"L34*Tablas!$G$4","v":0}]
[null,null,null,null,null,"TOTAL NET PREMIUM","n/a",{"$f":"SUM(H62:H65)","v":892.79477999999995},{"$f":"SUM(I62:I65)","v":614.01806999999997},{"$f":"SUM(J62:J65)","v":430.62461999999999},{"$f":"SUM(K62:K65)","v":299.86928999999998},{"$f":"SUM(L62:L65)","v":228.28518}]
[null,null,null,null,null,"Annual administrative Fee","n/a",75,75,75,75,75]
[null,null,null,null,null,"TOTAL (1st Rate)","n/a",{"$f":"SUM(H66:H67)","v":967.79477999999995},{"$f":"SUM(I66:I67)","v":689.01806999999997},{"$f":"SUM(J66:J67)","v":505.62461999999999},{"$f":"SUM(K66:K67)","v":374.86928999999998},{"$f":"SUM(L66:L67)","v":303.28517999999997}]
[null,null,null,null,null,"TOTAL  (Rate 2 to 12)","n/a",{"$f":"H66","v":892.79477999999995},{"$f":"I66","v":614.01806999999997},430.62461999999999,299.86928999999998,228.28518]
[null,null,null,null,null,"GRAND TOTAL","n/a",{"$f":"H68+H69*11","v":10788.53736},{"$f":"I68+I69*11","v":7443.21684},5242.4954399999997,3673.4314799999997,{"$f":"L68+L69*11","v":2814.4221599999996}]
[]
[null,null,null,null,null,"This quote is for informational purposes only and at no time expresses a legal commitment to provide you with insurance coverage. The issuance of a Bupa insurance policy is subject to all risk assessments by Bupa and receipt of all required premium payments."]

{"sheet":"Bupa Advantage Care","index":2,"n_rows":76,"n_cols":23,"rows_kept":76,"cut":false,"hidden":false,"merged":[[20,3,21,4],[75,0,79,6],[16,3,16,5],[18,3,18,5],[4,0,10,5],[4,6,5,6],[6,6,10,6],[20,5,21,6],[29,0,29,6],[39,0,39,6],[12,1,12,6],[14,1,14,6],[17,3,17,4],[51,0,51,6],[63,0,63,6],[0,8,0,20],[22,11,22,12],[44,13,44,20],[46,13,47,20],[0,22,0,34],[22,25,22,26],[44,27,44,34],[46,27,47,34]]}
[" ",null,false,false,null,null,null,null,"RESUMEN DE BENEFICIOS",null,null,null,null,null,null,null,null,null,null,null,null,null,"RESUMEN DE BENEFICIOS"]
[]
[]
[]
["Quote for International Health Insurance\nBupa Advantage Care (Mundial)\nRates in US$ |Effective: January 1, 2026",null,null,null,null,null,"REGION"]
[]
[null,null,null,null,null,null,{"$f":"'INSURED INFORMATION'!W15","v":"Trinidad & Tobago"}]
[]
[]
[]
[]
[]
["Main Insured Name",{"$f":"+'INSURED INFORMATION'!$C$36","v":"John Doe"}]
[]
["Broker/Agent",{"$f":"+'INSURED INFORMATION'!$C$47","v":"Agency"}]
[]
["Number of adults in the policy",{"$f":"+'INSURED INFORMATION'!$C$38","v":1},null,"Dependents (under 24 years)",null,null,{"$f":"+'INSURED INFORMATION'!$C$40","v":0}]
[null,null,null,{"$f":"IF('INSURED INFORMATION'!$P$2=TRUE, \"Cotización para dependiente de 24 años\",\"\")","v":""}]
["Age of the main insured",{"$f":"+'INSURED INFORMATION'!$C$42","v":18},null,"Spouse's age",null,null,{"$f":"+'INSURED INFORMATION'!$C$44","v":46}]
[]
[null,null,null," Quote date",null,{"$f":"NOW()","v":"2025-11-19T09:47:12.310"}]
[]
[]
[]
["DEDUCTIBLES","PLAN 1","PLAN 2","PLAN 3","PLAN 4","PLAN 5","PLAN 6"]
["Inside the country of residence","n/a",1000,2000,5000,10000,20000]
["Outside the country of residence","n/a",2000,3000,5000,10000,20000]
[]
[]
["ANNUAL RATES"]
["Main Insured Premium","n/a",{"$f":"VLOOKUP($B$19,Tablas!$A$303:$H$326,4,TRUE)","v":6247},{"$f":"VLOOKUP($B$19,Tablas!$A$303:$H$326,5,TRUE)","v":4692},{"$f":"VLOOKUP($B$19,Tablas!$A$303:$H$326,6,TRUE)","v":3530},{"$f":"VLOOKUP($B$19,Tablas!$A$303:$H$326,7,TRUE)","v":2658},{"$f":"VLOOKUP($B$19,Tablas!$A$303:$H$326,8,TRUE)","v":2106}]
["Spouse's Premium","n/a",{"$f":"IF($B$17=1,0,(VLOOKUP($G$19,Tablas!$A$303:$H$326,4,TRUE)))","v":0},{"$f":"IF($B$17=1,0,(VLOOKUP($G$19,Tablas!$A$303:$H$326,5,TRUE)))","v":0},{"$f":"IF($B$17=1,0,(VLOOKUP($G$19,Tablas!$A$303:$H$326,6,TRUE)))","v":0},{"$f":"IF($B$17=1,0,(VLOOKUP($G$19,Tablas!$A$303:$H$326,7,TRUE)))","v":0},{"$f":"IF($B$17=1,0,(VLOOKUP($G$19,Tablas!$A$303:$H$326,8,TRUE)))","v":0}]
["Primas Hijos","n/a",{"$f":"IF($G$17=0,0,(VLOOKUP($G$17,Tablas!$A$327:$H$329,4,TRUE)))","v":0},{"$f":"IF($G$17=0,0,(VLOOKUP($G$17,Tablas!$A$327:$H$329,5,TRUE)))","v":0},{"$f":"IF($G$17=0,0,(VLOOKUP($G$17,Tablas!$A$327:$H$329,6,TRUE)))","v":0},{"$f":"IF($G$17=0,0,(VLOOKUP($G$17,Tablas!$A$327:$H$329,7,TRUE)))","v":0},{"$f":"IF($G$17=0,0,(VLOOKUP($G$17,Tablas!$A$327:$H$329,8,TRUE)))","v":0}]
["Rider: Maternity Complications","n/a",{"$f":"+IF($C$1=FALSE,0,Tablas!D$330)","v":0},{"$f":"+IF($C$1=FALSE,0,Tablas!E$330)","v":0},{"$f":"+IF($C$1=FALSE,0,Tablas!F$330)","v":0},{"$f":"+IF($C$1=FALSE,0,Tablas!G$330)","v":0},{"$f":"+IF($C$1=FALSE,0,Tablas!H$330)","v":0}]
["Rider: Organ Trasplant","n/a",{"$f":"IF($D$1=FALSE,0,Tablas!D$331)","v":0},{"$f":"IF($D$1=FALSE,0,Tablas!E$331)","v":0},{"$f":"IF($D$1=FALSE,0,Tablas!F$331)","v":0},{"$f":"IF($D$1=FALSE,0,Tablas!G$331)","v":0},{"$f":"IF($D$1=FALSE,0,Tablas!H$331)","v":0}]
["TOTAL NET PREMIUM","n/a",{"$f":"SUM(C31:C35)","v":6247},4692,3530,2658,2106]
["Costo Administrativo Annual"," n/a ",75,75,75,75,75]
["GRAND TOTAL","n/a",{"$f":"SUM(C36:C37)","v":6322},{"$f":"SUM(D36:D37)","v":4767},{"$f":"SUM(E36:E37)","v":3605},{"$f":"SUM(F36:F37)","v":2733},{"$f":"SUM(G36:G37)","v":2181}]
[]
["SEMI-ANNUAL RATES"]
["Main Insured Premium","n/a",{"$f":"VLOOKUP($B$19,Tablas!$A$338:$H$361,4,TRUE)","v":3185.9700000000003},{"$f":"VLOOKUP($B$19,Tablas!$A$338:$H$361,5,TRUE)","v":2392.92},{"$f":"VLOOKUP($B$19,Tablas!$A$338:$H$361,6,TRUE)","v":1800.3},{"$f":"VLOOKUP($B$19,Tablas!$A$338:$H$361,7,TRUE)","v":1355.58},{"$f":"VLOOKUP($B$19,Tablas!$A$338:$H$361,8,TRUE)","v":1074.06}]
["Spouse's Premium","n/a",{"$f":"IF($B$17=1,0,(VLOOKUP($G$19,Tablas!$A$338:$H$361,4,TRUE)))","v":0},{"$f":"IF($B$17=1,0,(VLOOKUP($G$19,Tablas!$A$338:$H$361,5,TRUE)))","v":0},{"$f":"IF($B$17=1,0,(VLOOKUP($G$19,Tablas!$A$338:$H$361,6,TRUE)))","v":0},{"$f":"IF($B$17=1,0,(VLOOKUP($G$19,Tablas!$A$338:$H$361,7,TRUE)))","v":0},{"$f":"IF($B$17=1,0,(VLOOKUP($G$19,Tablas!$A$338:$H$361,8,TRUE)))","v":0}]
["Primas Hijos","n/a",{"$f":"IF($G$17=0,0,(VLOOKUP($G$17,Tablas!$A$362:$H$364,4,TRUE)))","v":0},{"$f":"IF($G$17=0,0,(VLOOKUP($G$17,Tablas!$A$362:$H$364,5,TRUE)))","v":0},{"$f":"IF($G$17=0,0,(VLOOKUP($G$17,Tablas!$A$362:$H$364,6,TRUE)))","v":0},{"$f":"IF($G$17=0,0,(VLOOKUP($G$17,Tablas!$A$362:$H$364,7,TRUE)))","v":0},{"$f":"IF($G$17=0,0,(VLOOKUP($G$17,Tablas!$A$362:$H$364,8,TRUE)))","v":0}]
["Rider: Maternity Complications","n/a",{"$f":"+IF($C$1=FALSE,0,Tablas!D$365)","v":0},{"$f":"+IF($C$1=FALSE,0,Tablas!E$365)","v":0},{"$f":"+IF($C$1=FALSE,0,Tablas!F$365)","v":0},{"$f":"+IF($C$1=FALSE,0,Tablas!G$365)","v":0},{"$f":"+IF($C$1=FALSE,0,Tablas!H$365)","v":0}]
["Rider: Organ Trasplant","n/a",{"$f":"+IF($C$1=FALSE,0,Tablas!D$365)","v":0},{"$f":"IF($D$1=FALSE,0,Tablas!E$366)","v":0},{"$f":"IF($D$1=FALSE,0,Tablas!F$366)","v":0},{"$f":"IF($D$1=FALSE,0,Tablas!G$366)","v":0},{"$f":"IF($D$1=FALSE,0,Tablas!H$366)","v":0}]
["TOTAL NET PREMIUM","n/a",{"$f":"SUM(C41:C45)","v":3185.9700000000003},2392.92,1800.3,1355.58,1074.06]
["Annual administrative Fee ","n/a",75,75,75,75,75]
["TOTAL  (1st Rate)","n/a",{"$f":"SUM(C46:C47)","v":3260.9700000000003},{"$f":"SUM(D46:D47)","v":2467.92},{"$f":"SUM(E46:E47)","v":1875.3},{"$f":"SUM(F46:F47)","v":1430.58},{"$f":"SUM(G46:G47)","v":1149.06}]
["TOTAL  (2nd Rate)","n/a",{"$f":"C46","v":3185.9700000000003},{"$f":"D46","v":2392.92},1800.3,1355.58,1074.06]
["GRAND TOTAL","n/a",{"$f":"SUM(C48:C49)","v":6446.9400000000005},{"$f":"SUM(D48:D49)","v":4860.84},3675.6,2786.16,2223.12]
[]
["QUARTERLY RATES"]
["Main Insured Premium","n/a",{"$f":"C31*Tablas!$G$3","v":1655.4550000000002},{"$f":"D31*Tablas!$G$3","v":1243.3800000000001},{"$f":"E31*Tablas!$G$3","v":935.45},{"$f":"F31*Tablas!$G$3","v":704.37},{"$f":"G31*Tablas!$G$3","v":558.09}]
["Spouse's Premium","n/a",{"$f":"C32*Tablas!$G$3","v":0},{"$f":"D32*Tablas!$G$3","v":0},{"$f":"E32*Tablas!$G$3","v":0},{"$f":"F32*Tablas!$G$3","v":0},{"$f":"G32*Tablas!$G$3","v":0}]
["Primas Hijos","n/a",{"$f":"C33*Tablas!$G$3","v":0},{"$f":"D33*Tablas!$G$3","v":0},{"$f":"E33*Tablas!$G$3","v":0},{"$f":"F33*Tablas!$G$3","v":0},{"$f":"G33*Tablas!$G$3","v":0}]
["Rider: Maternity Complications","n/a",{"$f":"C34*Tablas!$G$3","v":0},{"$f":"D34*Tablas!$G$3","v":0},{"$f":"E34*Tablas!$G$3","v":0},{"$f":"F34*Tablas!$G$3","v":0},{"$f":"G34*Tablas!$G$3","v":0}]
["Rider: Organ Trasplant","n/a",{"$f":"C35*Tablas!$G$3","v":0},{"$f":"D35*Tablas!$G$3","v":0},{"$f":"E35*Tablas!$G$3","v":0},{"$f":"F35*Tablas!$G$3","v":0},{"$f":"G35*Tablas!$G$3","v":0}]
["TOTAL NET PREMIUM","n/a",{"$f":"SUM(C53:C57)","v":1655.4550000000002},1243.3800000000001,935.45,704.37,558.09]
["Annual administrative Fee ","n/a",75,75,75,75,75]
["TOTAL  (1st Rate)","n/a",{"$f":"SUM(C58:C59)","v":1730.4550000000002},{"$f":"SUM(D58:D59)","v":1318.38},{"$f":"SUM(E58:E59)","v":1010.45},{"$f":"SUM(F58:F59)","v":779.37},{"$f":"SUM(G58:G59)","v":633.09}]
["TOTAL  (Rate 2 to 4)","n/a",{"$f":"C58","v":1655.4550000000002},{"$f":"D58","v":1243.3800000000001},935.45,704.37,558.09]
["GRAND TOTAL","n/a",{"$f":"C60+C61*3","v":6696.8200000000006},{"$f":"D60+D61*3","v":5048.5200000000004},3816.8,2892.48,{"$f":"G60+G61*3","v":2307.36}]
[]
["MONTHLY RATES"]
["Main Insured Premium","n/a",{"$f":"C31*Tablas!$G$4","v":583.03251},{"$f":"D31*Tablas!$G$4","v":437.90436},{"$f":"E31*Tablas!$G$4","v":329.45490000000001},{"$f":"F31*Tablas!$G$4","v":248.07113999999999},{"$f":"G31*Tablas!$G$4","v":196.55297999999999}]
["Spouse's Premium","n/a",{"$f":"C32*Tablas!$G$4","v":0},{"$f":"D32*Tablas!$G$4","v":0},{"$f":"E32*Tablas!$G$4","v":0},{"$f":"F32*Tablas!$G$4","v":0},{"$f":"G32*Tablas!$G$4","v":0}]
["Primas Hijos","n/a",{"$f":"C33*Tablas!$G$4","v":0},{"$f":"D33*Tablas!$G$4","v":0},{"$f":"E33*Tablas!$G$4","v":0},{"$f":"F33*Tablas!$G$4","v":0},{"$f":"G33*Tablas!$G$4","v":0}]
["Rider: Maternity Complications","n/a",{"$f":"C34*Tablas!$G$4","v":0},{"$f":"D34*Tablas!$G$4","v":0},{"$f":"E34*Tablas!$G$4","v":0},{"$f":"F34*Tablas!$G$4","v":0},{"$f":"G34*Tablas!$G$4","v":0}]
["Rider: Organ Trasplant","n/a",{"$f":"C35*Tablas!$G$4","v":0},{"$f":"D35*Tablas!$G$4","v":0},{"$f":"E35*Tablas!$G$4","v":0},{"$f":"F35*Tablas!$G$4","v":0},{"$f":"G35*Tablas!$G$4","v":0}]
["TOTAL NET PREMIUM","n/a",{"$f":"SUM(C65:C69)","v":583.03251},437.90436,329.45490000000001,248.07113999999999,196.55297999999999]
["Annual administrative Fee ","n/a",75,75,75,75,75]
["TOTAL  (1st Rate)","n/a",{"$f":"SUM(C70:C71)","v":658.03251},{"$f":"SUM(D70:D71)","v":512.90436},{"$f":"SUM(E70:E71)","v":404.45490000000001},{"$f":"SUM(F70:F71)","v":323.07114000000001},{"$f":"SUM(G70:G71)","v":271.55297999999999}]
["TOTAL  (Rate 2 to 12)","n/a",{"$f":"C70","v":583.03251},{"$f":"D70","v":437.90436},329.45490000000001,248.07113999999999,196.55297999999999]
["GRAND TOTAL","n/a",{"$f":"C72+C73*11","v":7071.39012},{"$f":"D72+D73*11","v":5329.85232},4028.4588000000003,{"$f":"F72+F73*11","v":3051.8536799999997},{"$f":"G72+G73*11","v":2433.6357599999997}]
[]
["This quote is for informational purposes only and at no time expresses a legal commitment to provide you with insurance coverage. The issuance of a Bupa insurance policy is subject \nto all risk assessments by Bupa and receipt of all required premium payments."]

{"sheet":"Bupa Secure Care","index":3,"n_rows":76,"n_cols":23,"rows_kept":76,"cut":false,"hidden":false,"merged":[[39,0,39,6],[75,0,79,6],[16,3,16,5],[18,3,18,5],[20,5,21,6],[20,3,21,4],[29,0,29,6],[63,0,63,6],[17,3,17,4],[51,0,51,6],[4,0,10,5],[4,6,5,6],[6,6,10,6],[12,1,12,6],[14,1,14,6],[0,8,0,20],[22,11,22,12],[45,13,45,20],[47,13,48,20],[0,22,0,34],[22,25,22,26],[45,27,45,34],[47,27,48,34]]}
[null,false,false,null,null,null,null,null,"RESUMEN DE BENEFICIOS",null,null,null,null,null,null,null,null,null,null,null,null,null,"RESUMEN DE BENEFICIOS"]
[null,null,null," "," "," "]
[]
[]
["Quote for International Health Insurance\nBupa Secure Care\nRates in US$ |Effective: January 1, 2026",null,null,null,null,null," REGION"]
[]
[null,null,null,null,null,null,{"$f":"'INSURED INFORMATION'!W15","v":"Trinidad & Tobago"}]
[]
[]
[]
[]
[]
["Main Insured Name",{"$f":"+'INSURED INFORMATION'!$C$36","v":"John Doe"}]
[]
["Broker/Agent",{"$f":"+'INSURED INFORMATION'!$C$47","v":"Agency"}]
[]
["Number of adults in the policy",{"$f":"+'INSURED INFORMATION'!$C$38","v":1},null,"Dependents (under 24 years)",null,null,{"$f":"+'INSURED INFORMATION'!$C$40","v":0}]
[null,null,null,{"$f":"IF('INSURED INFORMATION'!$P$2=TRUE, \"Cotización para dependiente de 24 años\",\"\")","v":""}]
["Age of the main insured",{"$f":"+'INSURED INFORMATION'!$C$42","v":18},null,"Spouse's age",null,null,{"$f":"+'INSURED INFORMATION'!$C$44","v":46}]
[]
[null,null,null,"Quote date",null,{"$f":"NOW()","v":"2025-11-19T09:47:12.310"}]
[]
[]
[]
["DEDUCTIBLES","PLAN 1","PLAN 2","PLAN 3","PLAN 4","PLAN 5","PLAN 6"]
["Inside the country of residence","US$0",1000,2000,5000,10000,20000]
["Outside the country of residence","US$1,000",2000,3000,5000,10000,20000]
[]
[]
["ANNUAL RATES"]
["Main Insured Premium","n/a",{"$f":"VLOOKUP($B$19,Tablas!$A$446:$H$469,4,TRUE)","v":4674},{"$f":"VLOOKUP($B$19,Tablas!$A$446:$H$469,5,TRUE)","v":3667},{"$f":"VLOOKUP($B$19,Tablas!$A$446:$H$469,6,TRUE)","v":2769},{"$f":"VLOOKUP($B$19,Tablas!$A$446:$H$469,7,TRUE)","v":2352},{"$f":"VLOOKUP($B$19,Tablas!$A$446:$H$469,8,TRUE)","v":1784}]
["Spouse's Premium","n/a",{"$f":"IF($B$17=1,0,(VLOOKUP($G$19,Tablas!$A$446:$H$469,4,TRUE)))","v":0},{"$f":"IF($B$17=1,0,(VLOOKUP($G$19,Tablas!$A$446:$H$469,5,TRUE)))","v":0},{"$f":"IF($B$17=1,0,(VLOOKUP($G$19,Tablas!$A$446:$H$469,6,TRUE)))","v":0},{"$f":"IF($B$17=1,0,(VLOOKUP($G$19,Tablas!$A$446:$H$469,7,TRUE)))","v":0},{"$f":"IF($B$17=1,0,(VLOOKUP($G$19,Tablas!$A$446:$H$469,8,TRUE)))","v":0}]
["Primas Hijos","n/a",{"$f":"IF($G$17=0,0,(VLOOKUP($G$17,Tablas!$A$470:$H$472,4,TRUE)))","v":0},{"$f":"IF($G$17=0,0,(VLOOKUP($G$17,Tablas!$A$470:$H$472,5,TRUE)))","v":0},{"$f":"IF($G$17=0,0,(VLOOKUP($G$17,Tablas!$A$470:$H$472,6,TRUE)))","v":0},{"$f":"IF($G$17=0,0,(VLOOKUP($G$17,Tablas!$A$470:$H$472,7,TRUE)))","v":0},{"$f":"IF($G$17=0,0,(VLOOKUP($G$17,Tablas!$A$470:$H$472,8,TRUE)))","v":0}]
["Rider: Maternity Complications","n/a",{"$f":"+IF($B$1=FALSE,0,Tablas!D$473)","v":0},{"$f":"+IF($B$1=FALSE,0,Tablas!E$473)","v":0},{"$f":"+IF($B$1=FALSE,0,Tablas!F$473)","v":0},{"$f":"+IF($B$1=FALSE,0,Tablas!G$473)","v":0},{"$f":"+IF($B$1=FALSE,0,Tablas!H$473)","v":0}]
["Rider: Organ Trasplant","n/a",{"$f":"IF($C$1=FALSE,0,Tablas!D$474)","v":0},{"$f":"IF($C$1=FALSE,0,Tablas!E$474)","v":0},{"$f":"IF($C$1=FALSE,0,Tablas!F$474)","v":0},{"$f":"IF($C$1=FALSE,0,Tablas!G$474)","v":0},{"$f":"IF($C$1=FALSE,0,Tablas!H$474)","v":0}]
["TOTAL NET PREMIUM","n/a",{"$f":"SUM(C31:C35)","v":4674},3667,2769,2352,1784]
["Costo Administrativo Annual"," n/a ",75,75,75,75,75]
["GRAND TOTAL","n/a",{"$f":"SUM(C36:C37)","v":4749},{"$f":"SUM(D36:D37)","v":3742},{"$f":"SUM(E36:E37)","v":2844},{"$f":"SUM(F36:F37)","v":2427},{"$f":"SUM(G36:G37)","v":1859}]
[]
["SEMI-ANNUAL RATES"]
["Main Insured Premium","n/a",{"$f":"VLOOKUP($B$19,Tablas!$A$482:$H$505,4,TRUE)","v":2383.7400000000002},{"$f":"VLOOKUP($B$19,Tablas!$A$482:$H$505,5,TRUE)","v":1870.17},{"$f":"VLOOKUP($B$19,Tablas!$A$482:$H$505,6,TRUE)","v":1412.19},{"$f":"VLOOKUP($B$19,Tablas!$A$482:$H$505,7,TRUE)","v":1199.52},{"$f":"VLOOKUP($B$19,Tablas!$A$482:$H$505,8,TRUE)","v":909.84}]
["Spouse's Premium","n/a",{"$f":"IF($B$17=1,0,(VLOOKUP($G$19,Tablas!$A$482:$H$505,4,TRUE)))","v":0},{"$f":"IF($B$17=1,0,(VLOOKUP($G$19,Tablas!$A$482:$H$505,5,TRUE)))","v":0},{"$f":"IF($B$17=1,0,(VLOOKUP($G$19,Tablas!$A$482:$H$505,6,TRUE)))","v":0},{"$f":"IF($B$17=1,0,(VLOOKUP($G$19,Tablas!$A$482:$H$505,7,TRUE)))","v":0},{"$f":"IF($B$17=1,0,(VLOOKUP($G$19,Tablas!$A$482:$H$505,8,TRUE)))","v":0}]
["Primas Hijos","n/a",{"$f":"IF($G$17=0,0,(VLOOKUP($G$17,Tablas!$A$506:$H$508,4,TRUE)))","v":0},{"$f":"IF($G$17=0,0,(VLOOKUP($G$17,Tablas!$A$506:$H$508,5,TRUE)))","v":0},{"$f":"IF($G$17=0,0,(VLOOKUP($G$17,Tablas!$A$506:$H$508,6,TRUE)))","v":0},{"$f":"IF($G$17=0,0,(VLOOKUP($G$17,Tablas!$A$506:$H$508,7,TRUE)))","v":0},{"$f":"IF($G$17=0,0,(VLOOKUP($G$17,Tablas!$A$506:$H$508,8,TRUE)))","v":0}]
["Rider: Maternity Complications","n/a",{"$f":"+IF($B$1=FALSE,0,Tablas!D$509)","v":0},{"$f":"+IF($B$1=FALSE,0,Tablas!E$509)","v":0},{"$f":"+IF($B$1=FALSE,0,Tablas!F$509)","v":0},{"$f":"+IF($B$1=FALSE,0,Tablas!G$509)","v":0},{"$f":"+IF($B$1=FALSE,0,Tablas!H$509)","v":0}]
["Rider: Organ Trasplant","n/a",{"$f":"IF($C$1=FALSE,0,Tablas!D$510)","v":0},{"$f":"IF($C$1=FALSE,0,Tablas!E$510)","v":0},{"$f":"IF($C$1=FALSE,0,Tablas!F$510)","v":0},{"$f":"IF($C$1=FALSE,0,Tablas!G$510)","v":0},{"$f":"IF($C$1=FALSE,0,Tablas!H$510)","v":0}]
["TOTAL NET PREMIUM","n/a",{"$f":"SUM(C41:C45)","v":2383.7400000000002},1870.17,1412.19,1199.52,909.84]
["Annual administrative Fee ","n/a",75,75,75,75,75]
["TOTAL  (1st Rate)","n/a",{"$f":"SUM(C46:C47)","v":2458.7400000000002},{"$f":"SUM(D46:D47)","v":1945.17},{"$f":"SUM(E46:E47)","v":1487.19},{"$f":"SUM(F46:F47)","v":1274.52},{"$f":"SUM(G46:G47)","v":984.84}]
["TOTAL  (2nd Rate)","n/a",{"$f":"C46","v":2383.7400000000002},{"$f":"D46","v":1870.17},1412.19,1199.52,909.84]
["GRAND TOTAL","n/a",{"$f":"SUM(C48:C49)","v":4842.4800000000005},{"$f":"SUM(D48:D49)","v":3815.34},2899.38,2474.04,1894.68]
[]
["QUARTERLY RATES"]
["Main Insured Premium","n/a",{"$f":"C31*Tablas!$G$3","v":1238.6100000000001},{"$f":"D31*Tablas!$G$3","v":971.755},{"$f":"E31*Tablas!$G$3","v":733.78500000000008},{"$f":"F31*Tablas!$G$3","v":623.28000000000009},{"$f":"G31*Tablas!$G$3","v":472.76000000000005}]
["Spouse's Premium","n/a",{"$f":"C32*Tablas!$G$3","v":0},{"$f":"D32*Tablas!$G$3","v":0},{"$f":"E32*Tablas!$G$3","v":0},{"$f":"F32*Tablas!$G$3","v":0},{"$f":"G32*Tablas!$G$3","v":0}]
["Primas Hijos","n/a",{"$f":"C33*Tablas!$G$3","v":0},{"$f":"D33*Tablas!$G$3","v":0},{"$f":"E33*Tablas!$G$3","v":0},{"$f":"F33*Tablas!$G$3","v":0},{"$f":"G33*Tablas!$G$3","v":0}]
["Rider: Maternity Complications","n/a",{"$f":"C34*Tablas!$G$3","v":0},{"$f":"D34*Tablas!$G$3","v":0},{"$f":"E34*Tablas!$G$3","v":0},{"$f":"F34*Tablas!$G$3","v":0},{"$f":"G34*Tablas!$G$3","v":0}]
["Rider: Organ Trasplant","n/a",{"$f":"C35*Tablas!$G$3","v":0},{"$f":"D35*Tablas!$G$3","v":0},{"$f":"E35*Tablas!$G$3","v":0},{"$f":"F35*Tablas!$G$3","v":0},{"$f":"G35*Tablas!$G$3","v":0}]
["TOTAL NET PREMIUM","n/a",{"$f":"SUM(C53:C57)","v":1238.6100000000001},971.755,733.78500000000008,623.28000000000009,472.76000000000005]
["Annual administrative Fee ","n/a",75,75,75,75,75]
["TOTAL  (1st Rate)","n/a",{"$f":"SUM(C58:C59)","v":1313.6100000000001},{"$f":"SUM(D58:D59)","v":1046.7550000000001},{"$f":"SUM(E58:E59)","v":808.78500000000008},{"$f":"SUM(F58:F59)","v":698.28000000000009},{"$f":"SUM(G58:G59)","v":547.76}]
["TOTAL  (Rate 2 to 4)","n/a",{"$f":"C58","v":1238.6100000000001},{"$f":"D58","v":971.755},733.78500000000008,623.28000000000009,472.76000000000005]
["GRAND TOTAL","n/a",{"$f":"C60+C61*3","v":5029.4400000000005},{"$f":"D60+D61*3","v":3962.02},3010.1400000000003,2568.1200000000003,{"$f":"G60+G61*3","v":1966.0400000000002}]
[]
["MONTHLY RATES"]
["Main Insured Premium","n/a",{"$f":"C31*Tablas!$G$4","v":436.22442000000001},{"$f":"D31*Tablas!$G$4","v":342.24110999999999},{"$f":"E31*Tablas!$G$4","v":258.43077},{"$f":"F31*Tablas!$G$4","v":219.51215999999999},{"$f":"G31*Tablas!$G$4","v":166.50072}]
["Spouse's Premium","n/a",{"$f":"C32*Tablas!$G$4","v":0},{"$f":"D32*Tablas!$G$4","v":0},{"$f":"E32*Tablas!$G$4","v":0},{"$f":"F32*Tablas!$G$4","v":0},{"$f":"G32*Tablas!$G$4","v":0}]
["Primas Hijos","n/a",{"$f":"C33*Tablas!$G$4","v":0},{"$f":"D33*Tablas!$G$4","v":0},{"$f":"E33*Tablas!$G$4","v":0},{"$f":"F33*Tablas!$G$4","v":0},{"$f":"G33*Tablas!$G$4","v":0}]
["Rider: Maternity Complications","n/a",{"$f":"C34*Tablas!$G$4","v":0},{"$f":"D34*Tablas!$G$4","v":0},{"$f":"E34*Tablas!$G$4","v":0},{"$f":"F34*Tablas!$G$4","v":0},{"$f":"G34*Tablas!$G$4","v":0}]
["Rider: Organ Trasplant","n/a",{"$f":"C35*Tablas!$G$4","v":0},{"$f":"D35*Tablas!$G$4","v":0},{"$f":"E35*Tablas!$G$4","v":0},{"$f":"F35*Tablas!$G$4","v":0},{"$f":"G35*Tablas!$G$4","v":0}]
["TOTAL NET PREMIUM","n/a",{"$f":"SUM(C65:C69)","v":436.22442000000001},342.24110999999999,258.43077,219.51215999999999,166.50072]
["Annual administrative Fee ","n/a",75,75,75,75,75]
["TOTAL  (1st Rate)","n/a",{"$f":"SUM(C70:C71)","v":511.22442000000001},{"$f":"SUM(D70:D71)","v":417.24110999999999},{"$f":"SUM(E70:E71)","v":333.43077},{"$f":"SUM(F70:F71)","v":294.51215999999999},{"$f":"SUM(G70:G71)","v":241.50072}]
["TOTAL  (Rate 2 to 12)","n/a",{"$f":"C70","v":436.22442000000001},{"$f":"D70","v":342.24110999999999},258.43077,219.51215999999999,166.50072]
["GRAND TOTAL","n/a",{"$f":"C72+C73*11","v":5309.6930400000001},{"$f":"D72+D73*11","v":4181.8933200000001},3176.1692399999997,2709.1459199999999,{"$f":"G72+G73*11","v":2073.00864}]
[]
["This quote is for informational purposes only and at no time expresses a legal commitment to provide you with insurance coverage. The issuance of a Bupa insurance policy is subject to all risk assessments by Bupa and receipt of all required premium payments."]

{"sheet":"Bupa Essential Care","index":4,"n_rows":76,"n_cols":23,"rows_kept":76,"cut":false,"hidden":false,"merged":[[75,0,79,6],[16,3,16,5],[18,3,18,5],[20,5,21,6],[20,3,21,4],[29,0,29,6],[17,3,17,4],[63,0,63,6],[51,0,51,6],[4,0,10,5],[4,6,5,6],[6,6,10,6],[39,0,39,6],[12,1,12,6],[14,1,14,6],[0,8,0,20],[22,11,22,12],[44,13,44,20],[46,13,47,20],[0,22,0,34],[22,25,22,26],[44,27,44,34],[46,27,47,34]]}
[null,false,false,null,null,null,null,null,"RESUMEN DE BENEFICIOS",null,null,null,null,null,null,null,null,null,null,null,null,null,"RESUMEN DE BENEFICIOS"]
[null,null,null," "," "," "]
[]
[]
["Quote for International Health Insurance\nBupa Essential Care\nRates in US$ |Effective: January 1, 2026",null,null,null,null,null,"REGION"]
[]
[null,null,null,null,null,null,{"$f":"'INSURED INFORMATION'!W15","v":"Trinidad & Tobago"}]
[]
[]
[]
[]
[]
["Main Insured Name",{"$f":"+'INSURED INFORMATION'!$C$36","v":"John Doe"}]
[]
["Broker/Agent",{"$f":"+'INSURED INFORMATION'!$C$47","v":"Agency"}]
[]
["Number of adults in the policy",{"$f":"+'INSURED INFORMATION'!$C$38","v":1},null,"Dependents (under 24 years)",null,null,{"$f":"+'INSURED INFORMATION'!$C$40","v":0}]
[null,null,null,{"$f":"IF('INSURED INFORMATION'!$P$2=TRUE, \"Cotización para dependiente de 24 años\",\"\")","v":""}]
["Age of the main insured",{"$f":"+'INSURED INFORMATION'!$C$42","v":18},null,"Spouse's age",null,null,{"$f":"+'INSURED INFORMATION'!$C$44","v":46}]
[]
[null,null,null,"Quote date",null,{"$f":"NOW()","v":"2025-11-19T09:47:12.310"}]
[]
[]
[]
["DEDUCTIBLES","PLAN 1","PLAN 2","PLAN 3","PLAN 4","PLAN 5","PLAN 6"]
["Inside the country of residence","US$0",1000,2000,5000,10000,20000]
["Outside the country of residence","US$1,000",2000,3000,5000,10000,20000]
[]
[]
["ANNUAL RATES"]
["Main Insured Premium","n/a",{"$f":"VLOOKUP($B$19,Tablas!$A$519:$H$542,4,TRUE)","v":3927},{"$f":"VLOOKUP($B$19,Tablas!$A$519:$H$542,5,TRUE)","v":3083},{"$f":"VLOOKUP($B$19,Tablas!$A$519:$H$542,6,TRUE)","v":2323},{"$f":"VLOOKUP($B$19,Tablas!$A$519:$H$542,7,TRUE)","v":1969},{"$f":"VLOOKUP($B$19,Tablas!$A$519:$H$542,8,TRUE)","v":1499}]
["Spouse's Premium","n/a",{"$f":"IF($B$17=1,0,(VLOOKUP($G$19,Tablas!$A$519:$H$542,4,TRUE)))","v":0},{"$f":"IF($B$17=1,0,(VLOOKUP($G$19,Tablas!$A$519:$H$542,5,TRUE)))","v":0},{"$f":"IF($B$17=1,0,(VLOOKUP($G$19,Tablas!$A$519:$H$542,6,TRUE)))","v":0},{"$f":"IF($B$17=1,0,(VLOOKUP($G$19,Tablas!$A$519:$H$542,7,TRUE)))","v":0},{"$f":"IF($B$17=1,0,(VLOOKUP($G$19,Tablas!$A$519:$H$542,8,TRUE)))","v":0}]
["Primas Hijos","n/a",{"$f":"IF($G$17=0,0,(VLOOKUP($G$17,Tablas!$A$543:$H$545,4,TRUE)))","v":0},{"$f":"IF($G$17=0,0,(VLOOKUP($G$17,Tablas!$A$543:$H$545,5,TRUE)))","v":0},{"$f":"IF($G$17=0,0,(VLOOKUP($G$17,Tablas!$A$543:$H$545,6,TRUE)))","v":0},{"$f":"IF($G$17=0,0,(VLOOKUP($G$17,Tablas!$A$543:$H$545,7,TRUE)))","v":0},{"$f":"IF($G$17=0,0,(VLOOKUP($G$17,Tablas!$A$543:$H$545,8,TRUE)))","v":0}]
["Rider: Maternity Complications","n/a",{"$f":"+IF($B$1=FALSE,0,Tablas!D$546)","v":0},{"$f":"+IF($B$1=FALSE,0,Tablas!E$546)","v":0},{"$f":"+IF($B$1=FALSE,0,Tablas!F$546)","v":0},{"$f":"+IF($B$1=FALSE,0,Tablas!G$546)","v":0},{"$f":"+IF($B$1=FALSE,0,Tablas!H$546)","v":0}]
["Rider: Organ Trasplant","n/a",{"$f":"IF($C$1=FALSE,0,Tablas!D$547)","v":0},{"$f":"IF($C$1=FALSE,0,Tablas!E$547)","v":0},{"$f":"IF($C$1=FALSE,0,Tablas!F$547)","v":0},{"$f":"IF($C$1=FALSE,0,Tablas!G$547)","v":0},{"$f":"IF($C$1=FALSE,0,Tablas!H$547)","v":0}]
["TOTAL NET PREMIUM","n/a",{"$f":"SUM(C31:C35)","v":3927},3083,2323,1969,1499]
["Costo Administrativo Annual"," n/a ",75,75,75,75,75]
["GRAND TOTAL","n/a",{"$f":"SUM(C36:C37)","v":4002},3158,2398,2044,1574]
[]
["SEMI-ANNUAL RATES"]
["Main Insured Premium","n/a",{"$f":"VLOOKUP($B$19,Tablas!$A$554:$H$577,4,TRUE)","v":2002.77},{"$f":"VLOOKUP($B$19,Tablas!$A$554:$H$577,5,TRUE)","v":1572.33},{"$f":"VLOOKUP($B$19,Tablas!$A$554:$H$577,6,TRUE)","v":1184.73},{"$f":"VLOOKUP($B$19,Tablas!$A$554:$H$577,7,TRUE)","v":1004.19},{"$f":"VLOOKUP($B$19,Tablas!$A$554:$H$577,8,TRUE)","v":764.49}]
["Spouse's Premium","n/a",{"$f":"IF($B$17=1,0,(VLOOKUP($G$19,Tablas!$A$554:$H$577,4,TRUE)))","v":0},{"$f":"IF($B$17=1,0,(VLOOKUP($G$19,Tablas!$A$554:$H$577,5,TRUE)))","v":0},{"$f":"IF($B$17=1,0,(VLOOKUP($G$19,Tablas!$A$554:$H$577,6,TRUE)))","v":0},{"$f":"IF($B$17=1,0,(VLOOKUP($G$19,Tablas!$A$554:$H$577,7,TRUE)))","v":0},{"$f":"IF($B$17=1,0,(VLOOKUP($G$19,Tablas!$A$554:$H$577,8,TRUE)))","v":0}]
["Primas Hijos","n/a",{"$f":"IF($G$17=0,0,(VLOOKUP($G$17,Tablas!$A$578:$H$580,4,TRUE)))","v":0},{"$f":"IF($G$17=0,0,(VLOOKUP($G$17,Tablas!$A$578:$H$580,5,TRUE)))","v":0},{"$f":"IF($G$17=0,0,(VLOOKUP($G$17,Tablas!$A$578:$H$580,6,TRUE)))","v":0},{"$f":"IF($G$17=0,0,(VLOOKUP($G$17,Tablas!$A$578:$H$580,7,TRUE)))","v":0},{"$f":"IF($G$17=0,0,(VLOOKUP($G$17,Tablas!$A$578:$H$580,8,TRUE)))","v":0}]
["Rider: Maternity Complications","n/a",{"$f":"+IF($B$1=FALSE,0,Tablas!D$581)","v":0},{"$f":"+IF($B$1=FALSE,0,Tablas!E$581)","v":0},{"$f":"+IF($B$1=FALSE,0,Tablas!F$581)","v":0},{"$f":"+IF($B$1=FALSE,0,Tablas!G$581)","v":0},{"$f":"+IF($B$1=FALSE,0,Tablas!H$581)","v":0}]
["Rider: Organ Trasplant","n/a",{"$f":"IF($C$1=FALSE,0,Tablas!D$582)","v":0},{"$f":"IF($C$1=FALSE,0,Tablas!E$582)","v":0},{"$f":"IF($C$1=FALSE,0,Tablas!F$582)","v":0},{"$f":"IF($C$1=FALSE,0,Tablas!G$582)","v":0},{"$f":"IF($C$1=FALSE,0,Tablas!H$582)","v":0}]
["TOTAL NET PREMIUM","n/a",{"$f":"SUM(C41:C45)","v":2002.77},1572.33,1184.73,1004.19,764.49]
["Annual administrative Fee ","n/a",75,75,75,75,75]
["TOTAL  (1st Rate)","n/a",{"$f":"SUM(C46:C47)","v":2077.77},1647.33,1259.73,1079.19,839.49]
["TOTAL  (2nd Rate)","n/a",{"$f":"C46","v":2002.77},{"$f":"D46","v":1572.33},1184.73,1004.19,764.49]
["GRAND TOTAL","n/a",{"$f":"SUM(C48:C49)","v":4080.54},{"$f":"SUM(D48:D49)","v":3219.66},2444.46,2083.38,1603.98]
[]
["QUARTERLY RATES"]
["Main Insured Premium","n/a",{"$f":"C31*Tablas!$G$3","v":1040.655},{"$f":"D31*Tablas!$G$3","v":816.995},{"$f":"E31*Tablas!$G$3","v":615.59500000000003},{"$f":"F31*Tablas!$G$3","v":521.78500000000008},{"$f":"G31*Tablas!$G$3","v":397.23500000000001}]
["Spouse's Premium","n/a",{"$f":"C32*Tablas!$G$3","v":0},{"$f":"D32*Tablas!$G$3","v":0},{"$f":"E32*Tablas!$G$3","v":0},{"$f":"F32*Tablas!$G$3","v":0},{"$f":"G32*Tablas!$G$3","v":0}]
["Primas Hijos","n/a",{"$f":"C33*Tablas!$G$3","v":0},{"$f":"D33*Tablas!$G$3","v":0},{"$f":"E33*Tablas!$G$3","v":0},{"$f":"F33*Tablas!$G$3","v":0},{"$f":"G33*Tablas!$G$3","v":0}]
["Rider: Maternity Complications","n/a",{"$f":"C34*Tablas!$G$3","v":0},{"$f":"D34*Tablas!$G$3","v":0},{"$f":"E34*Tablas!$G$3","v":0},{"$f":"F34*Tablas!$G$3","v":0},{"$f":"G34*Tablas!$G$3","v":0}]
["Rider: Organ Trasplant","n/a",{"$f":"C35*Tablas!$G$3","v":0},{"$f":"D35*Tablas!$G$3","v":0},{"$f":"E35*Tablas!$G$3","v":0},{"$f":"F35*Tablas!$G$3","v":0},{"$f":"G35*Tablas!$G$3","v":0}]
["TOTAL NET PREMIUM","n/a",{"$f":"SUM(C53:C57)","v":1040.655},816.995,615.59500000000003,521.78500000000008,397.23500000000001]
["Annual administrative Fee ","n/a",75,75,75,75,75]
["TOTAL  (1st Rate)","n/a",{"$f":"SUM(C58:C59)","v":1115.655},891.995,690.59500000000003,596.78500000000008,472.23500000000001]
["TOTAL  (Rate 2 to 4)","n/a",{"$f":"C58","v":1040.655},{"$f":"D58","v":816.995},615.59500000000003,521.78500000000008,397.23500000000001]
["GRAND TOTAL","n/a",{"$f":"C60+C61*3","v":4237.62},{"$f":"D60+D61*3","v":3342.98},2537.38,2162.1400000000003,{"$f":"G60+G61*3","v":1663.94}]
[]
["MONTHLY RATES"]
["Main Insured Premium","n/a",{"$f":"C31*Tablas!$G$4","v":366.50691},{"$f":"D31*Tablas!$G$4","v":287.73638999999997},{"$f":"E31*Tablas!$G$4","v":216.80559},{"$f":"F31*Tablas!$G$4","v":183.76676999999998},{"$f":"G31*Tablas!$G$4","v":139.90167}]
["Spouse's Premium","n/a",{"$f":"C32*Tablas!$G$4","v":0},{"$f":"D32*Tablas!$G$4","v":0},{"$f":"E32*Tablas!$G$4","v":0},{"$f":"F32*Tablas!$G$4","v":0},{"$f":"G32*Tablas!$G$4","v":0}]
["Primas Hijos","n/a",{"$f":"C33*Tablas!$G$4","v":0},{"$f":"D33*Tablas!$G$4","v":0},{"$f":"E33*Tablas!$G$4","v":0},{"$f":"F33*Tablas!$G$4","v":0},{"$f":"G33*Tablas!$G$4","v":0}]
["Rider: Maternity Complications","n/a",{"$f":"C34*Tablas!$G$4","v":0},{"$f":"D34*Tablas!$G$4","v":0},{"$f":"E34*Tablas!$G$4","v":0},{"$f":"F34*Tablas!$G$4","v":0},{"$f":"G34*Tablas!$G$4","v":0}]
["Rider: Organ Trasplant","n/a",{"$f":"C35*Tablas!$G$4","v":0},{"$f":"D35*Tablas!$G$4","v":0},{"$f":"E35*Tablas!$G$4","v":0},{"$f":"F35*Tablas!$G$4","v":0},{"$f":"G35*Tablas!$G$4","v":0}]
["TOTAL NET PREMIUM","n/a",{"$f":"SUM(C65:C69)","v":366.50691},287.73638999999997,216.80559,183.76676999999998,139.90167]
["Annual administrative Fee ","n/a",75,75,75,75,75]
["TOTAL  (1st Rate)","n/a",{"$f":"SUM(C70:C71)","v":441.50691},362.73638999999997,291.80559,258.76676999999995,214.90167]
["TOTAL  (Rate 2 to 12)","n/a",{"$f":"C70","v":366.50691},{"$f":"D70","v":287.73638999999997},216.80559,183.76676999999998,139.90167]
["GRAND TOTAL","n/a",{"$f":"C72+C73*11","v":4473.0829199999998},{"$f":"D72+D73*11","v":3527.8366799999999},2676.6670799999997,2280.2012399999994,1753.8200399999998]
[]
["This quote is for informational purposes only and at no time expresses a legal commitment to provide you with insurance coverage. The issuance of a Bupa insurance policy is subject to all risk assessments by Bupa and receipt of all required premium payments."]

{"sheet":"Rate Summary","index":5,"n_rows":49,"n_cols":8,"rows_kept":49,"cut":false,"hidden":false,"merged":[[4,0,10,6],[4,7,5,7],[6,7,10,7],[12,1,12,7],[14,1,14,7],[12,12,12,17],[14,12,14,17],[31,0,31,7],[11,2,11,7],[27,0,27,1],[21,0,21,1],[28,0,28,1],[29,0,29,1],[26,0,26,1],[25,0,25,1],[25,2,25,7],[16,5,16,6],[18,5,18,6],[17,5,17,6],[30,2,30,7],[35,0,35,1],[36,0,36,1],[37,0,37,1],[38,0,38,1],[30,0,30,1],[32,0,32,1],[39,2,39,7],[40,0,40,1],[41,0,41,1],[42,0,42,1],[43,0,43,1],[39,0,39,1],[44,2,44,7],[45,0,45,1],[46,0,46,1],[47,0,47,1],[48,0,48,1],[44,0,44,1]]}
[]
[null,null,null,null," "," "," "]
[]
[]
["Quote for International Health Insurance\nBupa Care — Premium Summary (Annual)\nRates in US$ |Effective: January 1, 2026",null,null,null,null,null,null,"REGION"]
[]
[null,null,null,null,null,null,null,{"$f":"'INSURED INFORMATION'!W15","v":"Trinidad & Tobago"}]
[]
[]
[]
[]
[]
["Main Insured Name",{"$f":"+'INSURED INFORMATION'!$C$36","v":"John Doe"}]
[]
["Broker/Agent",{"$f":"+'INSURED INFORMATION'!$C$47","v":"Agency"}]
[]
["Number of adults in the policy",{"$f":"+'INSURED INFORMATION'!$C$38","v":1},null,null,null,"Dependents (under 24 years)",null,{"$f":"+'INSURED INFORMATION'!$C$40","v":0}]
[null,null,null,null,null,{"$f":"IF('INSURED INFORMATION'!$P$2=TRUE, \"Cotización para dependiente de 24 años\",\"\")","v":""}]
["Age of the main insured",{"$f":"+'INSURED INFORMATION'!$C$42","v":18},null,null,null,"Spouse's age",null,{"$f":"+'INSURED INFORMATION'!$C$44","v":46}]
[]
[null,null,null,null," "," "," "]
["DEDUCTIBLES",null,null,"PLAN 2","PLAN 3","PLAN 4","PLAN 5","PLAN 6"]
["Inside the country of residence",null,null,1000,2000,5000,10000,20000]
["Outside the country of residence",null,null,2000,3000,5000,10000,20000]
[]
[null,null,"ANNUAL RATES"]
["Bupa Privilege Care",null,null,{"$f":"+'Bupa Privilege Care'!H37","v":9641},{"$f":"+'Bupa Privilege Care'!I37","v":6654},{"$f":"+'Bupa Privilege Care'!J37","v":4689},{"$f":"+'Bupa Privilege Care'!K37","v":3288},{"$f":"+'Bupa Privilege Care'!L37","v":2521}]
["Bupa Advantage Care",null,null,{"$f":"+'Bupa Advantage Care'!C38","v":6322},{"$f":"+'Bupa Advantage Care'!D38","v":4767},{"$f":"+'Bupa Advantage Care'!E38","v":3605},{"$f":"+'Bupa Advantage Care'!F38","v":2733},{"$f":"+'Bupa Advantage Care'!G38","v":2181}]
["Bupa Secure Care",null,null,{"$f":"+'Bupa Secure Care'!C38","v":4749},{"$f":"+'Bupa Secure Care'!D38","v":3742},{"$f":"+'Bupa Secure Care'!E38","v":2844},{"$f":"+'Bupa Secure Care'!F38","v":2427},{"$f":"+'Bupa Secure Care'!G38","v":1859}]
["Bupa Essential Care",null,null,{"$f":"+'Bupa Essential Care'!C38","v":4002},{"$f":"+'Bupa Essential Care'!D38","v":3158},{"$f":"+'Bupa Essential Care'!E38","v":2398},{"$f":"+'Bupa Essential Care'!F38","v":2044},{"$f":"+'Bupa Essential Care'!G38","v":1574}]
[null,null,"SEMI-ANNUAL RATES"]
["BUPA CRITICAL CARE"]
["DEDUCTIBLES",null,"PLAN 1","PLAN 2","PLAN 3","PLAN 4","PLAN 5","PLAN 6"]
["Inside the country of residence",null,2000,3500,5000,10000,20000,50000]
["Outside the country of residence",null,2000,3500,5000,10000,20000,50000]
["Bupa Privilege Care",null,null,{"$f":"'Bupa Privilege Care'!H48","v":9832.32},{"$f":"'Bupa Privilege Care'!I48","v":6785.58},{"$f":"'Bupa Privilege Care'!J48","v":4781.28},{"$f":"'Bupa Privilege Care'!K48","v":3352.26},{"$f":"'Bupa Privilege Care'!L48","v":2569.92}]
["Bupa Advantage Care",null,null,{"$f":"'Bupa Advantage Care'!C50","v":6446.9400000000005},{"$f":"'Bupa Advantage Care'!D50","v":4860.84},{"$f":"'Bupa Advantage Care'!E50","v":3675.6},{"$f":"'Bupa Advantage Care'!F50","v":2786.16},{"$f":"'Bupa Advantage Care'!G50","v":2223.12}]
["Bupa Secure Care",null,null,{"$f":"'Bupa Secure Care'!C50","v":4842.4800000000005},{"$f":"'Bupa Secure Care'!D50","v":3815.34},{"$f":"'Bupa Secure Care'!E50","v":2899.38},{"$f":"'Bupa Secure Care'!F50","v":2474.04},{"$f":"'Bupa Secure Care'!G50","v":1894.68}]
["Bupa Essential Care",null,null,{"$f":"'Bupa Essential Care'!C50","v":4080.54},{"$f":"'Bupa Essential Care'!D50","v":3219.66},{"$f":"'Bupa Essential Care'!E50","v":2444.46},{"$f":"'Bupa Essential Care'!F50","v":2083.38},{"$f":"'Bupa Essential Care'!G50","v":1603.98}]
[null,null,"QUARTERLY RATES"]
["Bupa Privilege Care",null,null,{"$f":"'Bupa Privilege Care'!H59","v":10214.960000000001},{"$f":"'Bupa Privilege Care'!I59","v":7048.7400000000007},{"$f":"'Bupa Privilege Care'!J59","v":4965.84},{"$f":"'Bupa Privilege Care'!K59","v":3480.78},{"$f":"'Bupa Privilege Care'!L59","v":2667.76}]
["Bupa Advantage Care",null,null,{"$f":"'Bupa Advantage Care'!C62","v":6696.8200000000006},{"$f":"'Bupa Advantage Care'!D62","v":5048.5200000000004},{"$f":"'Bupa Advantage Care'!E62","v":3816.8},{"$f":"'Bupa Advantage Care'!F62","v":2892.48},{"$f":"'Bupa Advantage Care'!G62","v":2307.36}]
["Bupa Secure Care",null,null,{"$f":"'Bupa Secure Care'!C62","v":5029.4400000000005},{"$f":"'Bupa Secure Care'!D62","v":3962.02},{"$f":"'Bupa Secure Care'!E62","v":3010.1400000000003},{"$f":"'Bupa Secure Care'!F62","v":2568.1200000000003},{"$f":"'Bupa Secure Care'!G62","v":1966.0400000000002}]
["Bupa Essential Care",null,null,{"$f":"'Bupa Essential Care'!C62","v":4237.62},{"$f":"'Bupa Essential Care'!D62","v":3342.98},{"$f":"'Bupa Essential Care'!E62","v":2537.38},{"$f":"'Bupa Essential Care'!F62","v":2162.1400000000003},{"$f":"'Bupa Essential Care'!G62","v":1663.94}]
[null,null,"MONTHLY RATES"]
["Bupa Privilege Care",null,null,{"$f":"'Bupa Privilege Care'!H70","v":10788.53736},{"$f":"'Bupa Privilege Care'!I70","v":7443.21684},{"$f":"'Bupa Privilege Care'!J70","v":5242.4954399999997},{"$f":"'Bupa Privilege Care'!K70","v":3673.4314799999997},{"$f":"'Bupa Privilege Care'!L70","v":2814.4221599999996}]
["Bupa Advantage Care",null,null,{"$f":"'Bupa Advantage Care'!C74","v":7071.39012},{"$f":"'Bupa Advantage Care'!D74","v":5329.85232},{"$f":"'Bupa Advantage Care'!E74","v":4028.4588000000003},{"$f":"'Bupa Advantage Care'!F74","v":3051.8536799999997},{"$f":"'Bupa Advantage Care'!G74","v":2433.6357599999997}]
["Bupa Secure Care",null,null,{"$f":"'Bupa Secure Care'!C74","v":5309.6930400000001},{"$f":"'Bupa Secure Care'!D74","v":4181.8933200000001},{"$f":"'Bupa Secure Care'!E74","v":3176.1692399999997},{"$f":"'Bupa Secure Care'!F74","v":2709.1459199999999},{"$f":"'Bupa Secure Care'!G74","v":2073.00864}]
["Bupa Essential Care",null,null,{"$f":"'Bupa Essential Care'!C74","v":4473.0829199999998},{"$f":"'Bupa Essential Care'!D74","v":3527.8366799999999},{"$f":"'Bupa Essential Care'!E74","v":2676.6670799999997},{"$f":"'Bupa Essential Care'!F74","v":2280.2012399999994},{"$f":"'Bupa Essential Care'!G74","v":1753.8200399999998}]

{"sheet":"Comparacion de Beneficios","index":6,"n_rows":1,"n_cols":1,"rows_kept":1,"cut":false,"hidden":true,"merged":[[31,7,33,7],[39,5,41,5],[39,6,41,6],[38,7,41,7],[17,0,19,0],[32,6,33,6],[25,2,26,2],[25,3,26,3],[25,4,26,4],[31,2,33,2],[31,3,33,3],[32,4,33,4],[32,5,33,5],[86,0,87,0],[89,0,91,0],[9,0,11,0],[13,0,14,0],[15,0,16,0],[37,0,41,0],[24,0,26,0],[31,0,33,0],[0,0,4,7],[25,5,26,5],[25,6,26,6],[27,0,28,0],[29,0,30,0],[10,4,11,4],[10,5,11,5],[10,6,11,6],[10,7,11,7]]}
["2023 BUPA CARE COMPARACION DE BENEFICIOS"]

{"sheet":"Tablas","index":7,"n_rows":601,"n_cols":62,"rows_kept":601,"cut":false,"hidden":true,"merged":[[588,42,588,44],[85,2,85,6],[154,0,154,7],[155,0,155,1],[155,2,155,6],[588,21,588,22],[189,0,189,7],[190,0,190,1],[190,2,190,6],[225,0,225,7],[259,0,259,7],[260,0,260,1],[260,2,260,6],[227,0,227,1],[227,2,227,6],[226,0,226,7],[10,0,10,7],[11,0,11,7],[47,0,47,1],[47,2,47,6],[46,0,46,7],[12,0,12,1],[12,2,12,6],[83,0,83,7],[117,0,117,7],[118,0,118,1],[118,2,118,6],[153,0,153,7],[84,0,84,7],[85,0,85,1],[334,0,334,7],[298,0,298,7],[299,0,299,7],[300,0,300,1],[300,2,300,6],[514,0,514,7],[441,0,441,7],[442,0,442,7],[443,0,443,1],[443,2,443,6],[335,2,335,6],[371,0,371,7],[478,0,478,7],[479,0,479,1],[479,2,479,6],[335,0,335,1],[405,0,405,7],[406,0,406,1],[406,2,406,6],[372,0,372,7],[373,0,373,1],[373,2,373,6],[589,0,589,1],[515,0,515,7],[516,0,516,1],[516,2,516,6],[550,0,550,7],[551,0,551,1],[551,2,551,6],[589,2,589,6],[587,0,587,19],[590,2,590,4],[597,2,597,4],[597,5,597,7],[597,8,597,10],[596,0,596,1],[596,2,596,6],[590,5,590,7],[590,8,590,10],[1,8,1,9],[10,10,10,11],[10,18,10,19],[590,14,590,16],[597,14,597,16],[597,11,597,13],[590,11,590,13],[590,50,590,52],[597,44,597,46],[597,47,597,49],[597,50,597,52],[596,21,596,22],[590,59,590,61],[595,42,595,61],[597,59,597,61],[590,17,590,19],[588,0,588,19],[595,0,595,19],[597,17,597,19],[595,21,595,40],[597,53,597,55],[597,56,597,58],[590,53,590,55],[590,56,590,58],[596,42,596,43],[596,44,596,48],[590,44,590,46],[590,47,590,49]]}
[null,null,null,null,null,null,null,null,null,null,null,"Critical","Exclusive","Privilege","Advantage","Secure","Essential"]
[null,"REGIÓN",{"$f":"'INSURED INFORMATION'!W14","v":8},null,"FACTOR SEMESTRAL:",null,{"$f":"1.02/2","v":0.51},null,"TOTAL DISCOUNT",null,"Plan 1",{"$f":"'INSURED INFORMATION'!P53","v":1},{"$f":"'INSURED INFORMATION'!Q53","v":1},{"$f":"'INSURED INFORMATION'!R53","v":1},{"$f":"'INSURED INFORMATION'!S53","v":1},{"$f":"'INSURED INFORMATION'!T53","v":1},{"$f":"'INSURED INFORMATION'!U53","v":1}]
[null,null,null,null,"FACTOR TRIMESTRAL:",null,{"$f":"1.06/4","v":0.26500000000000001},null,null,null,"Plan2",{"$f":"'INSURED INFORMATION'!P54","v":1},{"$f":"'INSURED INFORMATION'!Q54","v":1},{"$f":"'INSURED INFORMATION'!R54","v":1},{"$f":"'INSURED INFORMATION'!S54","v":1},{"$f":"'INSURED INFORMATION'!T54","v":1},{"$f":"'INSURED INFORMATION'!U54","v":1}]
[null,null,null,null,"FACTOR MENSUAL:",null,9.3329999999999996E-2,null,null,null,"Plan 3",{"$f":"'INSURED INFORMATION'!P55","v":1},{"$f":"'INSURED INFORMATION'!Q55","v":1},{"$f":"'INSURED INFORMATION'!R55","v":1},{"$f":"'INSURED INFORMATION'!S55","v":1},{"$f":"'INSURED INFORMATION'!T55","v":1},{"$f":"'INSURED INFORMATION'!U55","v":1}]
[null,null,null,null,null,null,null,null,null,null,"Plan 4",{"$f":"'INSURED INFORMATION'!P56","v":1},{"$f":"'INSURED INFORMATION'!Q56","v":1},{"$f":"'INSURED INFORMATION'!R56","v":1},{"$f":"'INSURED INFORMATION'!S56","v":1},{"$f":"'INSURED INFORMATION'!T56","v":1},{"$f":"'INSURED INFORMATION'!U56","v":1}]
[null,null,null,null,null,null,null,null,null,null,"Plan 5",{"$f":"'INSURED INFORMATION'!P57","v":1},{"$f":"'INSURED INFORMATION'!Q57","v":1},{"$f":"'INSURED INFORMATION'!R57","v":1},{"$f":"'INSURED INFORMATION'!S57","v":1},{"$f":"'INSURED INFORMATION'!T57","v":1},{"$f":"'INSURED INFORMATION'!U57","v":1}]
[null,null,null,null,null,null,null,null,null,null,"Plan 6",{"$f":"'INSURED INFORMATION'!P58","v":1},{"$f":"'INSURED INFORMATION'!Q58","v":1},{"$f":"'INSURED INFORMATION'!R58","v":1},{"$f":"'INSURED INFORMATION'!S58","v":1},{"$f":"'INSURED INFORMATION'!T58","v":1},{"$f":"'INSURED INFORMATION'!U58","v":1}]
[]
[]
[]
["EXCLUSIVE CARE",null,null,null,null,null,null,null,null,null,"ORIGINAL RATES",null,null,null,null,null,null,null,"DISCOUNTS APPLIED"]
["TARIFAS ANUALES"]
["EDAD"]
[" "," ","DW1","DW2","DW3","DW4","DW5","DW6"]
[18,"18-24",{"$f":"S15","v":0},{"$f":"T15","v":0},0,0,0,0,null,null,null,null,null,null,null,null,null,null,{"$f":"K15*$M$2","v":0},{"$f":"L15*$M$3","v":0},{"$f":"M15*$M$4","v":0},{"$f":"N15*$M$5","v":0},{"$f":"O15*$M$6","v":0},{"$f":"P15*$M$7","v":0}]
[25,"25-29",{"$f":"S16","v":0},{"$f":"T16","v":0},{"$f":"U16","v":0},{"$f":"V16","v":0},{"$f":"W16","v":0},{"$f":"X16","v":0},null,null,null,null,null,null,null,null,null,null,{"$f":"K16*$M$2","v":0},{"$f":"L16*$M$3","v":0},{"$f":"M16*$M$4","v":0},{"$f":"N16*$M$5","v":0},{"$f":"O16*$M$6","v":0},{"$f":"P16*$M$7","v":0}]
[30,"30-34",0,0,0,0,0,0,null,null,null,null,null,null,null,null,null,null,0,0,0,0,0,0]
[35,"35-39",0,0,0,0,0,0,null,null,null,null,null,null,null,null,null,null,0,0,0,0,0,0]
[40,"40-44",0,0,0,0,0,0,null,null,null,null,null,null,null,null,null,null,0,0,0,0,0,0]
[45,"45-49",0,0,0,0,0,0,null,null,null,null,null,null,null,null,null,null,0,0,0,0,0,0]
[50,"50-54",0,0,0,0,0,0,null,null,null,null,null,null,null,null,null,null,0,0,0,0,0,0]
[55,"55-59",0,0,0,0,0,0,null,null,null,null,null,null,null,null,null,null,0,0,0,0,0,0]
[60,"60",0,0,0,0,0,0,null,null,null,null,null,null,null,null,null,null,0,0,0,0,0,0]
[61,"61",0,0,0,0,0,0,null,null,null,null,null,null,null,null,null,null,0,0,0,0,0,0]
[62,"62",0,0,0,0,0,0,null,null,null,null,null,null,null,null,null,null,0,0,0,0,0,0]
[63,"63",0,0,0,0,0,0,null,null,null,null,null,null,null,null,null,null,0,0,0,0,0,0]
[64,"64",0,0,0,0,0,0,null,null,null,null,null,null,null,null,null,null,0,0,0,0,0,0]
[65,"65",0,0,0,0,0,0,null,null,null,null,null,null,null,null,null,null,0,0,0,0,0,0]
[66,"66",0,0,0,0,0,0,null,null,null,null,null,null,null,null,null,null,0,0,0,0,0,0]
[67,"67",0,0,0,0,0,0,null,null,null,null,null,null,null,null,null,null,0,0,0,0,0,0]
[68,"68",0,0,0,0,0,0,null,null,null,null,null,null,null,null,null,null,0,0,0,0,0,0]
[69,"69",0,0,0,0,0,0,null,null,null,null,null,null,null,null,null,null,0,0,0,0,0,0]
[70,"70",0,0,0,0,0,0,null,null,null,null,null,null,null,null,null,null,0,0,0,0,0,0]
[71,"71",0,0,0,0,0,0,null,null,null,null,null,null,null,null,null,null,0,0,0,0,0,0]
[72,"72",0,0,0,0,0,0,null,null,null,null,null,null,null,null,null,null,0,0,0,0,0,0]
[73,"73",0,0,0,0,0,0,null,null,null,null,null,null,null,null,null,null,0,0,0,0,0,0]
[74,"74",0,0,0,0,0,0,null,null,null,null,null,null,null,null,null,null,0,0,0,0,0,0]
[75,"75+",0,0,0,0,0,0,null,null,null,null,null,null,null,null,null,null,0,0,0,0,0,0]
[1,"1 Child",0,0,0,0,0,0,null,null,null,null,null,null,null,null,null,null,{"$f":"K39","v":0},0,0,0,0,0]
[2,"2 Children",0,0,0,0,0,0,null,null,null,null,null,null,null,null,null,null,{"$f":"K40","v":0},{"$f":"L40","v":0},{"$f":"M40","v":0},{"$f":"N40","v":0},{"$f":"O40","v":0},{"$f":"P40","v":0}]
[3,"3+ Children",0,0,0,0,0,0,null,null,null,null,null,null,null,null,null,null,0,0,0,0,0,0]
[1,"Rider Comp. Maternidad",null,0,0,225,225,225]
[1,"Transplante de organos",null,0,0,0,0,0]
[]
[]
[]
["TARIFAS SEMESTRALES "]
["EDAD"]
[" "," ","DW1","DW2","DW3","DW4","DW5","DW6"]
[18,"18-24",{"$f":"$G$2*C15","v":0},{"$f":"$G$2*D15","v":0},0,0,0,0]
[25,"25-29",{"$f":"$G$2*C16","v":0},0,0,0,0,0]
[30,"30-34",{"$f":"$G$2*C17","v":0},0,0,0,0,0]
[35,"35-39",{"$f":"$G$2*C18","v":0},0,0,0,0,0]
[40,"40-44",{"$f":"$G$2*C19","v":0},0,0,0,0,0]
[45,"45-49",{"$f":"$G$2*C20","v":0},0,0,0,0,0]
[50,"50-54",{"$f":"$G$2*C21","v":0},0,0,0,0,0]
[55,"55-59",{"$f":"$G$2*C22","v":0},0,0,0,0,0]
[60,"60",{"$f":"$G$2*C23","v":0},0,0,0,0,0]
[61,"61",{"$f":"$G$2*C24","v":0},0,0,0,0,0]
[62,"62",{"$f":"$G$2*C25","v":0},{"$f":"$G$2*D25","v":0},0,0,0,0]
[63,"63",{"$f":"$G$2*C26","v":0},0,0,0,0,0]
[64,"64",{"$f":"$G$2*C27","v":0},0,0,0,0,0]
[65,"65",{"$f":"$G$2*C28","v":0},0,0,0,0,0]
[66,"66",{"$f":"$G$2*C29","v":0},0,0,0,0,0]
[67,"67",{"$f":"$G$2*C30","v":0},0,0,0,0,0]
[68,"68",{"$f":"$G$2*C31","v":0},0,0,0,0,0]
[69,"69",{"$f":"$G$2*C32","v":0},0,0,0,0,0]
[70,"70",{"$f":"$G$2*C33","v":0},0,0,0,0,0]
[71,"71",{"$f":"$G$2*C34","v":0},0,0,0,0,0]
[72,"72",{"$f":"$G$2*C35","v":0},{"$f":"$G$2*D35","v":0},0,0,0,0]
[73,"73",{"$f":"$G$2*C36","v":0},0,0,0,0,0]
[74,"74",{"$f":"$G$2*C37","v":0},0,0,0,0,0]
[75,"75+",{"$f":"$G$2*C38","v":0},0,0,0,0,0]
[1,"1 Child",{"$f":"$G$2*C39","v":0},0,0,0,0,0]
[2,"2 Children",{"$f":"$G$2*C40","v":0},0,0,0,0,0]
[3,"3+ Children",{"$f":"$G$2*C41","v":0},0,0,0,0,0]
[1,"Rider Comp. Maternidad",{"$f":"$G$2*C42","v":0},{"$f":"+D42*$G$2","v":0},0,114.75,114.75,114.75]
[1,"Transplante de organos",{"$f":"$G$2*C43","v":0},0,0,0,0,0]
[]
[]
[]
[]
[]
["DIAMOND (LATINAMERICA ONLY)"]
["TARIFAS ANUALES"]
["EDAD"]
[" "," ","DL1","DL2","DL3","DL4","DL5","DL6"]
[18,"-  24"]
[25,"-  29"]
[30,"-  34"]
[35,"-  39"]
[40,"-  44"]
[45,"-  49"]
[50,"-  54"]
[55,"-  59"]
[60]
[61]
[62]
[63]
[64]
[65]
[66]
[67]
[68]
[69]
[70]
[71]
[72]
[73]
[74]
[75,"o más"]
[1,"Hijo"]
[2,"Hijos"]
[3,"Hijos o más"]
[1,"Rider Comp. Maternidad"]
[1,"Transplante de organos",0,0,0,0,0,0]
[]
["TARIFAS SEMESTRALES "]
["EDAD"]
[" "," ","DL1","DL2","DL3","DL4","DL5","DL6"]
[18,"-  24",{"$f":"+C88*$G$2","v":0},0,0,0,0,0]
[25,"-  29",0,0,0,0,0,0]
[30,"-  34",0,0,0,0,0,0]
[35,"-  39",0,0,0,0,0,0]
[40,"-  44",0,0,0,0,0,0]
[45,"-  49",0,0,0,0,0,0]
[50,"-  54",0,0,0,0,0,0]
[55,"-  59",0,0,0,0,0,0]
[60,null,0,0,0,0,0,0]
[61,null,0,0,0,0,0,0]
[62,null,{"$f":"+C98*$G$2","v":0},0,0,0,0,0]
[63,null,0,0,0,0,0,0]
[64,null,0,0,0,0,0,0]
[65,null,0,0,0,0,0,0]
[66,null,0,0,0,0,0,0]
[67,null,0,0,0,0,0,0]
[68,null,0,0,0,0,0,0]
[69,null,0,0,0,0,0,0]
[70,null,0,0,0,0,0,0]
[71,null,0,0,0,0,0,0]
[72,null,{"$f":"+C108*$G$2","v":0},0,0,0,0,0]
[73,null,0,0,0,0,0,0]
[74,null,0,0,0,0,0,0]
[75,"o más",0,0,0,0,0,0]
[1,"Hijo",0,0,0,0,0,0]
[2,"Hijos",0,0,0,0,0,0]
[3,"Hijos o más",0,0,0,0,0,0]
[1,"Rider Comp. Maternidad",0,0,0,0,0,0]
[1,"Transplante de organos",0,0,0,0,0,0]
[]
[]
[]
[]
["BUPA PRIVILEGE CARE"]
["TARIFAS ANUALES"]
["EDAD"]
[" "," ","CW1","CW2","CW3","CW4","CW5","CW6"]
[18,"18-24",null,{"$f":"U158","v":9566},{"$f":"V158","v":6579},4614,3213,2446,null,null,null,9566,6579,4614,3213,2446,null,null,null,null,{"$f":"(L158-50)*$N$2+50","v":9566},{"$f":"(M158-50)*$N$2+50","v":6579},4614,3213,2446]
[25,"25-29",null,{"$f":"U159","v":10036},7277,5111,3557,2710,null,null,null,10036,7277,5111,3557,2710,null,null,null,null,{"$f":"(L159-50)*$N$2+50","v":10036},{"$f":"(M159-50)*$N$2+50","v":7277},{"$f":"(N159-50)*$N$2+50","v":5111},{"$f":"(O159-50)*$N$2+50","v":3557},{"$f":"(P159-50)*$N$2+50","v":2710}]
[30,"30-34",null,10485,7783,5732,4300,3291,null,null,null,10485,7783,5732,4300,3291,null,null,null,null,10485,7783,5732,4300,3291]
[35,"35-39",null,11735,8711,6426,4823,3680,null,null,null,11735,8711,6426,4823,3680,null,null,null,null,11735,8711,6426,4823,3680]
[40,"40-44",null,13587,9552,7144,5315,4063,null,null,null,13587,9552,7144,5315,4063,null,null,null,null,13587,9552,7144,5315,4063]
[45,"45-49",null,15180,10678,7980,5944,4542,null,null,null,15180,10678,7980,5944,4542,null,null,null,null,15180,10678,7980,5944,4542]
[50,"50-54",null,19843,14084,10479,8474,6478,null,null,null,19843,14084,10479,8474,6478,null,null,null,null,19843,14084,10479,8474,6478]
[55,"55-59",null,21106,14979,11150,9019,6895,null,null,null,21106,14979,11150,9019,6895,null,null,null,null,21106,14979,11150,9019,6895]
[60,"60",null,22988,16264,12692,10725,8620,null,null,null,22988,16264,12692,10725,8620,null,null,null,null,22988,16264,12692,10725,8620]
[61,"61",null,24694,17472,13630,11529,9257,null,null,null,24694,17472,13630,11529,9257,null,null,null,null,24694,17472,13630,11529,9257]
[62,"62",null,27030,19138,14930,12622,10139,null,null,null,27030,19138,14930,12622,10139,null,null,null,null,27030,19138,14930,12622,10139]
[63,"63",null,28742,20343,15874,13423,10776,null,null,null,28742,20343,15874,13423,10776,null,null,null,null,28742,20343,15874,13423,10776]
[64,"64",null,31087,22012,17177,14520,11663,null,null,null,31087,22012,17177,14520,11663,null,null,null,null,31087,22012,17177,14520,11663]
[65,"65",null,40644,28705,21709,19359,16442,null,null,null,40644,28705,21709,19359,16442,null,null,null,null,40644,28705,21709,19359,16442]
[66,"66",null,47216,33358,25223,22501,19102,null,null,null,47216,33358,25223,22501,19102,null,null,null,null,47216,33358,25223,22501,19102]
[67,"67",null,51565,36431,27549,24566,20867,null,null,null,51565,36431,27549,24566,20867,null,null,null,null,51565,36431,27549,24566,20867]
[68,"68",null,57096,{"$f":"V174","v":40333},{"$f":"W174","v":30510},{"$f":"X174","v":27209},{"$f":"Y174","v":23099},null,null,null,57096,40333,30510,27209,23099,null,null,null,null,57096,40333,30510,27209,23099]
[69,"69",null,62817,44372,33559,29930,25420,null,null,null,62817,44372,33559,29930,25420,null,null,null,null,62817,44372,33559,29930,25420]
[70,"70",null,77309,54031,39507,34881,29895,null,null,null,77309,54031,39507,34881,29895,null,null,null,null,77309,54031,39507,34881,29895]
[71,"71",null,80346,56148,41056,36249,31074,null,null,null,80346,56148,41056,36249,31074,null,null,null,null,80346,56148,41056,36249,31074]
[72,"72",null,82625,57737,42221,37274,31952,null,null,null,82625,57737,42221,37274,31952,null,null,null,null,82625,57737,42221,37274,31952]
[73,"73",null,85651,59863,43768,38647,33130,null,null,null,85651,59863,43768,38647,33130,null,null,null,null,85651,59863,43768,38647,33130]
[74,"74",null,87167,60917,44546,39334,33714,null,null,null,87167,60917,44546,39334,33714,null,null,null,null,87167,60917,44546,39334,33714]
[75,"75+",null,90964,63570,46484,41044,35180,null,null,null,90964,63570,46484,41044,35180,null,null,null,null,90964,63570,46484,41044,35180]
[1,"1 Child",null,3317,2424,1878,1554,1153,null,null,null,3317,2424,1878,1554,1153,null,null,null,null,{"$f":"L182*$N$2","v":3317},{"$f":"M182*$N$2","v":2424},1878,1554,1153]
[2,"2 Children",null,5271,3857,2988,2468,1829,null,null,null,5271,3857,2988,2468,1829,null,null,null,null,{"$f":"L183*$N$2","v":5271},{"$f":"M183*$N$2","v":3857},{"$f":"N183*$N$2","v":2988},{"$f":"O183*$N$2","v":2468},{"$f":"P183*$N$2","v":1829}]
[3,"3+ Children",null,{"$f":"U184","v":7733},5651,4375,3616,2678,null,null,null,7733,5651,4375,3616,2678,null,null,null,null,7733,5651,4375,3616,2678]
[1,"Rider Comp. Maternidad",null,0,0,225,225,225]
[1,"Transplante de organos",null,0,0,0,0,0]
[]
[]
[]
["TARIFAS SEMESTRALES "]
["EDAD"]
[" "," ","CW1","CW2","CW3","CW4","CW5","CW6"]
[18,"18-24",null,{"$f":"$G$2*D158","v":4878.66},3355.29,2353.14,1638.63,1247.46]
[25,"25-29",null,5118.3599999999997,3711.27,2606.61,1814.07,1382.1000000000001]
[30,"30-34",null,5347.35,3969.33,2923.32,2193,1678.41]
[35,"35-39",null,5984.85,4442.6099999999997,3277.26,2459.73,1876.8]
[40,"40-44",null,6929.37,4871.5200000000004,3643.44,2710.65,2072.13]
[45,"45-49",null,7741.8,5445.78,4069.8,3031.44,2316.42]
[50,"50-54",null,10119.93,7182.84,5344.29,4321.74,3303.78]
[55,"55-59",null,10764.06,7639.29,5686.5,4599.6900000000005,3516.4500000000003]
[60,"60",null,11723.880000000001,8294.64,6472.92,5469.75,4396.2]
[61,"61",null,12593.94,8910.7199999999993,6951.3,5879.79,4721.07]
[62,"62",null,{"$f":"$G$2*D168","v":13785.300000000001},9760.380000000001,7614.3,6437.22,5170.8900000000003]
[63,"63",null,14658.42,10374.93,8095.74,6845.7300000000005,5495.76]
[64,"64",null,15854.37,11226.12,8760.27,7405.2,5948.13]
[65,"65",null,20728.439999999999,14639.550000000001,11071.59,9873.09,8385.42]
[66,"66",null,24080.16,17012.580000000002,12863.73,11475.51,9742.02]
[67,"67",null,26298.15,18579.810000000001,14049.99,12528.66,10642.17]
[68,"68",null,29118.959999999999,20569.830000000002,15560.1,13876.59,11780.49]
[69,"69",null,32036.670000000002,22629.72,17115.09,15264.300000000001,12964.2]
[70,"70",null,39427.590000000004,27555.81,20148.57,17789.310000000001,15246.45]
[71,"71",null,40976.46,28635.48,20938.560000000001,18486.990000000002,15847.74]
[72,"72",null,{"$f":"$G$2*D178","v":42138.75},29445.87,21532.71,19009.740000000002,16295.52]
[73,"73",null,43682.01,30530.13,22321.68,19709.97,16896.3]
[74,"74",null,44455.17,31067.670000000002,22718.46,20060.34,17194.14]
[75,"75+",null,46391.64,32420.7,23706.84,20932.439999999999,17941.8]
[1,"1 Child",null,1691.67,1236.24,957.78,792.54,588.03]
[2,"2 Children",null,2688.21,1967.07,1523.88,1258.68,932.79]
[3,"3+ Children",null,3943.83,2882.01,2231.25,1844.16,1365.78]
[1,"Rider Comp. Maternidad",null,{"$f":"+D185*$G$2","v":0},0,114.75,114.75,114.75]
[1,"Transplante de organos",null,0,0,0,0,0]
[]
[]
[]
[]
["COMPLETE (LATINAMERICA ONLY)"]
["TARIFAS ANUALES"]
["EDAD"]
[" "," ","CL1","CL2","CL3","CL4","CL5","CL6"]
[18,"-  24"]
[25,"-  29"]
[30,"-  34"]
[35,"-  39"]
[40,"-  44"]
[45,"-  49"]
[50,"-  54"]
[55,"-  59"]
[60]
[61]
[62]
[63]
[64]
[65]
[66]
[67]
[68]
[69]
[70]
[71]
[72]
[73]
[74]
[75,"o más"]
[1,"Hijo"]
[2,"Hijos"]
[3,"Hijos o más"]
[1,"Rider Comp. Maternidad"]
[1,"Transplante de organos",0,0,0,0,0,0]
[]
["TARIFAS SEMESTRALES "]
["EDAD"]
[" "," ","CL1","CL2","CL3","CL4","CL5","CL6"]
[18,"-  24",{"$f":"+C230*$G$2","v":0},0,0,0,0,0]
[25,"-  29",0,0,0,0,0,0]
[30,"-  34",0,0,0,0,0,0]
[35,"-  39",0,0,0,0,0,0]
[40,"-  44",0,0,0,0,0,0]
[45,"-  49",0,0,0,0,0,0]
[50,"-  54",0,0,0,0,0,0]
[55,"-  59",0,0,0,0,0,0]
[60,null,0,0,0,0,0,0]
[61,null,0,0,0,0,0,0]
[62,null,{"$f":"+C240*$G$2","v":0},0,0,0,0,0]
[63,null,0,0,0,0,0,0]
[64,null,0,0,0,0,0,0]
[65,null,0,0,0,0,0,0]
[66,null,0,0,0,0,0,0]
[67,null,0,0,0,0,0,0]
[68,null,0,0,0,0,0,0]
[69,null,0,0,0,0,0,0]
[70,null,0,0,0,0,0,0]
[71,null,0,0,0,0,0,0]
[72,null,{"$f":"+C250*$G$2","v":0},0,0,0,0,0]
[73,null,0,0,0,0,0,0]
[74,null,0,0,0,0,0,0]
[75,"o más",0,0,0,0,0,0]
[1,"Hijo",0,0,0,0,0,0]
[2,"Hijos",0,0,0,0,0,0]
[3,"Hijos o más",0,0,0,0,0,0]
[1,"Rider Comp. Maternidad",0,0,0,0,0,0]
[1,"Transplante de organos",0,0,0,0,0,0]
[]
[]
[]
[]
[]
[]
[]
["BUPA ADVANTAGE CARE (WORLDWIDE)"]
["TARIFAS ANUALES"]
["EDAD"]
[" "," ","AW1","AW2","AW3","AW4","AW5","AW6"]
[18,"18-24",{"$f":"T303","v":0},{"$f":"U303","v":6247},4692,3530,2658,2106,null,null,null,6247,4692,3530,2658,2106,null,null,null,{"$f":"K303*$O$2","v":0},{"$f":"(L303-50)*$O$2+50","v":6247},{"$f":"(M303-50)*$O$2+50","v":4692},3530,2658,2106]
[25,"25-29",{"$f":"T304","v":0},{"$f":"U304","v":6945},{"$f":"V304","v":5235},{"$f":"W304","v":3929},{"$f":"X304","v":2967},{"$f":"Y304","v":2341},null,null,null,6945,5235,3929,2967,2341,null,null,null,{"$f":"K304*$O$2","v":0},{"$f":"(L304-50)*$O$2+50","v":6945},{"$f":"(M304-50)*$O$2+50","v":5235},{"$f":"(N304-50)*$O$2+50","v":3929},{"$f":"(O304-50)*$O$2+50","v":2967},{"$f":"(P304-50)*$O$2+50","v":2341}]
[30,"30-34",0,8034,6155,4667,3512,2710,null,null,null,8034,6155,4667,3512,2710,null,null,null,0,8034,6155,4667,3512,2710]
[35,"35-39",0,8914,6850,5190,4004,3001,null,null,null,8914,6850,5190,4004,3001,null,null,null,0,8914,6850,5190,4004,3001]
[40,"40-44",0,10061,7762,5885,4472,3401,null,null,null,10061,7762,5885,4472,3401,null,null,null,0,10061,7762,5885,4472,3401]
[45,"45-49",0,11687,8942,6639,5091,3948,null,null,null,11687,8942,6639,5091,3948,null,null,null,0,11687,8942,6639,5091,3948]
[50,"50-54",0,12806,10049,7733,5716,4334,null,null,null,12806,10049,7733,5716,4334,null,null,null,0,12806,10049,7733,5716,4334]
[55,"55-59",0,15129,11603,8554,6619,5129,null,null,null,15129,11603,8554,6619,5129,null,null,null,0,15129,11603,8554,6619,5129]
[60,"60",0,16717,12847,9401,7304,5675,null,null,null,16717,12847,9401,7304,5675,null,null,null,0,16717,12847,9401,7304,5675]
[61,"61",0,18810,14457,10588,8219,6393,null,null,null,18810,14457,10588,8219,6393,null,null,null,0,18810,14457,10588,8219,6393]
[62,"62",0,20908,16066,11769,9137,7101,null,null,null,20908,16066,11769,9137,7101,null,null,null,0,20908,16066,11769,9137,7101]
[63,"63",0,23001,17682,12945,10059,7818,null,null,null,23001,17682,12945,10059,7818,null,null,null,0,23001,17682,12945,10059,7818]
[64,"64",0,25096,19289,14130,10982,8530,null,null,null,25096,19289,14130,10982,8530,null,null,null,0,25096,19289,14130,10982,8530]
[65,"65",0,27133,20997,15399,11957,9710,null,null,null,27133,20997,15399,11957,9710,null,null,null,0,27133,20997,15399,11957,9710]
[66,"66",0,28730,22232,16309,12659,10285,null,null,null,28730,22232,16309,12659,10285,null,null,null,0,28730,22232,16309,12659,10285]
[67,"67",0,31926,24702,18124,14073,11426,null,null,null,31926,24702,18124,14073,11426,null,null,null,0,31926,24702,18124,14073,11426]
[68,"68",0,35124,27186,19943,15479,12577,null,null,null,35124,27186,19943,15479,12577,null,null,null,0,35124,27186,19943,15479,12577]
[69,"69",0,36721,28415,20846,16187,13154,null,null,null,36721,28415,20846,16187,13154,null,null,null,0,36721,28415,20846,16187,13154]
[70,"70",0,37199,28872,21167,16488,13320,null,null,null,37199,28872,21167,16488,13320,null,null,null,0,37199,28872,21167,16488,13320]
[71,"71",0,41854,32488,23814,18558,14995,null,null,null,41854,32488,23814,18558,14995,null,null,null,0,41854,32488,23814,18558,14995]
[72,"72",0,46511,36097,26464,20621,16665,null,null,null,46511,36097,26464,20621,16665,null,null,null,0,46511,36097,26464,20621,16665]
[73,"73",0,51167,39714,29112,22690,18332,null,null,null,51167,39714,29112,22690,18332,null,null,null,0,51167,39714,29112,22690,18332]
[74,"74",0,55823,43331,31772,24762,20000,null,null,null,55823,43331,31772,24762,20000,null,null,null,0,55823,43331,31772,24762,20000]
[75,"75+",0,61068,48329,36437,27104,22954,null,null,null,61068,48329,36437,27104,22954,null,null,null,0,61068,48329,36437,27104,22954]
[1,"1 Child",0,2783,1984,1542,1336,965,null,null,null,2783,1984,1542,1336,965,null,null,null,{"$f":"K327","v":0},{"$f":"L327*$O$2","v":2783},{"$f":"M327*$O$2","v":1984},1542,1336,965]
[2,"2 Children",0,4529,3127,2429,2120,1419,null,null,null,4529,3127,2429,2120,1419,null,null,null,{"$f":"K328","v":0},{"$f":"L328*$O$2","v":4529},{"$f":"M328*$O$2","v":3127},{"$f":"N328*$O$2","v":2429},{"$f":"O328*$O$2","v":2120},{"$f":"P328*$O$2","v":1419}]
[3,"3+ Children",0,6628,4553,3538,3069,2155,null,null,null,6628,4553,3538,3069,2155,null,null,null,0,6628,4553,3538,3069,2155]
[1,"Rider Comp. Maternidad",null,225,225,225,225,225]
[1,"Transplante de organos",null,300,300,300,300,300]
[]
[]
[]
["TARIFAS SEMESTRALES "]
["EDAD"]
[" "," ","AW1","AW2","AW3","AW4","AW5","AW6"]
[18,"18-24",{"$f":"+C303*$G$2","v":0},3185.9700000000003,2392.92,1800.3,1355.58,1074.06]
[25,"25-29",{"$f":"+C304*$G$2","v":0},3541.9500000000003,2669.85,2003.79,1513.17,1193.9100000000001]
[30,"30-34",{"$f":"+C305*$G$2","v":0},4097.34,3139.05,2380.17,1791.1200000000001,1382.1000000000001]
[35,"35-39",{"$f":"+C306*$G$2","v":0},4546.1400000000003,3493.5,2646.9,2042.04,1530.51]
[40,"40-44",{"$f":"+C307*$G$2","v":0},5131.1099999999997,3958.62,3001.35,2280.7200000000003,1734.51]
[45,"45-49",{"$f":"+C308*$G$2","v":0},5960.37,4560.42,3385.89,2596.41,2013.48]
[50,"50-54",{"$f":"+C309*$G$2","v":0},6531.06,5124.99,3943.83,2915.16,2210.34]
[55,"55-59",{"$f":"+C310*$G$2","v":0},7715.79,5917.53,4362.54,3375.69,2615.79]
[60,"60",{"$f":"+C311*$G$2","v":0},8525.67,6551.97,4794.51,3725.04,2894.25]
[61,"61",{"$f":"+C312*$G$2","v":0},9593.1,7373.07,5399.88,4191.6900000000005,3260.43]
[62,"62",{"$f":"+C313*$G$2","v":0},{"$f":"+D313*$G$2","v":10663.08},8193.66,6002.1900000000005,4659.87,3621.51]
[63,"63",{"$f":"+C314*$G$2","v":0},11730.51,9017.82,6601.95,5130.09,3987.1800000000003]
[64,"64",{"$f":"+C315*$G$2","v":0},12798.960000000001,9837.39,7206.3,5600.82,4350.3]
[65,"65",{"$f":"+C316*$G$2","v":0},13837.83,10708.47,7853.49,6098.07,4952.1000000000004]
[66,"66",{"$f":"+C317*$G$2","v":0},14652.300000000001,11338.32,8317.59,6456.09,5245.35]
[67,"67",{"$f":"+C318*$G$2","v":0},16282.26,12598.02,9243.24,7177.2300000000005,5827.26]
[68,"68",{"$f":"+C319*$G$2","v":0},17913.240000000002,13864.86,10170.93,7894.29,6414.27]
[69,"69",{"$f":"+C320*$G$2","v":0},18727.71,14491.65,10631.460000000001,8255.3700000000008,6708.54]
[70,"70",{"$f":"+C321*$G$2","v":0},18971.490000000002,14724.720000000001,10795.17,8408.880000000001,6793.2]
[71,"71",{"$f":"+C322*$G$2","v":0},21345.54,16568.88,12145.14,9464.58,7647.45]
[72,"72",{"$f":"+C323*$G$2","v":0},{"$f":"+D323*$G$2","v":23720.61},18409.47,13496.64,10516.710000000001,8499.15]
[73,"73",{"$f":"+C324*$G$2","v":0},26095.170000000002,20254.14,14847.12,11571.9,9349.32]
[74,"74",{"$f":"+C325*$G$2","v":0},28469.73,22098.81,16203.720000000001,12628.62,10200]
[75,"75+",{"$f":"+C326*$G$2","v":0},31144.68,24647.79,18582.87,13823.04,11706.54]
[1,"1 Child",{"$f":"+C327*$G$2","v":0},1419.33,1011.84,786.42,681.36,492.15000000000003]
[2,"2 Children",{"$f":"+C328*$G$2","v":0},2309.79,1594.77,1238.79,1081.2,723.69]
[3,"3+ Children",{"$f":"+C329*$G$2","v":0},3380.28,2322.0300000000002,1804.38,1565.19,1099.05]
[1,"Rider Comp. Maternidad",null,114.75,114.75,114.75,114.75,114.75]
[1,"Transplante de organos",null,153,153,153,153,153]
[]
[]
[]
[]
[]
["ADVANTAGE (LATINAMERICA ONLY)"]
["TARIFAS ANUALES"]
["EDAD"]
[" "," ",null,"AL2","AL3","AL4","AL5","AL6"]
[18,"18-24"]
[25,"25-29"]
[30,"30-34"]
[35,"35-39"]
[40,"40-44"]
[45,"45-49"]
[50,"50-54"]
[55,"55-59"]
[60,"60"]
[61,"61"]
[62,"62"]
[63,"63"]
[64,"64"]
[65,"65"]
[66,"66"]
[67,"67"]
[68,"68"]
[69,"69"]
[70,"70"]
[71,"71"]
[72,"72"]
[73,"73"]
[74,"74"]
[75,"75+"]
[1,"1 Child"]
[2,"2 Children"]
[3,"3+ Children"]
[1,"Rider Comp. Maternidad"]
[1,"Transplante de organos"]
[]
["TARIFAS SEMESTRALES "]
["EDAD"]
[" "," ",null,"AL2","AL3","AL4","AL5","AL6"]
[18,"18-24",null,{"$f":"+D376*$G$2","v":0},0,0,0,0]
[25,"25-29",null,0,0,0,0,0]
[30,"30-34",null,0,0,0,0,0]
[35,"35-39",null,0,0,0,0,0]
[40,"40-44",null,0,0,0,0,0]
[45,"45-49",null,0,0,0,0,0]
[50,"50-54",null,0,0,0,0,0]
[55,"55-59",null,0,0,0,0,0]
[60,"60",null,0,0,0,0,0]
[61,"61",null,0,0,0,0,0]
[62,"62",null,{"$f":"+D386*$G$2","v":0},0,0,0,0]
[63,"63",null,0,0,0,0,0]
[64,"64",null,0,0,0,0,0]
[65,"65",null,0,0,0,0,0]
[66,"66",null,0,0,0,0,0]
[67,"67",null,0,0,0,0,0]
[68,"68",null,0,0,0,0,0]
[69,"69",null,0,0,0,0,0]
[70,"70",null,0,0,0,0,0]
[71,"71",null,0,0,0,0,0]
[72,"72",null,{"$f":"+D396*$G$2","v":0},0,0,0,0]
[73,"73",null,0,0,0,0,0]
[74,"74",null,0,0,0,0,0]
[75,"75+",null,0,0,0,0,0]
[1,"1 Child",null,0,0,0,0,0]
[2,"2 Children",null,0,0,0,0,0]
[3,"3+ Children",null,0,0,0,0,0]
[1,"Rider Comp. Maternidad",null,0,0,0,0,0]
[1,"Transplante de organos",null,0,0,0,0,0]
[]
[]
[]
[]
["BUPA SECURE CARE"]
["TARIFAS ANUALES"]
["EDAD"]
[" "," ","SE1","SE2","SE3","SE4","SE5","SE6"]
[18,"18-24",{"$f":"T446","v":0},{"$f":"U446","v":4674},3667,2769,2352,1784,null,null,null,4674,3667,2769,2352,1784,null,null,null,{"$f":"K446*$P$2","v":0},{"$f":"(L446-50)*$P$2+50","v":4674},{"$f":"(M446-50)*$P$2+50","v":3667},2769,2352,1784]
[25,"25-29",{"$f":"T447","v":0},{"$f":"U447","v":5158},{"$f":"V447","v":4138},{"$f":"W447","v":3087},{"$f":"X447","v":2622},{"$f":"Y447","v":1986},null,null,null,5158,4138,3087,2622,1986,null,null,null,{"$f":"K447*$P$2","v":0},{"$f":"(L447-50)*$P$2+50","v":5158},{"$f":"(M447-50)*$P$2+50","v":4138},{"$f":"(N447-50)*$P$2+50","v":3087},{"$f":"(O447-50)*$P$2+50","v":2622},{"$f":"(P447-50)*$P$2+50","v":1986}]
[30,"30-34",0,5911,4857,3583,3047,2301,null,null,null,5911,4857,3583,3047,2301,null,null,null,0,5911,4857,3583,3047,2301]
[35,"35-39",0,6507,5427,3987,3383,2547,null,null,null,6507,5427,3987,3383,2547,null,null,null,0,6507,5427,3987,3383,2547]
[40,"40-44",0,7294,6191,4503,3821,2877,null,null,null,7294,6191,4503,3821,2877,null,null,null,0,7294,6191,4503,3821,2877]
[45,"45-49",0,8393,7265,5242,4441,3338,null,null,null,8393,7265,5242,4441,3338,null,null,null,0,8393,7265,5242,4441,3338]
[50,"50-54",0,9162,7996,5749,4872,3651,null,null,null,9162,7996,5749,4872,3651,null,null,null,0,9162,7996,5749,4872,3651]
[55,"55-59",0,10766,9542,6818,5780,4322,null,null,null,10766,9542,6818,5780,4322,null,null,null,0,10766,9542,6818,5780,4322]
[60,"60",0,11268,10202,7218,6112,4574,null,null,null,11268,10202,7218,6112,4574,null,null,null,0,11268,10202,7218,6112,4574]
[61,"61",0,12693,11479,8124,6884,5152,null,null,null,12693,11479,8124,6884,5152,null,null,null,0,12693,11479,8124,6884,5152]
[62,"62",0,14106,12764,9042,7653,5731,null,null,null,14106,12764,9042,7653,5731,null,null,null,0,14106,12764,9042,7653,5731]
[63,"63",0,15516,14042,9944,8424,6311,null,null,null,15516,14042,9944,8424,6311,null,null,null,0,15516,14042,9944,8424,6311]
[64,"64",0,16940,15324,10857,9192,6886,null,null,null,16940,15324,10857,9192,6886,null,null,null,0,16940,15324,10857,9192,6886]
[65,"65",0,16951,15469,10920,9245,6911,null,null,null,16951,15469,10920,9245,6911,null,null,null,0,16951,15469,10920,9245,6911]
[66,"66",0,16970,15619,10981,9288,6932,null,null,null,16970,15619,10981,9288,6932,null,null,null,0,16970,15619,10981,9288,6932]
[67,"67",0,18870,17360,12203,10335,7709,null,null,null,18870,17360,12203,10335,7709,null,null,null,0,18870,17360,12203,10335,7709]
[68,"68",0,20755,19091,13434,11368,8490,null,null,null,20755,19091,13434,11368,8490,null,null,null,0,20755,19091,13434,11368,8490]
[69,"69",0,21704,19956,14047,11883,8879,null,null,null,21704,19956,14047,11883,8879,null,null,null,0,21704,19956,14047,11883,8879]
[70,"70",0,21740,20296,14188,12003,8920,null,null,null,21740,20296,14188,12003,8920,null,null,null,0,21740,20296,14188,12003,8920]
[71,"71",0,24463,22846,15973,13509,10046,null,null,null,24463,22846,15973,13509,10046,null,null,null,0,24463,22846,15973,13509,10046]
[72,"72",0,27194,25392,17757,15013,11162,null,null,null,27194,25392,17757,15013,11162,null,null,null,0,27194,25392,17757,15013,11162]
[73,"73",0,29917,27927,19532,16521,12286,null,null,null,29917,27927,19532,16521,12286,null,null,null,0,29917,27927,19532,16521,12286]
[74,"74",0,32641,30472,21317,18029,13409,null,null,null,32641,30472,21317,18029,13409,null,null,null,0,32641,30472,21317,18029,13409]
[75,"75+",0,35576,33424,23307,19719,14656,null,null,null,35576,33424,23307,19719,14656,null,null,null,0,35576,33424,23307,19719,14656]
[1,"1 Child",0,2257,1329,1120,944,696,null,null,null,2257,1329,1120,944,696,null,null,null,{"$f":"K470","v":0},{"$f":"L470*$P$2","v":2257},{"$f":"M470*$P$2","v":1329},1120,944,696]
[2,"2 Children",0,3800,1987,1757,1490,1103,null,null,null,3800,1987,1757,1490,1103,null,null,null,{"$f":"K471","v":0},{"$f":"L471*$P$2","v":3800},{"$f":"M471*$P$2","v":1987},{"$f":"N471*$P$2","v":1757},{"$f":"O471*$P$2","v":1490},{"$f":"P471*$P$2","v":1103}]
[3,"3+ Children",0,5582,2850,2551,2155,1594,null,null,null,5582,2850,2551,2155,1594,null,null,null,0,5582,2850,2551,2155,1594]
[1,"Rider Comp. Maternidad",null,225,225,225,225,225]
[1,"Transplante de organos",null,300,300,300,300,300]
[]
[]
[]
[]
["TARIFAS SEMESTRALES "]
["EDAD"]
[" "," ",null,"SE2","SE3","SE4","SE5","SE6"]
[18,"18-24",{"$f":"+C446*$G$2","v":0},2383.7400000000002,1870.17,1412.19,1199.52,909.84]
[25,"25-29",{"$f":"+C447*$G$2","v":0},2630.58,2110.38,1574.3700000000001,1337.22,1012.86]
[30,"30-34",{"$f":"+C448*$G$2","v":0},3014.61,2477.0700000000002,1827.33,1553.97,1173.51]
[35,"35-39",{"$f":"+C449*$G$2","v":0},3318.57,2767.77,2033.3700000000001,1725.33,1298.97]
[40,"40-44",{"$f":"+C450*$G$2","v":0},3719.94,3157.41,2296.5300000000002,1948.71,1467.27]
[45,"45-49",{"$f":"+C451*$G$2","v":0},4280.43,3705.15,2673.42,2264.91,1702.38]
[50,"50-54",{"$f":"+C452*$G$2","v":0},4672.62,4077.96,2931.9900000000002,2484.7200000000003,1862.01]
[55,"55-59",{"$f":"+C453*$G$2","v":0},5490.66,4866.42,3477.18,2947.8,2204.2200000000003]
[60,"60",{"$f":"+C454*$G$2","v":0},5746.68,5203.0200000000004,3681.1800000000003,3117.12,2332.7400000000002]
[61,"61",{"$f":"+C455*$G$2","v":0},6473.43,5854.29,4143.24,3510.84,2627.52]
[62,"62",{"$f":"+C456*$G$2","v":0},{"$f":"+D456*$G$2","v":7194.06},6509.64,4611.42,3903.03,2922.81]
[63,"63",{"$f":"+C457*$G$2","v":0},7913.16,7161.42,5071.4400000000005,4296.24,3218.61]
[64,"64",{"$f":"+C458*$G$2","v":0},8639.4,7815.24,5537.07,4687.92,3511.86]
[65,"65",{"$f":"+C459*$G$2","v":0},8645.01,7889.1900000000005,5569.2,4714.95,3524.61]
[66,"66",{"$f":"+C460*$G$2","v":0},8654.7000000000007,7965.6900000000005,5600.31,4736.88,3535.32]
[67,"67",{"$f":"+C461*$G$2","v":0},9623.7000000000007,8853.6,6223.53,5270.85,3931.59]
[68,"68",{"$f":"+C462*$G$2","v":0},10585.050000000001,9736.41,6851.34,5797.68,4329.8999999999996]
[69,"69",{"$f":"+C463*$G$2","v":0},11069.04,10177.56,7163.97,6060.33,4528.29]
[70,"70",{"$f":"+C464*$G$2","v":0},11087.4,10350.960000000001,7235.88,6121.53,4549.2]
[71,"71",{"$f":"+C465*$G$2","v":0},12476.130000000001,11651.460000000001,8146.2300000000005,6889.59,5123.46]
[72,"72",{"$f":"+C466*$G$2","v":0},{"$f":"+D466*$G$2","v":13868.94},12949.92,9056.07,7656.63,5692.62]
[73,"73",{"$f":"+C467*$G$2","v":0},15257.67,14242.77,9961.32,8425.7100000000009,6265.86]
[74,"74",{"$f":"+C468*$G$2","v":0},16646.91,15540.720000000001,10871.67,9194.7900000000009,6838.59]
[75,"75+",{"$f":"+C469*$G$2","v":0},18143.760000000002,17046.240000000002,11886.57,10056.69,7474.56]
[1,"1 Child",{"$f":"+C470*$G$2","v":0},1151.07,677.79,571.20000000000005,481.44,354.96]
[2,"2 Children",{"$f":"+C471*$G$2","v":0},1938,1013.37,896.07,759.9,562.53]
[3,"3+ Children",{"$f":"+C472*$G$2","v":0},2846.82,1453.5,1301.01,1099.05,812.94]
[1,"Rider Comp. Maternidad",null,114.75,114.75,114.75,114.75,114.75]
[1,"Transplante de organos",null,153,153,153,153,153]
[]
[]
[]
[]
["ESSENTIAL"]
["TARIFAS ANUALES"]
["EDAD"]
[" "," ","ET1","ET2","ET3","ET4","ET5","ET6"]
[18,"18-24",{"$f":"K519","v":0},{"$f":"S519","v":3927},{"$f":"T519","v":3083},{"$f":"U519","v":2323},{"$f":"V519","v":1969},{"$f":"W519","v":1499},null,null,null,3927,3083,2323,1969,1499,null,{"$f":"K519*$Q$2","v":0},{"$f":"(L519-50)*$Q$2+50","v":3927},{"$f":"(M519-50)*$Q$2+50","v":3083},2323,1969,1499]
[25,"25-29",{"$f":"K520","v":0},4331,3470,2591,2203,1664,null,null,null,4331,3470,2591,2203,1664,null,{"$f":"K520*$Q$2","v":0},{"$f":"(L520-50)*$Q$2+50","v":4331},{"$f":"(M520-50)*$Q$2+50","v":3470},{"$f":"(N520-50)*$Q$2+50","v":2591},{"$f":"(O520-50)*$Q$2+50","v":2203},{"$f":"(P520-50)*$Q$2+50","v":1664}]
[30,"30-34",0,4964,4077,3010,2555,1923,null,null,null,4964,4077,3010,2555,1923,null,0,4964,4077,3010,2555,1923]
[35,"35-39",0,5474,4567,3348,2839,2141,null,null,null,5474,4567,3348,2839,2141,null,0,5474,4567,3348,2839,2141]
[40,"40-44",0,6133,5209,3778,3209,2414,null,null,null,6133,5209,3778,3209,2414,null,0,6133,5209,3778,3209,2414]
[45,"45-49",0,7062,6108,4412,3737,2807,null,null,null,7062,6108,4412,3737,2807,null,0,7062,6108,4412,3737,2807]
[50,"50-54",0,7709,6728,4836,4103,3069,null,null,null,7709,6728,4836,4103,3069,null,0,7709,6728,4836,4103,3069]
[55,"55-59",0,9054,8034,5734,4852,3634,null,null,null,9054,8034,5734,4852,3634,null,0,9054,8034,5734,4852,3634]
[60,"60",0,9480,8585,6071,5141,3844,null,null,null,9480,8585,6071,5141,3844,null,0,9480,8585,6071,5141,3844]
[61,"61",0,10676,9666,6840,5785,4332,null,null,null,10676,9666,6840,5785,4332,null,0,10676,9666,6840,5785,4332]
[62,"62",0,11875,10741,7604,6438,4821,null,null,null,11875,10741,7604,6438,4821,null,0,11875,10741,7604,6438,4821]
[63,"63",0,13065,11824,8370,7084,5305,null,null,null,13065,11824,8370,7084,5305,null,0,13065,11824,8370,7084,5305]
[64,"64",0,14251,12900,9138,7737,5793,null,null,null,14251,12900,9138,7737,5793,null,0,14251,12900,9138,7737,5793]
[65,"65",0,14271,13028,9192,7777,5814,null,null,null,14271,13028,9192,7777,5814,null,0,14271,13028,9192,7777,5814]
[66,"66",0,14282,13148,9249,7818,5838,null,null,null,14282,13148,9249,7818,5838,null,0,14282,13148,9249,7818,5838]
[67,"67",0,15882,14613,10277,8696,6489,null,null,null,15882,14613,10277,8696,6489,null,0,15882,14613,10277,8696,6489]
[68,"68",0,17472,16080,11305,9567,7148,null,null,null,17472,16080,11305,9567,7148,null,0,17472,16080,11305,9567,7148]
[69,"69",0,18273,16806,11829,10006,7471,null,null,null,18273,16806,11829,10006,7471,null,0,18273,16806,11829,10006,7471]
[70,"70",0,18301,17100,11949,10101,7513,null,null,null,18301,17100,11949,10101,7513,null,0,18301,17100,11949,10101,7513]
[71,"71",0,20594,19241,13448,11377,8459,null,null,null,20594,19241,13448,11377,8459,null,0,20594,19241,13448,11377,8459]
[72,"72",0,22895,21378,14946,12642,9391,null,null,null,22895,21378,14946,12642,9391,null,0,22895,21378,14946,12642,9391]
[73,"73",0,25186,23520,16446,13909,10341,null,null,null,25186,23520,16446,13909,10341,null,0,25186,23520,16446,13909,10341]
[74,"74",0,27486,25665,17942,15182,11286,null,null,null,27486,25665,17942,15182,11286,null,0,27486,25665,17942,15182,11286]
[75,"75+",0,29952,28146,19630,16598,12333,null,null,null,29952,28146,19630,16598,12333,null,0,29952,28146,19630,16598,12333]
[1,"1 Child",0,1901,1127,945,793,588,null,null,null,1901,1127,945,793,588,null,0,{"$f":"L543*$Q$2","v":1901},{"$f":"M543*$Q$2","v":1127},945,793,588]
[2,"2 Children",0,3205,1670,1480,1252,931,null,null,null,3205,1670,1480,1252,931,null,0,{"$f":"L544*$Q$2","v":3205},{"$f":"M544*$Q$2","v":1670},{"$f":"N544*$Q$2","v":1480},{"$f":"O544*$Q$2","v":1252},{"$f":"P544*$Q$2","v":931}]
[3,"3+ Children",0,4704,2400,2155,1815,1346,null,null,null,4704,2400,2155,1815,1346,null,0,4704,2400,2155,1815,1346]
[1,"Rider Comp. Maternidad",null,225,225,225,225,225]
[1,"Transplante de organos",null,300,300,300,300,300]
[]
[]
[]
["TARIFAS SEMESTRALES "]
["EDAD"]
[" "," ","ET1","ET2","ET3","ET4","ET5","ET6"]
[18,"18-24",{"$f":"+C519*$G$2","v":0},2002.77,1572.33,1184.73,1004.19,764.49]
[25,"25-29",{"$f":"+C520*$G$2","v":0},2208.81,1769.7,1321.41,1123.53,848.64]
[30,"30-34",{"$f":"+C521*$G$2","v":0},2531.64,2079.27,1535.1000000000001,1303.05,980.73]
[35,"35-39",{"$f":"+C522*$G$2","v":0},2791.7400000000002,2329.17,1707.48,1447.89,1091.9100000000001]
[40,"40-44",{"$f":"+C523*$G$2","v":0},3127.83,2656.59,1926.78,1636.59,1231.1400000000001]
[45,"45-49",{"$f":"+C524*$G$2","v":0},3601.62,3115.08,2250.12,1905.8700000000001,1431.57]
[50,"50-54",{"$f":"+C525*$G$2","v":0},3931.59,3431.28,2466.36,2092.5300000000002,1565.19]
[55,"55-59",{"$f":"+C526*$G$2","v":0},4617.54,4097.34,2924.34,2474.52,1853.3400000000001]
[60,"60",{"$f":"+C527*$G$2","v":0},4834.8,4378.3500000000004,3096.21,2621.91,1960.44]
[61,"61",{"$f":"+C528*$G$2","v":0},5444.76,4929.66,3488.4,2950.35,2209.3200000000002]
[62,"62",{"$f":"+C529*$G$2","v":0},{"$f":"+D529*$G$2","v":6056.25},5477.91,3878.04,3283.38,2458.71]
[63,"63",{"$f":"+C530*$G$2","v":0},6663.1500000000005,6030.24,4268.7,3612.84,2705.55]
[64,"64",{"$f":"+C531*$G$2","v":0},7268.01,6579,4660.38,3945.87,2954.43]
[65,"65",{"$f":"+C532*$G$2","v":0},7278.21,6644.28,4687.92,3966.27,2965.14]
[66,"66",{"$f":"+C533*$G$2","v":0},7283.82,6705.4800000000005,4716.99,3987.1800000000003,2977.38]
[67,"67",{"$f":"+C534*$G$2","v":0},8099.82,7452.63,5241.2700000000004,4434.96,3309.39]
[68,"68",{"$f":"+C535*$G$2","v":0},8910.7199999999993,8200.7999999999993,5765.55,4879.17,3645.48]
[69,"69",{"$f":"+C536*$G$2","v":0},9319.23,8571.06,6032.79,5103.0600000000004,3810.21]
[70,"70",{"$f":"+C537*$G$2","v":0},9333.51,8721,6093.99,5151.51,3831.63]
[71,"71",{"$f":"+C538*$G$2","v":0},10502.94,9812.91,6858.4800000000005,5802.27,4314.09]
[72,"72",{"$f":"+C539*$G$2","v":0},{"$f":"+D539*$G$2","v":11676.45},10902.78,7622.46,6447.42,4789.41]
[73,"73",{"$f":"+C540*$G$2","v":0},12844.86,11995.2,8387.4600000000009,7093.59,5273.91]
[74,"74",{"$f":"+C541*$G$2","v":0},14017.86,13089.15,9150.42,7742.82,5755.86]
[75,"75+",{"$f":"+C542*$G$2","v":0},15275.52,14354.460000000001,10011.299999999999,8464.98,6289.83]
[1,"1 Child",{"$f":"+C543*$G$2","v":0},969.51,574.77,481.95,404.43,299.88]
[2,"2 Children",{"$f":"+C544*$G$2","v":0},1634.55,851.7,754.80000000000007,638.52,474.81]
[3,"3+ Children",{"$f":"+C545*$G$2","v":0},2399.04,1224,1099.05,925.65,686.46]
[1,"Rider Comp. Maternidad",null,114.75,114.75,114.75,114.75,114.75]
[1,"Transplante de organos",null,153,153,153,153,153]
[]
[]
[]
[]
[]
["CRITICAL"]
["TARIFAS ANUALES",null,null,null,null,null,null,null,null,null,null,null,null,null,null,null,null,null,null,null,null,"ORIGINAL RATES",null,null,null,null,null,null,null,null,null,null,null,null,null,null,null,null,null,null,null,null,"DISCOUNTS APPLIED"]
["EDAD"]
[" "," ","CR1",null,null,"CR2",null,null,"CR3",null,null,"CR4",null,null,"CR5",null,null,"CR6",null,null,null," "," ","CR1",null,null,"CR2",null,null,"CR3",null,null,"CR4",null,null,"CR5",null,null,"CR6",null,null,null," "," ","CR1",null,null,"CR2",null,null,"CR3",null,null,"CR4",null,null,"CR5",null,null,"CR6"]
[null,null,"INDIVIDUAL","2 PERSONAS","FAMILIAR","INDIVIDUAL","2 PERSONAS","FAMILIAR","INDIVIDUAL","2 PERSONAS","FAMILIAR","INDIVIDUAL","2 PERSONAS","FAMILIAR","INDIVIDUAL","2 PERSONAS","FAMILIAR","INDIVIDUAL","2 PERSONAS","FAMILIAR",null,null,null,"INDIVIDUAL","2 PERSONAS","FAMILIAR","INDIVIDUAL","2 PERSONAS","FAMILIAR","INDIVIDUAL","2 PERSONAS","FAMILIAR","INDIVIDUAL","2 PERSONAS","FAMILIAR","INDIVIDUAL","2 PERSONAS","FAMILIAR","INDIVIDUAL","2 PERSONAS","FAMILIAR",null,null,null,"INDIVIDUAL","2 PERSONAS","FAMILIAR","INDIVIDUAL","2 PERSONAS","FAMILIAR","INDIVIDUAL","2 PERSONAS","FAMILIAR","INDIVIDUAL","2 PERSONAS","FAMILIAR","INDIVIDUAL","2 PERSONAS","FAMILIAR","INDIVIDUAL","2 PERSONAS","FAMILIAR"]
[18,"-  49",{"$f":"AS593","v":0},{"$f":"AT593","v":0},0,0,0,0,0,0,0,0,0,0,0,0,0,{"$f":"BH593","v":0},{"$f":"BI593","v":0},{"$f":"BJ593","v":0},null,18,"-  49",null,null,null,null,null,null,null,null,null,null,null,null,null,null,null,null,null,null,null,18,"-  49",{"$f":"X593*$L$2","v":0},{"$f":"Y593*$L$2","v":0},0,0,0,0,0,0,0,0,0,0,0,0,0,0,0,0]
[50,"o más",{"$f":"AS594","v":0},{"$f":"AT594","v":0},{"$f":"AU594","v":0},{"$f":"AV594","v":0},{"$f":"AW594","v":0},{"$f":"AX594","v":0},{"$f":"AY594","v":0},{"$f":"AZ594","v":0},{"$f":"BA594","v":0},{"$f":"BB594","v":0},{"$f":"BC594","v":0},{"$f":"BD594","v":0},{"$f":"BE594","v":0},{"$f":"BF594","v":0},{"$f":"BG594","v":0},0,0,0,null,50,"o más",null,null,null,null,null,null,null,null,null,null,null,null,null,null,null,null,null,null,null,50,"o más",{"$f":"X594*$L$2","v":0},{"$f":"Y594*$L$2","v":0},{"$f":"Z594*$L$2","v":0},{"$f":"AA594*$L$2","v":0},{"$f":"AB594*$L$2","v":0},{"$f":"AC594*$L$2","v":0},{"$f":"AD594*$L$2","v":0},{"$f":"AE594*$L$2","v":0},{"$f":"AF594*$L$2","v":0},{"$f":"AG594*$L$2","v":0},{"$f":"AH594*$L$2","v":0},{"$f":"AI594*$L$2","v":0},{"$f":"AJ594*$L$2","v":0},{"$f":"AK594*$L$2","v":0},{"$f":"AL594*$L$2","v":0},{"$f":"AM594*$L$2","v":0},{"$f":"AN594*$L$2","v":0},{"$f":"AO594*$L$2","v":0}]
[]
["TARIFAS SEMESTRALES ",null,null,null,null,null,null,null,null,null,null,null,null,null,null,null,null,null,null,null,null,"TARIFAS SEMESTRALES ",null,null,null,null,null,null,null,null,null,null,null,null,null,null,null,null,null,null,null,null,"TARIFAS SEMESTRALES "]
["EDAD",null,null,null,null,null,null,null,null,null,null,null,null,null,null,null,null,null,null,null,null,"EDAD",null,null,null,null,null,null,null,null,null,null,null,null,null,null,null,null,null,null,null,null,"EDAD"]
[" "," ","CR1",null,null,"CR2",null,null,"CR3",null,null,"CR4",null,null,"CR5",null,null,"CR6",null,null,null," "," ","CR1",null,null,"CR2",null,null,"CR3",null,null,"CR4",null,null,"CR5",null,null,"CR6",null,null,null," "," ","CR1",null,null,"CR2",null,null,"CR3",null,null,"CR4",null,null,"CR5",null,null,"CR6"]
[null,null,"INDIVIDUAL","2 PERSONAS","FAMILIAR","INDIVIDUAL","2 PERSONAS","FAMILIAR","INDIVIDUAL","2 PERSONAS","FAMILIAR","INDIVIDUAL","2 PERSONAS","FAMILIAR","INDIVIDUAL","2 PERSONAS","FAMILIAR","INDIVIDUAL","2 PERSONAS","FAMILIAR",null,null,null,"INDIVIDUAL","2 PERSONAS","FAMILIAR","INDIVIDUAL","2 PERSONAS","FAMILIAR","INDIVIDUAL","2 PERSONAS","FAMILIAR","INDIVIDUAL","2 PERSONAS","FAMILIAR","INDIVIDUAL","2 PERSONAS","FAMILIAR","INDIVIDUAL","2 PERSONAS","FAMILIAR",null,null,null,"INDIVIDUAL","2 PERSONAS","FAMILIAR","INDIVIDUAL","2 PERSONAS","FAMILIAR","INDIVIDUAL","2 PERSONAS","FAMILIAR","INDIVIDUAL","2 PERSONAS","FAMILIAR","INDIVIDUAL","2 PERSONAS","FAMILIAR","INDIVIDUAL","2 PERSONAS","FAMILIAR"]
[18,"-  49",{"$f":"AS600","v":0},{"$f":"AT600","v":0},0,0,0,0,0,0,0,0,0,0,0,0,0,{"$f":"BH600","v":0},{"$f":"BI600","v":0},{"$f":"BJ600","v":0},null,18,"-  49",{"$f":"+X593*$G$2","v":0},0,0,0,0,0,0,0,0,0,0,0,0,0,0,0,0,0,null,18,"-  25",{"$f":"+AS593*$G$2","v":0},0,0,0,0,0,0,0,0,0,0,0,0,0,0,0,0,0]
[50,"o más",{"$f":"AS601","v":0},{"$f":"AT601","v":0},{"$f":"AU601","v":0},{"$f":"AV601","v":0},{"$f":"AW601","v":0},{"$f":"AX601","v":0},{"$f":"AY601","v":0},{"$f":"AZ601","v":0},{"$f":"BA601","v":0},{"$f":"BB601","v":0},{"$f":"BC601","v":0},{"$f":"BD601","v":0},{"$f":"BE601","v":0},{"$f":"BF601","v":0},{"$f":"BG601","v":0},0,0,0,null,50,"o más",{"$f":"+X594*$G$2","v":0},0,0,0,0,0,0,0,0,0,0,0,0,0,0,0,0,0,null,75,"o más",{"$f":"+AS594*$G$2","v":0},0,0,0,0,0,0,0,0,0,0,0,0,0,0,0,0,0]

{"sheet":"2","index":8,"n_rows":596,"n_cols":20,"rows_kept":596,"cut":false,"hidden":true,"merged":[[1,8,1,9],[4,0,4,7],[4,10,4,11],[5,0,5,7],[5,16,5,17],[6,0,6,1],[6,2,6,6],[111,0,111,7],[112,0,112,1],[112,2,112,6],[147,0,147,7],[148,0,148,7],[149,0,149,1],[149,2,149,6],[40,0,40,7],[41,0,41,1],[41,2,41,6],[77,0,77,7],[78,0,78,7],[79,0,79,1],[79,2,79,6],[253,0,253,7],[254,0,254,1],[254,2,254,6],[292,0,292,7],[293,0,293,7],[294,0,294,1],[294,2,294,6],[183,0,183,7],[184,0,184,1],[184,2,184,6],[219,0,219,7],[220,0,220,7],[221,0,221,1],[221,2,221,6],[399,0,399,7],[400,0,400,1],[400,2,400,6],[435,0,435,7],[436,0,436,7],[437,0,437,1],[437,2,437,6],[328,0,328,7],[329,0,329,1],[329,2,329,6],[365,0,365,7],[366,0,366,7],[367,0,367,1],[367,2,367,6],[544,0,544,7],[545,0,545,1],[545,2,545,6],[583,0,583,1],[583,2,583,6],[472,0,472,7],[473,0,473,1],[473,2,473,6],[508,0,508,7],[509,0,509,7],[510,0,510,1],[510,2,510,6],[582,0,582,19],[581,0,581,19],[591,38,591,39],[591,40,591,44],[584,46,584,48],[584,49,584,51],[584,52,584,54],[590,0,590,16],[590,19,590,35],[590,38,590,54],[584,24,584,26],[584,27,584,29],[584,30,584,32],[584,33,584,35],[584,40,584,42],[584,43,584,45],[584,2,584,4],[584,5,584,7],[584,8,584,10],[584,11,584,13],[584,14,584,16],[584,21,584,23],[584,17,584,19],[592,2,592,4],[592,5,592,7],[592,8,592,10],[592,11,592,13],[592,14,592,16],[592,21,592,23],[591,0,591,1],[591,2,591,6],[591,19,591,20],[591,21,591,25],[592,46,592,48],[592,49,592,51],[592,52,592,54],[592,24,592,26],[592,27,592,29],[592,30,592,32],[592,33,592,35],[592,40,592,42],[592,43,592,45]]}
[null,null,null,null,null,null,null,null,null,null,"D1","D2","D3","D4","D5","D6"]
[null,"REGIÓN",{"$f":"'INSURED INFORMATION'!W14","v":8},null,"FACTOR SEMESTRAL :",null,0.53,null,"NEW BUSINESS DISCUOUNTS",null,{"$f":"'INSURED INFORMATION'!P53","v":1},{"$f":"'INSURED INFORMATION'!Q53","v":1},{"$f":"'INSURED INFORMATION'!R53","v":1},{"$f":"'INSURED INFORMATION'!S53","v":1},{"$f":"'INSURED INFORMATION'!T53","v":1},{"$f":"'INSURED INFORMATION'!U53","v":1}]
[]
[]
["BUPA EXCLUSIVE CARE"]
["TARIFAS ANUALES"]
["EDAD"]
[" "," ","DW1","DW2","DW3","DW4","DW5","DW6"]
[18,"18-24",null,23060,15229,9895,6830,5368]
[25,"25-29",null,24186,16831,10959,7574,5948]
[30,"30-34",null,25168,18060,12280,9078,7153]
[35,"35-39",null,28180,20215,13774,10182,8014]
[40,"40-44",null,32673,22121,15283,11202,8811]
[45,"45-49",null,36535,24737,17086,12524,9860]
[50,"50-54",null,46762,32471,22306,17693,13944]
[55,"55-59",null,49760,34552,23734,18834,14847]
[60,"60",null,54212,37705,27319,22696,18450]
[61,"61",null,58244,40509,29340,24400,19829]
[62,"62",null,63769,44373,32133,26705,21716]
[63,"63",null,67807,47175,34163,28406,23090]
[64,"64",null,73358,51053,36969,30731,24994]
[65,"65",null,95905,66594,46755,40996,35257]
[66,"66",null,111420,77397,54336,47657,40969]
[67,"67",null,121703,84530,59354,52039,44755]
[68,"68",null,134765,93601,65717,57640,49564]
[69,"69",null,148281,102980,72314,63415,54544]
[70,"70",null,182509,125410,85140,73915,64159]
[71,"71",null,189671,130330,88482,76817,66683]
[72,"72",null,195048,134020,90978,78985,68573]
[73,"73",null,202210,138953,94318,81904,71098]
[74,"74",null,205793,141403,96004,83349,72350]
[75,"75+",null,214758,147559,100171,86982,75503]
[1,"1 Child",null,8022,5908,4435,3642,2839]
[2,"2 Children",null,12757,9410,7056,5782,4495]
[3,"3+ Children",null,18703,13797,10330,8471,6591]
[1,"Rider Comp. Maternidad",null,0,0,225,225,225]
[1,"Transplante de organos",null,0,0,0,0,0]
[]
[]
[]
["TARIFAS SEMESTRALES "]
["EDAD"]
[" "," ",null,"DW2","DW3","DW4","DW5","DW6"]
[18,"18-24",null,{"$f":"$G$2*D9","v":12221.800000000001},8071.3700000000008,5244.35,3619.9,2845.04]
[25,"25-29",null,12818.58,8920.43,5808.27,4014.2200000000003,3152.44]
[30,"30-34",null,13339.04,9571.8000000000011,6508.4000000000005,4811.34,3791.09]
[35,"35-39",null,14935.400000000001,10713.95,7300.22,5396.46,4247.42]
[40,"40-44",null,17316.690000000002,11724.130000000001,8099.9900000000007,5937.06,4669.83]
[45,"45-49",null,19363.55,13110.61,9055.58,6637.72,5225.8]
[50,"50-54",null,24783.86,17209.63,11822.18,9377.2900000000009,7390.3200000000006]
[55,"55-59",null,26372.800000000003,18312.560000000001,12579.02,9982.02,7868.9100000000008]
[60,"60",null,28732.36,19983.650000000001,14479.070000000002,12028.880000000001,9778.5]
[61,"61",null,30869.320000000003,21469.77,15550.2,12932,10509.37]
[62,"62",null,{"$f":"$G$2*D19","v":33797.57},23517.690000000002,17030.490000000002,14153.650000000001,11509.480000000001]
[63,"63",null,35937.71,25002.75,18106.39,15055.18,12237.7]
[64,"64",null,38879.740000000005,27058.09,19593.57,16287.43,13246.820000000002]
[65,"65",null,50829.65,35294.82,24780.15,21727.88,18686.21]
[66,"66",null,59052.600000000006,41020.410000000003,28798.080000000002,25258.210000000003,21713.57]
[67,"67",null,64502.590000000004,44800.9,31457.620000000003,27580.670000000002,23720.15]
[68,"68",null,71425.45,49608.530000000006,34830.01,30549.200000000001,26268.920000000002]
[69,"69",null,78588.930000000008,54579.4,38326.420000000006,33609.950000000004,28908.32]
[70,"70",null,96729.77,66467.3,45124.200000000004,39174.950000000004,34004.270000000004]
[71,"71",null,100525.63,69074.900000000009,46895.46,40713.01,35341.990000000005]
[72,"72",null,{"$f":"$G$2*D29","v":103375.44},71030.600000000006,48218.340000000004,41862.050000000003,36343.69]
[73,"73",null,107171.3,73645.09,49988.54,43409.120000000003,37681.94]
[74,"74",null,109070.29000000001,74943.59,50882.12,44174.97,38345.5]
[75,"75+",null,113821.74,78206.27,53090.630000000005,46100.46,40016.590000000004]
[1,"1 Child",null,4251.66,3131.2400000000002,2350.5500000000002,1930.26,1504.67]
[2,"2 Children",null,6761.21,4987.3,3739.6800000000003,3064.46,2382.35]
[3,"3+ Children",null,9912.59,7312.4100000000008,5474.9000000000005,4489.63,3493.23]
[1,"Rider Comp. Maternidad",null,{"$f":"+D36*$G$2","v":0},0,119.25,119.25,119.25]
[1,"Transplante de organos",null,0,0,0,0,0]
[]
[]
[]
[]
[]
["DIAMOND (LATINAMERICA ONLY)"]
["TARIFAS ANUALES"]
["EDAD"]
[" "," ","DL1","DL2","DL3","DL4","DL5","DL6"]
[18,"-  24"]
[25,"-  29"]
[30,"-  34"]
[35,"-  39"]
[40,"-  44"]
[45,"-  49"]
[50,"-  54"]
[55,"-  59"]
[60]
[61]
[62]
[63]
[64]
[65]
[66]
[67]
[68]
[69]
[70]
[71]
[72]
[73]
[74]
[75,"o más"]
[1,"Hijo"]
[2,"Hijos"]
[3,"Hijos o más"]
[1,"Rider Comp. Maternidad"]
[1,"Transplante de organos",0,0,0,0,0,0]
[]
["TARIFAS SEMESTRALES "]
["EDAD"]
[" "," ","DL1","DL2","DL3","DL4","DL5","DL6"]
[18,"-  24",{"$f":"+C82*$G$2","v":0},0,0,0,0,0]
[25,"-  29",0,0,0,0,0,0]
[30,"-  34",0,0,0,0,0,0]
[35,"-  39",0,0,0,0,0,0]
[40,"-  44",0,0,0,0,0,0]
[45,"-  49",0,0,0,0,0,0]
[50,"-  54",0,0,0,0,0,0]
[55,"-  59",0,0,0,0,0,0]
[60,null,0,0,0,0,0,0]
[61,null,0,0,0,0,0,0]
[62,null,{"$f":"+C92*$G$2","v":0},0,0,0,0,0]
[63,null,0,0,0,0,0,0]
[64,null,0,0,0,0,0,0]
[65,null,0,0,0,0,0,0]
[66,null,0,0,0,0,0,0]
[67,null,0,0,0,0,0,0]
[68,null,0,0,0,0,0,0]
[69,null,0,0,0,0,0,0]
[70,null,0,0,0,0,0,0]
[71,null,0,0,0,0,0,0]
[72,null,{"$f":"+C102*$G$2","v":0},0,0,0,0,0]
[73,null,0,0,0,0,0,0]
[74,null,0,0,0,0,0,0]
[75,"o más",0,0,0,0,0,0]
[1,"Hijo",0,0,0,0,0,0]
[2,"Hijos",0,0,0,0,0,0]
[3,"Hijos o más",0,0,0,0,0,0]
[1,"Rider Comp. Maternidad",0,0,0,0,0,0]
[1,"Transplante de organos",0,0,0,0,0,0]
[]
[]
[]
[]
["BUPA PRIVILEGE CARE"]
["TARIFAS ANUALES"]
["EDAD"]
[" "," ","CW1","CW2","CW3","CW4","CW5","CW6"]
[18,"18-24",null,19400,13337,8612,5945,4521]
[25,"25-29",null,20352,14758,9537,6586,5017]
[30,"30-34",null,21239,15785,10702,7967,6076]
[35,"35-39",null,23796,17671,11992,8925,6819]
[40,"40-44",null,27545,19376,13331,9837,7509]
[45,"45-49",null,30775,21654,14911,10997,8401]
[50,"50-54",null,40233,28561,19576,15706,12003]
[55,"55-59",null,42813,30393,20825,16713,12780]
[60,"60",null,46626,33003,23713,19884,15954]
[61,"61",null,50087,35445,25466,21354,17143]
[62,"62",null,54823,38815,27884,23384,18774]
[63,"63",null,58296,41272,29644,24868,19969]
[64,"64",null,63061,44650,32076,26893,21610]
[65,"65",null,82436,58252,40555,35866,30456]
[66,"66",null,95765,67679,47118,41691,35396]
[67,"67",null,104597,73923,51466,45533,38656]
[68,"68",null,115812,81835,56989,50417,42794]
[69,"69",null,127421,90042,62694,55471,47100]
[70,"70",null,156811,109649,73803,64629,55400]
[71,"71",null,162966,113944,76704,67174,57579]
[72,"72",null,167589,117166,78873,69079,59208]
[73,"73",null,173731,121474,81764,71611,61398]
[74,"74",null,176830,123629,83221,72880,62471]
[75,"75+",null,184509,129008,86838,76049,65188]
[1,"1 Child",null,6721,4921,3508,2872,2131]
[2,"2 Children",null,10704,7828,5573,4560,3385]
[3,"3+ Children",null,15688,11467,8161,6683,4961]
[1,"Rider Comp. Maternidad",null,0,0,225,225,225]
[1,"Transplante de organos",null,0,0,0,0,0]
[]
[]
[]
["TARIFAS SEMESTRALES "]
["EDAD"]
[" "," ",null,"CW2","CW3","CW4","CW5","CW6"]
[18,"18-24",null,{"$f":"$G$2*D152","v":10282},7068.6100000000006,4564.3600000000006,3150.8500000000004,2396.13]
[25,"25-29",null,10786.560000000001,7821.7400000000007,5054.6100000000006,3490.5800000000004,2659.01]
[30,"30-34",null,11256.67,8366.0500000000011,5672.06,4222.51,3220.28]
[35,"35-39",null,12611.880000000001,9365.630000000001,6355.76,4730.25,3614.07]
[40,"40-44",null,14598.85,10269.280000000001,7065.43,5213.6100000000006,3979.77]
[45,"45-49",null,16310.75,11476.62,7902.8300000000008,5828.41,4452.5300000000007]
[50,"50-54",null,21323.49,15137.33,10375.280000000001,8324.18,6361.59]
[55,"55-59",null,22690.89,16108.29,11037.25,8857.8900000000012,6773.4000000000005]
[60,"60",null,24711.780000000002,17491.59,12567.890000000001,10538.52,8455.6200000000008]
[61,"61",null,26546.11,18785.850000000002,13496.980000000001,11317.62,9085.7900000000009]
[62,"62",null,{"$f":"$G$2*D162","v":29056.190000000002},20571.95,14778.52,12393.52,9950.2200000000012]
[63,"63",null,30896.880000000001,21874.16,15711.320000000002,13180.04,10583.57]
[64,"64",null,33422.33,23664.5,17000.280000000002,14253.29,11453.300000000001]
[65,"65",null,43691.08,30873.56,21494.15,19008.98,16141.68]
[66,"66",null,50755.450000000004,35869.870000000003,24972.54,22096.23,18759.88]
[67,"67",null,55436.41,39179.19,27276.98,24132.49,20487.68]
[68,"68",null,61380.36,43372.55,30204.170000000002,26721.010000000002,22680.82]
[69,"69",null,67533.13,47722.26,33227.82,29399.63,24963]
[70,"70",null,83109.83,58113.97,39115.590000000004,34253.370000000003,29362]
[71,"71",null,86371.98000000001,60390.32,40653.120000000003,35602.22,30516.870000000003]
[72,"72",null,{"$f":"$G$2*D172","v":88822.17},62097.98,41802.69,36611.870000000003,31380.240000000002]
[73,"73",null,92077.430000000008,64381.22,43334.920000000006,37953.83,32540.940000000002]
[74,"74",null,93719.900000000009,65523.37,44107.130000000005,38626.400000000001,33109.630000000005]
[75,"75+",null,97789.77,68374.240000000005,46024.14,40305.97,34549.64]
[1,"1 Child",null,3562.13,2608.13,1859.24,1522.16,1129.43]
[2,"2 Children",null,5673.12,4148.84,2953.69,2416.8000000000002,1794.0500000000002]
[3,"3+ Children",null,8314.6400000000012,6077.51,4325.33,3541.9900000000002,2629.33]
[1,"Rider Comp. Maternidad",null,{"$f":"+D179*$G$2","v":0},0,119.25,119.25,119.25]
[1,"Transplante de organos",null,0,0,0,0,0]
[]
[]
[]
[]
["COMPLETE (LATINAMERICA ONLY)"]
["TARIFAS ANUALES"]
["EDAD"]
[" "," ","CL1","CL2","CL3","CL4","CL5","CL6"]
[18,"-  24"]
[25,"-  29"]
[30,"-  34"]
[35,"-  39"]
[40,"-  44"]
[45,"-  49"]
[50,"-  54"]
[55,"-  59"]
[60]
[61]
[62]
[63]
[64]
[65]
[66]
[67]
[68]
[69]
[70]
[71]
[72]
[73]
[74]
[75,"o más"]
[1,"Hijo"]
[2,"Hijos"]
[3,"Hijos o más"]
[1,"Rider Comp. Maternidad"]
[1,"Transplante de organos",0,0,0,0,0,0]
[]
["TARIFAS SEMESTRALES "]
["EDAD"]
[" "," ","CL1","CL2","CL3","CL4","CL5","CL6"]
[18,"-  24",{"$f":"+C224*$G$2","v":0},0,0,0,0,0]
[25,"-  29",0,0,0,0,0,0]
[30,"-  34",0,0,0,0,0,0]
[35,"-  39",0,0,0,0,0,0]
[40,"-  44",0,0,0,0,0,0]
[45,"-  49",0,0,0,0,0,0]
[50,"-  54",0,0,0,0,0,0]
[55,"-  59",0,0,0,0,0,0]
[60,null,0,0,0,0,0,0]
[61,null,0,0,0,0,0,0]
[62,null,{"$f":"+C234*$G$2","v":0},0,0,0,0,0]
[63,null,0,0,0,0,0,0]
[64,null,0,0,0,0,0,0]
[65,null,0,0,0,0,0,0]
[66,null,0,0,0,0,0,0]
[67,null,0,0,0,0,0,0]
[68,null,0,0,0,0,0,0]
[69,null,0,0,0,0,0,0]
[70,null,0,0,0,0,0,0]
[71,null,0,0,0,0,0,0]
[72,null,{"$f":"+C244*$G$2","v":0},0,0,0,0,0]
[73,null,0,0,0,0,0,0]
[74,null,0,0,0,0,0,0]
[75,"o más",0,0,0,0,0,0]
[1,"Hijo",0,0,0,0,0,0]
[2,"Hijos",0,0,0,0,0,0]
[3,"Hijos o más",0,0,0,0,0,0]
[1,"Rider Comp. Maternidad",0,0,0,0,0,0]
[1,"Transplante de organos",0,0,0,0,0,0]
[]
[]
[]
[]
[]
[]
[]
["BUPA ADVANTAGE CARE (WORLDWIDE)"]
["TARIFAS ANUALES"]
["EDAD"]
[" "," ",null,"AW2","AW3","AW4","AW5","AW6"]
[18,"18-24",null,13247,9950,6940,5135,4082]
[25,"25-29",null,14734,11109,7736,5740,4522]
[30,"30-34",null,17053,13058,9200,6817,5253]
[35,"35-39",null,18903,14528,10228,7760,5820]
[40,"40-44",null,21336,16475,11607,8675,6593]
[45,"45-49",null,24775,18969,13075,9876,7652]
[50,"50-54",null,27158,21326,15237,11077,8405]
[55,"55-59",null,32097,24619,16853,12836,9934]
[60,"60",null,35458,27259,18545,14154,11001]
[61,"61",null,39906,30684,20874,15940,12391]
[62,"62",null,44352,34105,23200,17729,13779]
[63,"63",null,48791,37521,25543,19508,15166]
[64,"64",null,53236,40942,27859,21293,16558]
[65,"65",null,57566,44560,30376,23190,18838]
[66,"66",null,60955,47184,32160,24563,19940]
[67,"67",null,67738,52448,35748,27301,22174]
[68,"68",null,74525,57698,39332,30033,24398]
[69,"69",null,77917,60323,41124,31405,25519]
[70,"70",null,78917,61281,41754,31988,25848]
[71,"71",null,88805,68966,46979,36003,29083]
[72,"72",null,98681,76629,52213,40018,32326]
[73,"73",null,108556,84306,57436,44036,35577]
[74,"74",null,118440,91988,62675,48043,38817]
[75,"75+",null,129567,102578,71883,52592,44539]
[1,"1 Child",null,5899,4209,3038,2592,1877]
[2,"2 Children",null,9598,6632,4790,4105,2768]
[3,"3+ Children",null,14053,9650,6981,5958,4189]
[1,"Rider Comp. Maternidad",null,225,225,225,225,225]
[1,"Transplante de organos",null,300,300,300,300,300]
[]
[]
[]
["TARIFAS SEMESTRALES "]
["EDAD"]
[" "," ",null,"AW2","AW3","AW4","AW5","AW6"]
[18,"18-24",null,{"$f":"+D297*$G$2","v":7020.9100000000008},5273.5,3678.2000000000003,2721.55,2163.46]
[25,"25-29",null,7809.02,5887.77,4100.08,3042.2000000000003,2396.6600000000003]
[30,"30-34",null,9038.09,6920.7400000000007,4876,3613.01,2784.09]
[35,"35-39",null,10018.59,7699.84,5420.84,4112.8,3084.6000000000004]
[40,"40-44",null,11308.08,8731.75,6151.71,4597.75,3494.29]
[45,"45-49",null,13130.75,10053.57,6929.75,5234.2800000000007,4055.5600000000004]
[50,"50-54",null,14393.740000000002,11302.78,8075.6100000000006,5870.81,4454.6500000000005]
[55,"55-59",null,17011.41,13048.070000000002,8932.09,6803.08,5265.02]
[60,"60",null,18792.740000000002,14447.27,9828.85,7501.6200000000008,5830.5300000000007]
[61,"61",null,21150.18,16262.52,11063.220000000001,8448.2000000000007,6567.2300000000005]
[62,"62",null,{"$f":"+D307*$G$2","v":23506.560000000001},18075.650000000001,12296,9396.3700000000008,7302.8700000000008]
[63,"63",null,25859.23,19886.13,13537.79,10339.24,8037.9800000000005]
[64,"64",null,28215.08,21699.260000000002,14765.27,11285.29,8775.74]
[65,"65",null,30509.980000000003,23616.800000000003,16099.28,12290.7,9984.1400000000012]
[66,"66",null,32306.15,25007.52,17044.8,13018.390000000001,10568.2]
[67,"67",null,35901.14,27797.440000000002,18946.440000000002,14469.53,11752.220000000001]
[68,"68",null,39498.25,30579.940000000002,20845.960000000003,15917.490000000002,12930.94]
[69,"69",null,41296.01,31971.190000000002,21795.72,16644.650000000001,13525.070000000002]
[70,"70",null,41826.01,32478.93,22129.620000000003,16953.64,13699.44]
[71,"71",null,47066.65,36551.980000000003,24898.870000000003,19081.59,15413.990000000002]
[72,"72",null,{"$f":"+D317*$G$2","v":52300.93},40613.370000000003,27672.890000000003,21209.54,17132.780000000002]
[73,"73",null,57534.68,44682.18,30441.08,23339.08,18855.810000000001]
[74,"74",null,62773.200000000004,48753.64,33217.75,25462.79,20573.010000000002]
[75,"75+",null,68670.510000000009,54366.340000000004,38097.990000000005,27873.760000000002,23605.670000000002]
[1,"1 Child",null,3126.4700000000003,2230.77,1610.14,1373.76,994.81000000000006]
[2,"2 Children",null,5086.9400000000005,3514.96,2538.7000000000003,2175.65,1467.04]
[3,"3+ Children",null,7448.09,5114.5,3699.9300000000003,3157.7400000000002,2220.17]
[1,"Rider Comp. Maternidad",null,119.25,119.25,119.25,119.25,119.25]
[1,"Transplante de organos",null,159,159,159,159,159]
[]
[]
[]
[]
[]
["ADVANTAGE (LATINAMERICA ONLY)"]
["TARIFAS ANUALES"]
["EDAD"]
[" "," ",null,"AL2","AL3","AL4","AL5","AL6"]
[18,"18-24",null,11240,8450,6003,4521,3578]
[25,"25-29",null,12522,9432,6676,5046,3960]
[30,"30-34",null,14491,11087,7953,5984,4611]
[35,"35-39",null,16068,12342,8853,6822,5116]
[40,"40-44",null,18135,13999,10040,7628,5791]
[45,"45-49",null,21074,16127,11319,8682,6734]
[50,"50-54",null,23095,18131,13196,9747,7397]
[55,"55-59",null,27290,20932,14596,11305,8747]
[60,"60",null,30152,23179,16056,12465,9685]
[61,"61",null,33942,26076,18072,14038,10913]
[62,"62",null,37722,29010,20091,15611,12132]
[63,"63",null,41505,31913,22117,17178,13360]
[64,"64",null,45292,34829,24140,18760,14569]
[65,"65",null,48973,37903,26303,20431,16582]
[66,"66",null,51857,40135,27861,21635,17581]
[67,"67",null,57634,44613,30968,24062,19536]
[68,"68",null,63406,49074,34077,26482,21499]
[69,"69",null,66294,51314,35619,27680,22488]
[70,"70",null,67143,52135,36169,28205,22786]
[71,"71",null,75557,58666,40705,31745,25636]
[72,"72",null,83973,65215,45242,35276,28498]
[73,"73",null,92378,71746,49775,38821,31358]
[74,"74",null,100789,78269,54304,42358,34218]
[75,"75+",null,110253,87280,62287,46373,39262]
[1,"1 Child",null,5009,3572,2624,2281,1656]
[2,"2 Children",null,8181,5634,4146,3620,2438]
[3,"3+ Children",null,11967,8220,6057,5241,3690]
[1,"Rider Comp. Maternidad"]
[1,"Transplante de organos"]
[]
["TARIFAS SEMESTRALES "]
["EDAD"]
[" "," ",null,"AL2","AL3","AL4","AL5","AL6"]
[18,"18-24",null,{"$f":"+D370*$G$2","v":5957.2000000000007},4478.5,3181.59,2396.13,1896.3400000000001]
[25,"25-29",null,6636.6600000000008,4998.96,3538.28,2674.38,2098.8000000000002]
[30,"30-34",null,7680.2300000000005,5876.1100000000006,4215.09,3171.52,2443.83]
[35,"35-39",null,8516.0400000000009,6541.26,4692.09,3615.6600000000003,2711.48]
[40,"40-44",null,9611.5500000000011,7419.47,5321.2,4042.84,3069.23]
[45,"45-49",null,11169.220000000001,8547.3100000000013,5999.0700000000006,4601.46,3569.02]
[50,"50-54",null,12240.35,9609.43,6993.88,5165.91,3920.4100000000003]
[55,"55-59",null,14463.7,11093.960000000001,7735.88,5991.6500000000005,4635.91]
[60,"60",null,15980.560000000001,12284.87,8509.68,6606.4500000000007,5133.05]
[61,"61",null,17989.260000000002,13820.28,9578.16,7440.14,5783.89]
[62,"62",null,{"$f":"+D380*$G$2","v":19992.66},15375.300000000001,10648.230000000001,8273.83,6429.96]
[63,"63",null,21997.65,16913.89,11722.01,9104.34,7080.8]
[64,"64",null,24004.760000000002,18459.370000000003,12794.2,9942.8000000000011,7721.5700000000006]
[65,"65",null,25955.690000000002,20088.59,13940.59,10828.43,8788.4600000000009]
[66,"66",null,27484.210000000003,21271.55,14766.33,11466.550000000001,9317.93]
[67,"67",null,30546.02,23644.89,16413.04,12752.86,10354.08]
[68,"68",null,33605.18,26009.22,18060.810000000001,14035.460000000001,11394.470000000001]
[69,"69",null,35135.82,27196.420000000002,18878.07,14670.400000000001,11918.640000000001]
[70,"70",null,35585.79,27631.550000000003,19169.57,14948.650000000001,12076.58]
[71,"71",null,40045.21,31092.980000000003,21573.65,16824.850000000002,13587.08]
[72,"72",null,{"$f":"+D390*$G$2","v":44505.69},34563.950000000004,23978.260000000002,18696.280000000002,15103.94]
[73,"73",null,48960.340000000004,38025.380000000005,26380.75,20575.13,16619.740000000002]
[74,"74",null,53418.170000000006,41482.57,28781.120000000003,22449.74,18135.54]
[75,"75+",null,58434.090000000004,46258.400000000001,33012.11,24577.690000000002,20808.86]
[1,"1 Child",null,2654.77,1893.16,1390.72,1208.93,877.68000000000006]
[2,"2 Children",null,4335.93,2986.02,2197.38,1918.6000000000001,1292.1400000000001]
[3,"3+ Children",null,6342.51,4356.6000000000004,3210.21,2777.73,1955.7]
[1,"Rider Comp. Maternidad",null,0,0,0,0,0]
[1,"Transplante de organos",null,0,0,0,0,0]
[]
[]
[]
[]
["BUPA SECURE CARE"]
["TARIFAS ANUALES"]
["EDAD"]
[" "," ",null,"SE2","SE3","SE4","SE5","SE6"]
[18,"18-24",null,10301,8075,5663,4806,3655]
[25,"25-29",null,11348,9094,6299,5357,4053]
[30,"30-34",null,12990,10692,7320,6220,4709]
[35,"35-39",null,14332,11969,8147,6924,5221]
[40,"40-44",null,16075,13647,9224,7824,5887]
[45,"45-49",null,18501,15998,10739,9115,6844]
[50,"50-54",null,20193,17623,11780,9994,7490]
[55,"55-59",null,23731,21039,13956,11834,8849]
[60,"60",null,24840,22487,14787,12535,9367]
[61,"61",null,27955,25312,16642,14115,10553]
[62,"62",null,31082,28126,18507,15698,11739]
[63,"63",null,34202,30961,20368,17276,12925]
[64,"64",null,37323,33793,22222,18853,14116]
[65,"65",null,37356,34112,22354,18961,14177]
[66,"66",null,37410,34422,22494,19051,14219]
[67,"67",null,41575,38267,24989,21192,15806]
[68,"68",null,45741,42098,27514,23317,17407]
[69,"69",null,47840,44016,28763,24382,18203]
[70,"70",null,47910,44760,29057,24623,18287]
[71,"71",null,53929,50370,32710,27703,20599]
[72,"72",null,59934,55985,36359,30808,22896]
[73,"73",null,65941,61599,40007,33895,25199]
[74,"74",null,71942,67207,43650,36987,27505]
[75,"75+",null,78406,73719,47753,40452,30044]
[1,"1 Child",null,4982,2933,2286,1926,1425]
[2,"2 Children",null,8400,4349,3602,3043,2258]
[3,"3+ Children",null,12314,6274,5229,4426,3275]
[1,"Rider Comp. Maternidad",null,225,225,225,225,225]
[1,"Transplante de organos",null,300,300,300,300,300]
[]
[]
[]
[]
["TARIFAS SEMESTRALES "]
["EDAD"]
[" "," ",null,"SE2","SE3","SE4","SE5","SE6"]
[18,"18-24",null,{"$f":"+D440*$G$2","v":5459.5300000000007},4279.75,3001.3900000000003,2547.1800000000003,1937.15]
[25,"25-29",null,6014.4400000000005,4819.8200000000006,3338.4700000000003,2839.21,2148.09]
[30,"30-34",null,6884.7000000000007,5666.76,3879.6000000000004,3296.6000000000004,2495.77]
[35,"35-39",null,7595.96,6343.5700000000006,4317.91,3669.7200000000003,2767.13]
[40,"40-44",null,8519.75,7232.9100000000008,4888.72,4146.72,3120.11]
[45,"45-49",null,9805.5300000000007,8478.94,5691.67,4830.95,3627.32]
[50,"50-54",null,10702.29,9340.19,6243.4000000000005,5296.8200000000006,3969.7000000000003]
[55,"55-59",null,12577.43,11150.67,7396.68,6272.02,4689.97]
[60,"60",null,13165.2,11918.11,7837.1100000000006,6643.55,4964.51]
[61,"61",null,14816.150000000001,13415.36,8820.26,7480.9500000000007,5593.09]
[62,"62",null,{"$f":"+D450*$G$2","v":16473.46},14906.78,9808.7100000000009,8319.94,6221.67]
[63,"63",null,18127.060000000001,16409.330000000002,10795.04,9156.2800000000007,6850.25]
[64,"64",null,19781.190000000002,17910.29,11777.66,9992.09,7481.4800000000005]
[65,"65",null,19798.68,18079.36,11847.62,10049.33,7513.81]
[66,"66",null,19827.3,18243.66,11921.82,10097.030000000001,7536.0700000000006]
[67,"67",null,22034.75,20281.510000000002,13244.17,11231.76,8377.18]
[68,"68",null,24242.73,22311.940000000002,14582.42,12358.01,9225.7100000000009]
[69,"69",null,25355.200000000001,23328.48,15244.390000000001,12922.460000000001,9647.59]
[70,"70",null,25392.300000000003,23722.800000000003,15400.210000000001,13050.19,9692.11]
[71,"71",null,28582.370000000003,26696.100000000002,17336.3,14682.59,10917.470000000001]
[72,"72",null,{"$f":"+D460*$G$2","v":31765.02},29672.050000000003,19270.27,16328.240000000002,12134.880000000001]
[73,"73",null,34948.730000000003,32647.47,21203.710000000003,17964.350000000002,13355.470000000001]
[74,"74",null,38129.26,35619.71,23134.5,19603.11,14577.650000000001]
[75,"75+",null,41555.18,39071.07,25309.09,21439.56,15923.320000000002]
[1,"1 Child",null,2640.46,1554.49,1211.5800000000002,1020.7800000000001,755.25]
[2,"2 Children",null,4452,2304.9700000000003,1909.0600000000002,1612.7900000000002,1196.74]
[3,"3+ Children",null,6526.42,3325.2200000000003,2771.3700000000003,2345.7800000000002,1735.75]
[1,"Rider Comp. Maternidad",null,119.25,119.25,119.25,119.25,119.25]
[1,"Transplante de organos",null,159,159,159,159,159]
[]
[]
[]
[]
["ESSENTIAL"]
["TARIFAS ANUALES"]
["EDAD"]
[" "," ",null,"ET2","ET3","ET4","ET5","ET6"]
[18,"18-24",null,8511,6661,4668,3975,3008]
[25,"25-29",null,9386,7509,5207,4436,3340]
[30,"30-34",null,10737,8838,6053,5148,3879]
[35,"35-39",null,11849,9904,6742,5716,4310]
[40,"40-44",null,13288,11295,7623,6473,4864]
[45,"45-49",null,15299,13245,8884,7535,5655]
[50,"50-54",null,16701,14581,9735,8256,6193]
[55,"55-59",null,19637,17413,11545,9799,7320]
[60,"60",null,20560,18612,12223,10371,7742]
[61,"61",null,23132,20958,13762,11676,8739]
[62,"62",null,25717,23293,15319,12989,9712]
[63,"63",null,28318,25630,16857,14302,10701]
[64,"64",null,30905,27984,18395,15605,11678]
[65,"65",null,30936,28240,18512,15690,11723]
[66,"66",null,30967,28508,18626,15769,11762]
[67,"67",null,34420,31692,20690,17534,13079]
[68,"68",null,37881,34881,22772,19301,14405]
[69,"69",null,39608,36453,23819,20183,15064]
[70,"70",null,39662,37065,24059,20379,15142]
[71,"71",null,44655,41724,27089,22942,17044]
[72,"72",null,49632,46371,30117,25510,18953]
[73,"73",null,54604,51021,33132,28068,20873]
[74,"74",null,59579,55660,36154,30638,22759]
[75,"75+",null,64929,61075,39551,33495,24873]
[1,"1 Child",null,4129,2431,1884,1599,1197]
[2,"2 Children",null,6956,3601,2980,2533,1871]
[3,"3+ Children",null,10203,5198,4335,3667,2712]
[1,"Rider Comp. Maternidad",null,225,225,225,225,225]
[1,"Transplante de organos",null,300,300,300,300,300]
[]
[]
[]
["TARIFAS SEMESTRALES "]
["EDAD"]
[" "," ",null,"ET2","ET3","ET4","ET5","ET6"]
[18,"18-24",null,{"$f":"+D513*$G$2","v":4510.83},3530.3300000000004,2474.04,2106.75,1594.24]
[25,"25-29",null,4974.58,3979.77,2759.71,2351.08,1770.2]
[30,"30-34",null,5690.6100000000006,4684.1400000000003,3208.09,2728.44,2055.87]
[35,"35-39",null,6279.97,5249.12,3573.26,3029.48,2284.3000000000002]
[40,"40-44",null,7042.64,5986.35,4040.19,3430.69,2577.92]
[45,"45-49",null,8108.47,7019.85,4708.5200000000004,3993.55,2997.15]
[50,"50-54",null,8851.5300000000007,7727.93,5159.55,4375.68,3282.29]
[55,"55-59",null,10407.61,9228.8900000000012,6118.85,5193.47,3879.6000000000004]
[60,"60",null,10896.800000000001,9864.36,6478.1900000000005,5496.63,4103.26]
[61,"61",null,12259.960000000001,11107.74,7293.8600000000006,6188.2800000000007,4631.67]
[62,"62",null,{"$f":"+D523*$G$2","v":13630.01},12345.29,8119.0700000000006,6884.17,5147.3600000000006]
[63,"63",null,15008.54,13583.900000000001,8934.2100000000009,7580.06,5671.5300000000007]
[64,"64",null,16379.650000000001,14831.52,9749.35,8270.65,6189.34]
[65,"65",null,16396.080000000002,14967.2,9811.36,8315.7000000000007,6213.1900000000005]
[66,"66",null,16412.510000000002,15109.240000000002,9871.7800000000007,8357.57,6233.8600000000006]
[67,"67",null,18242.600000000002,16796.760000000002,10965.7,9293.02,6931.8700000000008]
[68,"68",null,20076.93,18486.93,12069.16,10229.530000000001,7634.6500000000005]
[69,"69",null,20992.240000000002,19320.09,12624.070000000002,10696.99,7983.92]
[70,"70",null,21020.86,19644.45,12751.27,10800.87,8025.26]
[71,"71",null,23667.15,22113.72,14357.17,12159.26,9033.32]
[72,"72",null,{"$f":"+D533*$G$2","v":26304.960000000003},24576.63,15962.01,13520.300000000001,10045.09]
[73,"73",null,28940.120000000003,27041.13,17559.96,14876.04,11062.69]
[74,"74",null,31576.870000000003,29499.800000000003,19161.620000000003,16238.140000000001,12062.27]
[75,"75+",null,34412.370000000003,32369.75,20962.030000000002,17752.350000000002,13182.69]
[1,"1 Child",null,2188.37,1288.43,998.5200000000001,847.47,634.41000000000008]
[2,"2 Children",null,3686.6800000000003,1908.5300000000002,1579.4,1342.49,991.63]
[3,"3+ Children",null,5407.59,2754.94,2297.5500000000002,1943.51,1437.3600000000001]
[1,"Rider Comp. Maternidad",null,119.25,119.25,119.25,119.25,119.25]
[1,"Transplante de organos",null,159,159,159,159,159]
[]
[]
[]
[]
[]
["CRITICAL"]
["TARIFAS ANUALES"]
["EDAD"]
[" "," ","CR1",null,null,"CR2",null,null,"CR3",null,null,"CR4",null,null,"CR5",null,null,"CR6"]
[null,null,"INDIVIDUAL","2 PERSONAS","FAMILIAR","INDIVIDUAL","2 PERSONAS","FAMILIAR","INDIVIDUAL","2 PERSONAS","FAMILIAR","INDIVIDUAL","2 PERSONAS","FAMILIAR","INDIVIDUAL","2 PERSONAS","FAMILIAR","INDIVIDUAL","2 PERSONAS","FAMILIAR"]
[18,"-  49",4897,8627,12336,3967,6757,9570,3380,5820,8254,2683,4501,6335,2006,3247,4484,1280,1915,2523]
[50,"o más",6204,9919,13649,4994,7781,10601,4240,6669,9100,3312,5131,6956,2435,3671,4910,1490,2125,2736]
[]
[]
["TARIFAS SEMESTRALES "]
["EDAD"]
[" "," ","CR1",null,null,"CR2",null,null,"CR3",null,null,"CR4",null,null,"CR5"]
[null,null,"INDIVIDUAL","2 PERSONAS","FAMILIAR","INDIVIDUAL","2 PERSONAS","FAMILIAR","INDIVIDUAL","2 PERSONAS","FAMILIAR","INDIVIDUAL","2 PERSONAS","FAMILIAR","INDIVIDUAL","2 PERSONAS","FAMILIAR"]
[18,"-  25",{"$f":"AO595","v":0},{"$f":"AP595","v":0},0,0,0,0,0,0,0,0,0,0,0,0,0]
[75,"o más",{"$f":"AO596","v":0},0,0,0,0,0,0,0,0,0,0,0,0,0,0]

{"sheet":"3","index":9,"n_rows":596,"n_cols":20,"rows_kept":596,"cut":false,"hidden":true,"merged":[[1,8,1,9],[4,0,4,7],[4,10,4,11],[5,0,5,7],[5,16,5,17],[6,0,6,1],[6,2,6,6],[111,0,111,7],[112,0,112,1],[112,2,112,6],[147,0,147,7],[148,0,148,7],[149,0,149,1],[149,2,149,6],[40,0,40,7],[41,0,41,1],[41,2,41,6],[77,0,77,7],[78,0,78,7],[79,0,79,1],[79,2,79,6],[253,0,253,7],[254,0,254,1],[254,2,254,6],[292,0,292,7],[293,0,293,7],[294,0,294,1],[294,2,294,6],[183,0,183,7],[184,0,184,1],[184,2,184,6],[219,0,219,7],[220,0,220,7],[221,0,221,1],[221,2,221,6],[399,0,399,7],[400,0,400,1],[400,2,400,6],[435,0,435,7],[436,0,436,7],[437,0,437,1],[437,2,437,6],[328,0,328,7],[329,0,329,1],[329,2,329,6],[365,0,365,7],[366,0,366,7],[367,0,367,1],[367,2,367,6],[544,0,544,7],[545,0,545,1],[545,2,545,6],[583,0,583,1],[583,2,583,6],[472,0,472,7],[473,0,473,1],[473,2,473,6],[508,0,508,7],[509,0,509,7],[510,0,510,1],[510,2,510,6],[584,46,584,48],[584,49,584,51],[584,52,584,54],[590,0,590,16],[590,19,590,35],[590,38,590,54],[584,24,584,26],[584,27,584,29],[584,30,584,32],[584,33,584,35],[584,40,584,42],[584,43,584,45],[584,2,584,4],[584,5,584,7],[584,8,584,10],[584,11,584,13],[584,14,584,16],[584,21,584,23],[592,46,592,48],[592,49,592,51],[592,52,592,54],[584,17,584,19],[581,0,581,19],[582,0,582,19],[592,24,592,26],[592,27,592,29],[592,30,592,32],[592,33,592,35],[592,40,592,42],[592,43,592,45],[592,2,592,4],[592,5,592,7],[592,8,592,10],[592,11,592,13],[592,14,592,16],[592,21,592,23],[591,0,591,1],[591,2,591,6],[591,19,591,20],[591,21,591,25],[591,38,591,39],[591,40,591,44]]}
[null,null,null,null,null,null,null,null,null,null,"D1","D2","D3","D4","D5","D6"]
[null,"REGIÓN",{"$f":"'INSURED INFORMATION'!W14","v":8},null,"FACTOR SEMESTRAL :",null,0.53,null,"NEW BUSINESS DISCUOUNTS",null,{"$f":"'INSURED INFORMATION'!P53","v":1},{"$f":"'INSURED INFORMATION'!Q53","v":1},{"$f":"'INSURED INFORMATION'!R53","v":1},{"$f":"'INSURED INFORMATION'!S53","v":1},{"$f":"'INSURED INFORMATION'!T53","v":1},{"$f":"'INSURED INFORMATION'!U53","v":1}]
[]
[]
["BUPA EXCLUSIVE CARE"]
["TARIFAS ANUALES"]
["EDAD"]
[" "," ","DW1","DW2","DW3","DW4","DW5","DW6"]
[18,"18-24",null,22314,14739,9665,6731,5301]
[25,"25-29",null,23399,16287,10708,7475,5870]
[30,"30-34",null,24342,17470,11989,8949,7058]
[35,"35-39",null,27262,19562,13443,10037,7906]
[40,"40-44",null,31616,21397,14917,11044,8686]
[45,"45-49",null,35343,23928,16687,12338,9719]
[50,"50-54",null,45234,31418,21771,17438,13750]
[55,"55-59",null,48128,33424,23169,18561,14634]
[60,"60",null,52438,36476,26658,22359,18191]
[61,"61",null,56345,39184,28636,24041,19544]
[62,"62",null,61682,42919,31366,26315,21399]
[63,"63",null,65591,45629,33345,27987,22756]
[64,"64",null,70948,49395,36084,30279,24622]
[65,"65",null,92760,64418,45628,40395,34744]
[66,"66",null,107768,74859,53017,46957,40376]
[67,"67",null,117708,81758,57918,51263,44095]
[68,"68",null,130341,90526,64134,56799,48834]
[69,"69",null,143407,99602,70575,62487,53735]
[70,"70",null,176505,121290,83076,72816,63216]
[71,"71",null,183446,126054,86341,75682,65708]
[72,"72",null,188640,129614,88773,77819,67565]
[73,"73",null,195571,134393,92039,80688,70053]
[74,"74",null,199028,136759,93674,82116,71282]
[75,"75+",null,207695,142717,97749,85698,74402]
[1,"1 Child",null,7757,5715,4327,3585,2798]
[2,"2 Children",null,12338,9106,6887,5691,4431]
[3,"3+ Children",null,18075,13338,10079,8345,6504]
[1,"Rider Comp. Maternidad",null,0,0,225,225,225]
[1,"Transplante de organos",null,0,0,0,0,0]
[]
[]
[]
["TARIFAS SEMESTRALES "]
["EDAD"]
[" "," ",null,"DW2","DW3","DW4","DW5","DW6"]
[18,"18-24",null,{"$f":"$G$2*D9","v":11826.42},7811.67,5122.45,3567.4300000000003,2809.53]
[25,"25-29",null,12401.470000000001,8632.11,5675.2400000000007,3961.75,3111.1000000000004]
[30,"30-34",null,12901.26,9259.1,6354.17,4742.97,3740.7400000000002]
[35,"35-39",null,14448.86,10367.86,7124.79,5319.6100000000006,4190.18]
[40,"40-44",null,16756.48,11340.41,7906.01,5853.3200000000006,4603.58]
[45,"45-49",null,18731.79,12681.84,8844.11,6539.14,5151.0700000000006]
[50,"50-54",null,23974.02,16651.54,11538.630000000001,9242.1400000000012,7287.5]
[55,"55-59",null,25507.84,17714.72,12279.57,9837.33,7756.02]
[60,"60",null,27792.140000000003,19332.280000000002,14128.740000000002,11850.27,9641.2300000000014]
[61,"61",null,29862.850000000002,20767.52,15177.08,12741.730000000001,10358.32]
[62,"62",null,32691.460000000003,22747.07,16623.98,13946.95,11341.470000000001]
[63,"63",null,34763.230000000003,24183.370000000003,17672.850000000002,14833.11,12060.68]
[64,"64",null,37602.44,26179.350000000002,19124.52,16047.87,13049.66]
[65,"65",null,49162.8,34141.54,24182.84,21409.350000000002,18414.32]
[66,"66",null,57117.04,39675.270000000004,28099.010000000002,24887.210000000003,21399.280000000002]
[67,"67",null,62385.240000000005,43331.740000000005,30696.54,27169.390000000003,23370.350000000002]
[68,"68",null,{"$f":"$G$2*D25","v":69080.73000000001},47978.78,33991.020000000004,30103.47,25882.02]
[69,"69",null,76005.710000000006,52789.060000000005,37404.75,33118.11,28479.550000000003]
[70,"70",null,93547.650000000009,64283.700000000004,44030.28,38592.480000000003,33504.480000000003]
[71,"71",null,97226.38,66808.62000000001,45760.73,40111.46,34825.240000000005]
[72,"72",null,99979.200000000012,68695.42,47049.69,41244.07,35809.450000000004]
[73,"73",null,103652.63,71228.290000000008,48780.670000000006,42764.639999999999,37128.090000000004]
[74,"74",null,105484.84000000001,72482.27,49647.22,43521.48,37779.46]
[75,"75+",null,110078.35,75640.010000000009,51806.97,45419.94,39433.060000000005]
[1,"1 Child",null,4111.21,3028.9500000000003,2293.31,1900.0500000000002,1482.94]
[2,"2 Children",null,6539.14,4826.18,3650.11,3016.23,2348.4300000000003]
[3,"3+ Children",null,9579.75,7069.14,5341.87,4422.8500000000004,3447.1200000000003]
[1,"Rider Comp. Maternidad",null,{"$f":"+D36*$G$2","v":0},0,119.25,119.25,119.25]
[1,"Transplante de organos",null,0,0,0,0,0]
[]
[]
[]
[]
[]
["DIAMOND (LATINAMERICA ONLY)"]
["TARIFAS ANUALES"]
["EDAD"]
[" "," ","DL1","DL2","DL3","DL4","DL5","DL6"]
[18,"-  24"]
[25,"-  29"]
[30,"-  34"]
[35,"-  39"]
[40,"-  44"]
[45,"-  49"]
[50,"-  54"]
[55,"-  59"]
[60]
[61]
[62]
[63]
[64]
[65]
[66]
[67]
[68]
[69]
[70]
[71]
[72]
[73]
[74]
[75,"o más"]
[1,"Hijo"]
[2,"Hijos"]
[3,"Hijos o más"]
[1,"Rider Comp. Maternidad"]
[1,"Transplante de organos",0,0,0,0,0,0]
[]
["TARIFAS SEMESTRALES "]
["EDAD"]
[" "," ","DL1","DL2","DL3","DL4","DL5","DL6"]
[18,"-  24",{"$f":"+C82*$G$2","v":0},0,0,0,0,0]
[25,"-  29",0,0,0,0,0,0]
[30,"-  34",0,0,0,0,0,0]
[35,"-  39",0,0,0,0,0,0]
[40,"-  44",0,0,0,0,0,0]
[45,"-  49",0,0,0,0,0,0]
[50,"-  54",0,0,0,0,0,0]
[55,"-  59",0,0,0,0,0,0]
[60,null,0,0,0,0,0,0]
[61,null,0,0,0,0,0,0]
[62,null,0,0,0,0,0,0]
[63,null,0,0,0,0,0,0]
[64,null,0,0,0,0,0,0]
[65,null,0,0,0,0,0,0]
[66,null,0,0,0,0,0,0]
[67,null,0,0,0,0,0,0]
[68,null,{"$f":"+C98*$G$2","v":0},0,0,0,0,0]
[69,null,0,0,0,0,0,0]
[70,null,0,0,0,0,0,0]
[71,null,0,0,0,0,0,0]
[72,null,0,0,0,0,0,0]
[73,null,0,0,0,0,0,0]
[74,null,0,0,0,0,0,0]
[75,"o más",0,0,0,0,0,0]
[1,"Hijo",0,0,0,0,0,0]
[2,"Hijos",0,0,0,0,0,0]
[3,"Hijos o más",0,0,0,0,0,0]
[1,"Rider Comp. Maternidad",0,0,0,0,0,0]
[1,"Transplante de organos",0,0,0,0,0,0]
[]
[]
[]
[]
["BUPA PRIVILEGE CARE"]
["TARIFAS ANUALES"]
["EDAD"]
[" "," ","CW1","CW2","CW3","CW4","CW5","CW6"]
[18,"18-24",null,18757,12893,8401,5852,4466]
[25,"25-29",null,19689,14282,9304,6492,4947]
[30,"30-34",null,20551,15273,10449,7841,5980]
[35,"35-39",null,23012,17095,11703,8792,6710]
[40,"40-44",null,26641,18743,13010,9698,7403]
[45,"45-49",null,29767,20939,14544,10844,8282]
[50,"50-54",null,38915,27630,19094,15470,11831]
[55,"55-59",null,41401,29399,20325,16463,12581]
[60,"60",null,45080,31927,23128,19584,15716]
[61,"61",null,48453,34275,24859,21044,16887]
[62,"62",null,53025,37551,27214,23042,18502]
[63,"63",null,56371,39926,28929,24495,19675]
[64,"64",null,60984,43192,31302,26496,21286]
[65,"65",null,79719,56332,39575,35337,30011]
[66,"66",null,92615,65449,45970,41062,34875]
[67,"67",null,101154,71479,50208,44848,38087]
[68,"68",null,112010,79155,55612,49674,42168]
[69,"69",null,123223,87087,61177,54640,46409]
[70,"70",null,151659,106037,72006,63674,54578]
[71,"71",null,157593,110205,74830,66171,56723]
[72,"72",null,162065,113318,76956,68049,58328]
[73,"73",null,168025,117480,79785,70550,60478]
[74,"74",null,170989,119555,81198,71805,61547]
[75,"75+",null,178437,124762,84735,74917,64234]
[1,"1 Child",null,6512,4763,3424,2835,2103]
[2,"2 Children",null,10351,7569,5433,4511,3333]
[3,"3+ Children",null,15163,11084,7966,6604,4883]
[1,"Rider Comp. Maternidad",null,0,0,225,225,225]
[1,"Transplante de organos",null,0,0,0,0,0]
[]
[]
[]
["TARIFAS SEMESTRALES "]
["EDAD"]
[" "," ",null,"CW2","CW3","CW4","CW5","CW6"]
[18,"18-24",null,{"$f":"$G$2*D152","v":9941.2100000000009},6833.29,4452.5300000000007,3101.56,2366.98]
[25,"25-29",null,10435.17,7569.46,4931.12,3440.76,2621.9100000000003]
[30,"30-34",null,10892.03,8094.6900000000005,5537.97,4155.7300000000005,3169.4]
[35,"35-39",null,12196.36,9060.35,6202.59,4659.76,3556.3]
[40,"40-44",null,14119.730000000001,9933.7900000000009,6895.3,5139.9400000000005,3923.59]
[45,"45-49",null,15776.51,11097.67,7708.3200000000006,5747.3200000000006,4389.46]
[50,"50-54",null,20624.95,14643.900000000001,10119.82,8199.1,6270.43]
[55,"55-59",null,21942.530000000002,15581.470000000001,10772.25,8725.3900000000012,6667.93]
[60,"60",null,23892.400000000001,16921.310000000001,12257.84,10379.52,8329.48]
[61,"61",null,25680.09,18165.75,13175.27,11153.32,8950.11]
[62,"62",null,28103.25,19902.030000000002,14423.42,12212.26,9806.0600000000013]
[63,"63",null,29876.63,21160.780000000002,15332.37,12982.35,10427.75]
[64,"64",null,32321.52,22891.760000000002,16590.060000000001,14042.880000000001,11281.58]
[65,"65",null,42251.07,29855.960000000003,20974.75,18728.61,15905.83]
[66,"66",null,49085.950000000004,34687.97,24364.100000000002,21762.86,18483.75]
[67,"67",null,53611.62,37883.870000000003,26610.240000000002,23769.440000000002,20186.11]
[68,"68",null,{"$f":"$G$2*D168","v":59365.3},41952.15,29474.36,26327.22,22349.040000000001]
[69,"69",null,65308.19,46156.11,32423.81,28959.200000000001,24596.77]
[70,"70",null,80379.27,56199.61,38163.18,33747.22,28926.34]
[71,"71",null,83524.290000000008,58408.65,39659.9,35070.630000000005,30063.190000000002]
[72,"72",null,85894.45,60058.54,40786.68,36065.97,30913.84]
[73,"73",null,89053.25,62264.4,42286.05,37391.5,32053.34]
[74,"74",null,90624.17,63364.15,43034.94,38056.65,32619.91]
[75,"75+",null,94571.61,66123.86,44909.55,39706.01,34044.020000000004]
[1,"1 Child",null,3451.36,2524.3900000000003,1814.72,1502.5500000000002,1114.5900000000001]
[2,"2 Children",null,5486.0300000000007,4011.57,2879.4900000000002,2390.83,1766.49]
[3,"3+ Children",null,8036.39,5874.52,4221.9800000000005,3500.1200000000003,2587.9900000000002]
[1,"Rider Comp. Maternidad",null,{"$f":"+D179*$G$2","v":0},0,119.25,119.25,119.25]
[1,"Transplante de organos",null,0,0,0,0,0]
[]
[]
[]
[]
["COMPLETE (LATINAMERICA ONLY)"]
["TARIFAS ANUALES"]
["EDAD"]
[" "," ","CL1","CL2","CL3","CL4","CL5","CL6"]
[18,"-  24"]
[25,"-  29"]
[30,"-  34"]
[35,"-  39"]
[40,"-  44"]
[45,"-  49"]
[50,"-  54"]
[55,"-  59"]
[60]
[61]
[62]
[63]
[64]
[65]
[66]
[67]
[68]
[69]
[70]
[71]
[72]
[73]
[74]
[75,"o más"]
[1,"Hijo"]
[2,"Hijos"]
[3,"Hijos o más"]
[1,"Rider Comp. Maternidad"]
[1,"Transplante de organos",0,0,0,0,0,0]
[]
["TARIFAS SEMESTRALES "]
["EDAD"]
[" "," ","CL1","CL2","CL3","CL4","CL5","CL6"]
[18,"-  24",{"$f":"+C224*$G$2","v":0},0,0,0,0,0]
[25,"-  29",0,0,0,0,0,0]
[30,"-  34",0,0,0,0,0,0]
[35,"-  39",0,0,0,0,0,0]
[40,"-  44",0,0,0,0,0,0]
[45,"-  49",0,0,0,0,0,0]
[50,"-  54",0,0,0,0,0,0]
[55,"-  59",0,0,0,0,0,0]
[60,null,0,0,0,0,0,0]
[61,null,0,0,0,0,0,0]
[62,null,0,0,0,0,0,0]
[63,null,0,0,0,0,0,0]
[64,null,0,0,0,0,0,0]
[65,null,0,0,0,0,0,0]
[66,null,0,0,0,0,0,0]
[67,null,0,0,0,0,0,0]
[68,null,{"$f":"+C240*$G$2","v":0},0,0,0,0,0]
[69,null,0,0,0,0,0,0]
[70,null,0,0,0,0,0,0]
[71,null,0,0,0,0,0,0]
[72,null,0,0,0,0,0,0]
[73,null,0,0,0,0,0,0]
[74,null,0,0,0,0,0,0]
[75,"o más",0,0,0,0,0,0]
[1,"Hijo",0,0,0,0,0,0]
[2,"Hijos",0,0,0,0,0,0]
[3,"Hijos o más",0,0,0,0,0,0]
[1,"Rider Comp. Maternidad",0,0,0,0,0,0]
[1,"Transplante de organos",0,0,0,0,0,0]
[]
[]
[]
[]
[]
[]
[]
["BUPA ADVANTAGE CARE (WORLDWIDE)"]
["TARIFAS ANUALES"]
["EDAD"]
[" "," ",null,"AW2","AW3","AW4","AW5","AW6"]
[18,"18-24",null,12705,9550,6682,5029,3984]
[25,"25-29",null,14127,10649,7416,5604,4410]
[30,"30-34",null,16344,12509,8823,6650,5122]
[35,"35-39",null,18138,13930,9809,7574,5689]
[40,"40-44",null,20457,15797,11116,8468,6433]
[45,"45-49",null,23768,18191,12545,9635,7480]
[50,"50-54",null,26039,20456,14620,10826,8217]
[55,"55-59",null,30773,23603,16179,12537,9711]
[60,"60",null,34001,26139,17790,13832,10746]
[61,"61",null,38252,29416,20017,15565,12102]
[62,"62",null,42530,32700,22259,17311,13450]
[63,"63",null,46792,35970,24482,19052,14808]
[64,"64",null,51047,39258,26722,20785,16159]
[65,"65",null,55179,42731,29125,22640,18390]
[66,"66",null,58445,45240,30845,23979,19483]
[67,"67",null,64948,50285,34287,26650,21647]
[68,"68",null,71447,55316,37713,29323,23829]
[69,"69",null,74709,57831,39433,30663,24910]
[70,"70",null,75669,58754,40025,31246,25237]
[71,"71",null,85128,66113,45056,35169,28403]
[72,"72",null,94606,73462,50071,39076,31558]
[73,"73",null,104091,80822,55072,42985,34739]
[74,"74",null,113552,88185,60099,46902,37893]
[75,"75+",null,124217,98346,68934,51349,43488]
[1,"1 Child",null,5663,4029,2921,2535,1831]
[2,"2 Children",null,9216,6360,4590,4001,2691]
[3,"3+ Children",null,13478,9267,6695,5802,4083]
[1,"Rider Comp. Maternidad",null,225,225,225,225,225]
[1,"Transplante de organos",null,300,300,300,300,300]
[]
[]
[]
["TARIFAS SEMESTRALES "]
["EDAD"]
[" "," ",null,"AW2","AW3","AW4","AW5","AW6"]
[18,"18-24",null,{"$f":"+D297*$G$2","v":6733.6500000000005},5061.5,3541.46,2665.3700000000003,2111.52]
[25,"25-29",null,7487.31,5643.97,3930.48,2970.1200000000003,2337.3000000000002]
[30,"30-34",null,8662.32,6629.77,4676.1900000000005,3524.5,2714.6600000000003]
[35,"35-39",null,9613.1400000000012,7382.9000000000005,5198.7700000000004,4014.2200000000003,3015.17]
[40,"40-44",null,10842.210000000001,8372.41,5891.4800000000005,4488.04,3409.4900000000002]
[45,"45-49",null,12597.04,9641.2300000000014,6648.85,5106.55,3964.4]
[50,"50-54",null,13800.67,10841.68,7748.6,5737.7800000000007,4355.01]
[55,"55-59",null,16309.69,12509.59,8574.8700000000008,6644.6100000000006,5146.83]
[60,"60",null,18020.530000000002,13853.67,9428.7000000000007,7330.96,5695.38]
[61,"61",null,20273.560000000001,15590.480000000001,10609.01,8249.4500000000007,6414.06]
[62,"62",null,22540.9,17331,11797.27,9174.83,7128.5]
[63,"63",null,24799.760000000002,19064.100000000002,12975.460000000001,10097.560000000001,7848.2400000000007]
[64,"64",null,27054.91,20806.740000000002,14162.66,11016.050000000001,8564.27]
[65,"65",null,29244.870000000003,22647.43,15436.25,11999.2,9746.7000000000007]
[66,"66",null,30975.850000000002,23977.200000000001,16347.85,12708.87,10325.99]
[67,"67",null,34422.44,26651.050000000003,18172.11,14124.5,11472.91]
[68,"68",null,{"$f":"+D313*$G$2","v":37866.910000000003},29317.480000000003,19987.89,15541.19,12629.37]
[69,"69",null,39595.770000000004,30650.43,20899.490000000002,16251.390000000001,13202.300000000001]
[70,"70",null,40104.57,31139.620000000003,21213.25,16560.38,13375.61]
[71,"71",null,45117.840000000004,35039.89,23879.68,18639.57,15053.59]
[72,"72",null,50141.18,38934.86,26537.63,20710.280000000002,16725.740000000002]
[73,"73",null,55168.23,42835.66,29188.16,22782.050000000003,18411.670000000002]
[74,"74",null,60182.560000000005,46738.05,31852.47,24858.06,20083.29]
[75,"75+",null,65835.010000000009,52123.380000000005,36535.020000000004,27214.97,23048.639999999999]
[1,"1 Child",null,3001.3900000000003,2135.37,1548.13,1343.55,970.43000000000006]
[2,"2 Children",null,4884.4800000000005,3370.8,2432.7000000000003,2120.5300000000002,1426.23]
[3,"3+ Children",null,7143.34,4911.51,3548.3500000000004,3075.06,2163.9900000000002]
[1,"Rider Comp. Maternidad",null,119.25,119.25,119.25,119.25,119.25]
[1,"Transplante de organos",null,159,159,159,159,159]
[]
[]
[]
[]
[]
["ADVANTAGE (LATINAMERICA ONLY)"]
["TARIFAS ANUALES"]
["EDAD"]
[" "," ",null,"AL2","AL3","AL4","AL5","AL6"]
[18,"18-24",null,11240,8450,6003,4521,3578]
[25,"25-29",null,12522,9432,6676,5046,3960]
[30,"30-34",null,14491,11087,7953,5984,4611]
[35,"35-39",null,16068,12342,8853,6822,5116]
[40,"40-44",null,18135,13999,10040,7628,5791]
[45,"45-49",null,21074,16127,11319,8682,6734]
[50,"50-54",null,23095,18131,13196,9747,7397]
[55,"55-59",null,27290,20932,14596,11305,8747]
[60,"60",null,30152,23179,16056,12465,9685]
[61,"61",null,33942,26076,18072,14038,10913]
[62,"62",null,37722,29010,20091,15611,12132]
[63,"63",null,41505,31913,22117,17178,13360]
[64,"64",null,45292,34829,24140,18760,14569]
[65,"65",null,48973,37903,26303,20431,16582]
[66,"66",null,51857,40135,27861,21635,17581]
[67,"67",null,57634,44613,30968,24062,19536]
[68,"68",null,63406,49074,34077,26482,21499]
[69,"69",null,66294,51314,35619,27680,22488]
[70,"70",null,67143,52135,36169,28205,22786]
[71,"71",null,75557,58666,40705,31745,25636]
[72,"72",null,83973,65215,45242,35276,28498]
[73,"73",null,92378,71746,49775,38821,31358]
[74,"74",null,100789,78269,54304,42358,34218]
[75,"75+",null,110253,87280,62287,46373,39262]
[1,"1 Child",null,5009,3572,2624,2281,1656]
[2,"2 Children",null,8181,5634,4146,3620,2438]
[3,"3+ Children",null,11967,8220,6057,5241,3690]
[1,"Rider Comp. Maternidad"]
[1,"Transplante de organos"]
[]
["TARIFAS SEMESTRALES "]
["EDAD"]
[" "," ",null,"AL2","AL3","AL4","AL5","AL6"]
[18,"18-24",null,{"$f":"+D370*$G$2","v":5957.2000000000007},4478.5,3181.59,2396.13,1896.3400000000001]
[25,"25-29",null,6636.6600000000008,4998.96,3538.28,2674.38,2098.8000000000002]
[30,"30-34",null,7680.2300000000005,5876.1100000000006,4215.09,3171.52,2443.83]
[35,"35-39",null,8516.0400000000009,6541.26,4692.09,3615.6600000000003,2711.48]
[40,"40-44",null,9611.5500000000011,7419.47,5321.2,4042.84,3069.23]
[45,"45-49",null,11169.220000000001,8547.3100000000013,5999.0700000000006,4601.46,3569.02]
[50,"50-54",null,12240.35,9609.43,6993.88,5165.91,3920.4100000000003]
[55,"55-59",null,14463.7,11093.960000000001,7735.88,5991.6500000000005,4635.91]
[60,"60",null,15980.560000000001,12284.87,8509.68,6606.4500000000007,5133.05]
[61,"61",null,17989.260000000002,13820.28,9578.16,7440.14,5783.89]
[62,"62",null,19992.66,15375.300000000001,10648.230000000001,8273.83,6429.96]
[63,"63",null,21997.65,16913.89,11722.01,9104.34,7080.8]
[64,"64",null,24004.760000000002,18459.370000000003,12794.2,9942.8000000000011,7721.5700000000006]
[65,"65",null,25955.690000000002,20088.59,13940.59,10828.43,8788.4600000000009]
[66,"66",null,27484.210000000003,21271.55,14766.33,11466.550000000001,9317.93]
[67,"67",null,30546.02,23644.89,16413.04,12752.86,10354.08]
[68,"68",null,{"$f":"+D386*$G$2","v":33605.18},26009.22,18060.810000000001,14035.460000000001,11394.470000000001]
[69,"69",null,35135.82,27196.420000000002,18878.07,14670.400000000001,11918.640000000001]
[70,"70",null,35585.79,27631.550000000003,19169.57,14948.650000000001,12076.58]
[71,"71",null,40045.21,31092.980000000003,21573.65,16824.850000000002,13587.08]
[72,"72",null,44505.69,34563.950000000004,23978.260000000002,18696.280000000002,15103.94]
[73,"73",null,48960.340000000004,38025.380000000005,26380.75,20575.13,16619.740000000002]
[74,"74",null,53418.170000000006,41482.57,28781.120000000003,22449.74,18135.54]
[75,"75+",null,58434.090000000004,46258.400000000001,33012.11,24577.690000000002,20808.86]
[1,"1 Child",null,2654.77,1893.16,1390.72,1208.93,877.68000000000006]
[2,"2 Children",null,4335.93,2986.02,2197.38,1918.6000000000001,1292.1400000000001]
[3,"3+ Children",null,6342.51,4356.6000000000004,3210.21,2777.73,1955.7]
[1,"Rider Comp. Maternidad",null,0,0,0,0,0]
[1,"Transplante de organos",null,0,0,0,0,0]
[]
[]
[]
[]
["BUPA SECURE CARE"]
["TARIFAS ANUALES"]
["EDAD"]
[" "," ",null,"SE2","SE3","SE4","SE5","SE6"]
[18,"18-24",null,10469,8214,5571,4658,3550]
[25,"25-29",null,11534,9247,6211,5201,3932]
[30,"30-34",null,13225,10874,7226,6039,4553]
[35,"35-39",null,14584,12181,8034,6697,5051]
[40,"40-44",null,16342,13885,9084,7590,5706]
[45,"45-49",null,18830,16273,10572,8812,6621]
[50,"50-54",null,20536,17921,11598,9675,7243]
[55,"55-59",null,24131,21410,13740,11459,8573]
[60,"60",null,25252,22858,14549,12131,9074]
[61,"61",null,28423,25733,16374,13654,10222]
[62,"62",null,31595,28614,18217,15189,11372]
[63,"63",null,34772,31487,20048,16719,12506]
[64,"64",null,37955,34364,21892,18255,13670]
[65,"65",null,37990,34681,22010,18344,13718]
[66,"66",null,38027,35002,22136,18444,13763]
[67,"67",null,42276,38909,24614,20503,15306]
[68,"68",null,46518,42827,27091,22561,16841]
[69,"69",null,48632,44767,28317,23603,17614]
[70,"70",null,48721,45515,28616,23818,17703]
[71,"71",null,54829,51208,32209,26815,19932]
[72,"72",null,60942,56924,35793,29799,22161]
[73,"73",null,67047,62623,39384,32799,24388]
[74,"74",null,73165,68331,42975,35792,26608]
[75,"75+",null,79729,74956,46998,39145,29078]
[1,"1 Child",null,5048,2979,2251,1868,1379]
[2,"2 Children",null,8525,4439,3542,2943,2198]
[3,"3+ Children",null,12521,6382,5140,4274,3172]
[1,"Rider Comp. Maternidad",null,225,225,225,225,225]
[1,"Transplante de organos",null,300,300,300,300,300]
[]
[]
[]
[]
["TARIFAS SEMESTRALES "]
["EDAD"]
[" "," ",null,"SE2","SE3","SE4","SE5","SE6"]
[18,"18-24",null,{"$f":"+D440*$G$2","v":5548.5700000000006},4353.42,2952.63,2468.7400000000002,1881.5]
[25,"25-29",null,6113.02,4900.91,3291.8300000000004,2756.53,2083.96]
[30,"30-34",null,7009.25,5763.22,3829.78,3200.67,2413.09]
[35,"35-39",null,7729.52,6455.93,4258.0200000000004,3549.4100000000003,2677.03]
[40,"40-44",null,8661.26,7359.05,4814.5200000000004,4022.7000000000003,3024.1800000000003]
[45,"45-49",null,9979.9,8624.69,5603.16,4670.3600000000006,3509.13]
[50,"50-54",null,10884.08,9498.130000000001,6146.9400000000005,5127.75,3838.7900000000004]
[55,"55-59",null,12789.43,11347.300000000001,7282.2000000000007,6073.27,4543.6900000000005]
[60,"60",null,13383.560000000001,12114.74,7710.97,6429.43,4809.22]
[61,"61",null,15064.19,13638.49,8678.2200000000012,7236.6200000000008,5417.66]
[62,"62",null,16745.350000000002,15165.42,9655.01,8050.17,6027.16]
[63,"63",null,18429.16,16688.11,10625.44,8861.07,6628.18]
[64,"64",null,20116.150000000001,18212.920000000002,11602.76,9675.15,7245.1]
[65,"65",null,20134.7,18380.93,11665.300000000001,9722.32,7270.54]
[66,"66",null,20154.310000000001,18551.060000000001,11732.08,9775.32,7294.39]
[67,"67",null,22406.280000000002,20621.77,13045.42,10866.59,8112.18]
[68,"68",null,{"$f":"+D456*$G$2","v":24654.54},22698.31,14358.230000000001,11957.33,8925.73]
[69,"69",null,25774.960000000003,23726.510000000002,15008.01,12509.59,9335.42]
[70,"70",null,25822.13,24122.95,15166.480000000001,12623.54,9382.59]
[71,"71",null,29059.370000000003,27140.240000000002,17070.77,14211.95,10563.960000000001]
[72,"72",null,32299.260000000002,30169.72,18970.29,15793.470000000001,11745.33]
[73,"73",null,35534.910000000003,33190.19,20873.52,17383.47,12925.640000000001]
[74,"74",null,38777.450000000004,36215.43,22776.75,18969.760000000002,14102.240000000002]
[75,"75+",null,42256.37,39726.68,24908.940000000002,20746.850000000002,15411.34]
[1,"1 Child",null,2675.44,1578.8700000000001,1193.03,990.04000000000008,730.87]
[2,"2 Children",null,4518.25,2352.67,1877.26,1559.7900000000002,1164.94]
[3,"3+ Children",null,6636.13,3382.46,2724.2000000000003,2265.2200000000003,1681.16]
[1,"Rider Comp. Maternidad",null,119.25,119.25,119.25,119.25,119.25]
[1,"Transplante de organos",null,159,159,159,159,159]
[]
[]
[]
[]
["ESSENTIAL"]
["TARIFAS ANUALES"]
["EDAD"]
[" "," ",null,"ET2","ET3","ET4","ET5","ET6"]
[18,"18-24",null,8645,6403,4609,3843,2912]
[25,"25-29",null,9541,7261,5140,4289,3243]
[30,"30-34",null,10921,8600,5967,4979,3759]
[35,"35-39",null,12044,9682,6630,5544,4164]
[40,"40-44",null,13518,11099,7500,6259,4708]
[45,"45-49",null,15557,13081,8743,7288,5466]
[50,"50-54",null,16983,14445,9585,7991,5991]
[55,"55-59",null,19973,17323,11370,9479,7092]
[60,"60",null,20897,18536,12042,10032,7498]
[61,"61",null,23526,20916,13553,11291,8453]
[62,"62",null,26155,23306,15080,12569,9398]
[63,"63",null,28784,25686,16591,13836,10341]
[64,"64",null,31412,28058,18123,15106,11306]
[65,"65",null,31448,28333,18225,15185,11352]
[66,"66",null,31481,28601,18325,15269,11380]
[67,"67",null,34999,31844,20380,16963,12664]
[68,"68",null,38511,35074,22420,18679,13935]
[69,"69",null,40257,36687,23454,19534,14572]
[70,"70",null,40352,37302,23698,19725,14661]
[71,"71",null,45395,42022,26674,22200,16491]
[72,"72",null,50455,46766,29645,24679,18346]
[73,"73",null,55534,51487,32614,27148,20187]
[74,"74",null,60591,56221,35595,29636,22035]
[75,"75+",null,66026,61701,38924,32410,24071]
[1,"1 Child",null,4179,2472,1872,1553,1145]
[2,"2 Children",null,7062,3681,2933,2436,1827]
[3,"3+ Children",null,10366,5282,4269,3544,2622]
[1,"Rider Comp. Maternidad",null,225,225,225,225,225]
[1,"Transplante de organos",null,300,300,300,300,300]
[]
[]
[]
["TARIFAS SEMESTRALES "]
["EDAD"]
[" "," ",null,"ET2","ET3","ET4","ET5","ET6"]
[18,"18-24",null,{"$f":"+D513*$G$2","v":4581.8500000000004},3393.59,2442.77,2036.7900000000002,1543.3600000000001]
[25,"25-29",null,5056.7300000000005,3848.3300000000004,2724.2000000000003,2273.17,1718.7900000000002]
[30,"30-34",null,5788.13,4558,3162.51,2638.8700000000003,1992.2700000000002]
[35,"35-39",null,6383.3200000000006,5131.46,3513.9,2938.32,2206.92]
[40,"40-44",null,7164.54,5882.47,3975,3317.27,2495.2400000000002]
[45,"45-49",null,8245.2100000000009,6932.93,4633.79,3862.6400000000003,2896.98]
[50,"50-54",null,9000.99,7655.85,5080.05,4235.2300000000005,3175.23]
[55,"55-59",null,10585.69,9181.19,6026.1,5023.87,3758.76]
[60,"60",null,11075.41,9824.08,6382.26,5316.96,3973.94]
[61,"61",null,12468.78,11085.480000000001,7183.09,5984.2300000000005,4480.09]
[62,"62",null,13862.150000000001,12352.18,7992.4000000000005,6661.5700000000006,4980.9400000000005]
[63,"63",null,15255.52,13613.58,8793.23,7333.08,5480.7300000000005]
[64,"64",null,16648.36,14870.740000000002,9605.19,8006.18,5992.18]
[65,"65",null,16667.440000000002,15016.490000000002,9659.25,8048.05,6016.56]
[66,"66",null,16684.93,15158.53,9712.25,8092.5700000000006,6031.4000000000005]
[67,"67",null,18549.47,16877.32,10801.4,8990.3900000000012,6711.92]
[68,"68",null,{"$f":"+D529*$G$2","v":20410.830000000002},18589.22,11882.6,9899.8700000000008,7385.55]
[69,"69",null,21336.210000000003,19444.11,12430.62,10353.02,7723.1600000000008]
[70,"70",null,21386.560000000001,19770.060000000001,12559.94,10454.25,7770.3300000000008]
[71,"71",null,24059.350000000002,22271.66,14137.220000000001,11766,8740.23]
[72,"72",null,26741.15,24785.98,15711.85,13079.87,9723.380000000001]
[73,"73",null,29433.02,27288.11,17285.420000000002,14388.44,10699.11]
[74,"74",null,32113.230000000003,29797.13,18865.350000000002,15707.08,11678.550000000001]
[75,"75+",null,34993.78,32701.530000000002,20629.72,17177.3,12757.630000000001]
[1,"1 Child",null,2214.87,1310.1600000000001,992.16000000000008,823.09,606.85]
[2,"2 Children",null,3742.86,1950.93,1554.49,1291.0800000000002,968.31000000000006]
[3,"3+ Children",null,5493.9800000000005,2799.46,2262.5700000000002,1878.3200000000002,1389.66]
[1,"Rider Comp. Maternidad",null,119.25,119.25,119.25,119.25,119.25]
[1,"Transplante de organos",null,159,159,159,159,159]
[]
[]
[]
[]
[]
["CRITICAL"]
["TARIFAS ANUALES"]
["EDAD"]
[" "," ","CR1",null,null,"CR2",null,null,"CR3",null,null,"CR4",null,null,"CR5",null,null,"CR6"]
[null,null,"INDIVIDUAL","2 PERSONAS","FAMILIAR","INDIVIDUAL","2 PERSONAS","FAMILIAR","INDIVIDUAL","2 PERSONAS","FAMILIAR","INDIVIDUAL","2 PERSONAS","FAMILIAR","INDIVIDUAL","2 PERSONAS","FAMILIAR","INDIVIDUAL","2 PERSONAS","FAMILIAR"]
[18,"-  49",5623,10256,14903,4890,8733,12562,4109,7438,10761,3145,5640,8131,2222,3917,5616,1232,2090,2939]
[50,"o más",7244,11869,16506,6291,10124,13952,5272,8587,11927,4033,6523,9013,2822,4503,6207,1521,2387,3225]
[]
[]
["TARIFAS SEMESTRALES "]
["EDAD"]
[" "," ","CR1",null,null,"CR2",null,null,"CR3",null,null,"CR4",null,null,"CR5"]
[null,null,"INDIVIDUAL","2 PERSONAS","FAMILIAR","INDIVIDUAL","2 PERSONAS","FAMILIAR","INDIVIDUAL","2 PERSONAS","FAMILIAR","INDIVIDUAL","2 PERSONAS","FAMILIAR","INDIVIDUAL","2 PERSONAS","FAMILIAR"]
[18,"-  25",{"$f":"AO595","v":0},{"$f":"AP595","v":0},0,0,0,0,0,0,0,0,0,0,0,0,0]
[75,"o más",{"$f":"AO596","v":0},0,0,0,0,0,0,0,0,0,0,0,0,0,0]

{"sheet":"4","index":10,"n_rows":596,"n_cols":20,"rows_kept":596,"cut":false,"hidden":true,"merged":[[1,8,1,9],[4,0,4,7],[4,10,4,11],[5,0,5,7],[5,16,5,17],[6,0,6,1],[6,2,6,6],[111,0,111,7],[112,0,112,1],[112,2,112,6],[147,0,147,7],[148,0,148,7],[149,0,149,1],[149,2,149,6],[40,0,40,7],[41,0,41,1],[41,2,41,6],[77,0,77,7],[78,0,78,7],[79,0,79,1],[79,2,79,6],[253,0,253,7],[254,0,254,1],[254,2,254,6],[292,0,292,7],[293,0,293,7],[294,0,294,1],[294,2,294,6],[183,0,183,7],[184,0,184,1],[184,2,184,6],[219,0,219,7],[220,0,220,7],[221,0,221,1],[221,2,221,6],[399,0,399,7],[400,0,400,1],[400,2,400,6],[435,0,435,7],[436,0,436,7],[437,0,437,1],[437,2,437,6],[328,0,328,7],[329,0,329,1],[329,2,329,6],[365,0,365,7],[366,0,366,7],[367,0,367,1],[367,2,367,6],[544,0,544,7],[545,0,545,1],[545,2,545,6],[581,0,581,19],[582,0,582,19],[583,0,583,1],[583,2,583,6],[472,0,472,7],[473,0,473,1],[473,2,473,6],[508,0,508,7],[509,0,509,7],[510,0,510,1],[510,2,510,6],[591,38,591,39],[591,40,591,44],[584,43,584,45],[584,46,584,48],[584,49,584,51],[584,52,584,54],[590,0,590,16],[590,19,590,35],[590,38,590,54],[584,21,584,23],[584,24,584,26],[584,27,584,29],[584,30,584,32],[584,33,584,35],[584,40,584,42],[584,2,584,4],[584,5,584,7],[584,8,584,10],[584,11,584,13],[584,14,584,16],[584,17,584,19],[592,2,592,4],[592,5,592,7],[592,8,592,10],[592,11,592,13],[592,14,592,16],[592,21,592,23],[591,0,591,1],[591,2,591,6],[591,19,591,20],[591,21,591,25],[592,46,592,48],[592,49,592,51],[592,52,592,54],[592,24,592,26],[592,27,592,29],[592,30,592,32],[592,33,592,35],[592,40,592,42],[592,43,592,45]]}
[null,null,null,null,null,null,null,null,null,null,"D1","D2","D3","D4","D5","D6"]
[null,"REGIÓN",{"$f":"'INSURED INFORMATION'!W14","v":8},null,"FACTOR SEMESTRAL :",null,0.53,null,"NEW BUSINESS DISCUOUNTS",null,{"$f":"'INSURED INFORMATION'!P53","v":1},{"$f":"'INSURED INFORMATION'!Q53","v":1},{"$f":"'INSURED INFORMATION'!R53","v":1},{"$f":"'INSURED INFORMATION'!S53","v":1},{"$f":"'INSURED INFORMATION'!T53","v":1},{"$f":"'INSURED INFORMATION'!U53","v":1}]
[]
[]
["BUPA EXCLUSIVE CARE"]
["TARIFAS ANUALES"]
["EDAD"]
[" "," ","DW1","DW2","DW3","DW4","DW5","DW6"]
[18,"18-24",null,19979,13201,8654,5923,4662]
[25,"25-29",null,20959,14590,9589,6569,5163]
[30,"30-34",null,21802,15646,10734,7876,6210]
[35,"35-39",null,24418,17516,12036,8827,6954]
[40,"40-44",null,28320,19161,13361,9708,7646]
[45,"45-49",null,31660,21430,14933,10844,8548]
[50,"50-54",null,40512,28118,19485,15332,12085]
[55,"55-59",null,43104,29922,20726,16311,12864]
[60,"60",null,46956,32642,23858,19649,15984]
[61,"61",null,50446,35078,25621,21126,17174]
[62,"62",null,55231,38417,28065,23118,18806]
[63,"63",null,58728,40848,29827,24597,19990]
[64,"64",null,63524,44197,32283,26600,21644]
[65,"65",null,83050,57652,40817,35481,30520]
[66,"66",null,96481,66992,47426,41248,35459]
[67,"67",null,105388,73169,51804,45040,38737]
[68,"68",null,116696,81011,57365,49883,42892]
[69,"69",null,128397,89128,63119,54880,47201]
[70,"70",null,158015,108535,74302,63945,55525]
[71,"71",null,164228,112792,77226,66466,57706]
[72,"72",null,168880,115987,79396,68348,59339]
[73,"73",null,175080,120254,82318,70863,61507]
[74,"74",null,178181,122381,83791,72116,62608]
[75,"75+",null,185937,127704,87423,75257,65343]
[1,"1 Child",null,6942,5114,3871,3150,2450]
[2,"2 Children",null,11042,8146,6160,4999,3899]
[3,"3+ Children",null,16192,11930,9019,7326,5705]
[1,"Rider Comp. Maternidad",null,0,0,225,225,225]
[1,"Transplante de organos",null,0,0,0,0,0]
[]
[]
[]
["TARIFAS SEMESTRALES "]
["EDAD"]
[" "," ",null,"DW2","DW3","DW4","DW5","DW6"]
[18,"18-24",null,{"$f":"$G$2*D9","v":10588.87},6996.5300000000007,4586.62,3139.19,2470.86]
[25,"25-29",null,11108.27,7732.7000000000007,5082.17,3481.57,2736.3900000000003]
[30,"30-34",null,11555.060000000001,8292.380000000001,5689.02,4174.2800000000007,3291.3]
[35,"35-39",null,12941.54,9283.48,6379.08,4678.3100000000004,3685.6200000000003]
[40,"40-44",null,15009.6,10155.33,7081.33,5145.2400000000007,4052.38]
[45,"45-49",null,16779.8,11357.900000000001,7914.4900000000007,5747.3200000000006,4530.4400000000005]
[50,"50-54",null,21471.360000000001,14902.54,10327.050000000001,8125.96,6405.05]
[55,"55-59",null,22845.120000000003,15858.660000000002,10984.78,8644.83,6817.92]
[60,"60",null,24886.68,17300.260000000002,12644.74,10413.970000000001,8471.52]
[61,"61",null,26736.38,18591.34,13579.130000000001,11196.78,9102.2200000000012]
[62,"62",null,29272.43,20361.010000000002,14874.45,12252.54,9967.18]
[63,"63",null,31125.84,21649.440000000002,15808.310000000001,13036.41,10594.7]
[64,"64",null,33667.72,23424.41,17109.990000000002,14098,11471.32]
[65,"65",null,44016.5,30555.56,21633.010000000002,18804.93,16175.6]
[66,"66",null,51134.93,35505.760000000002,25135.780000000002,21861.440000000002,18793.27]
[67,"67",null,55855.64,38779.57,27456.120000000003,23871.200000000001,20530.61]
[68,"68",null,{"$f":"$G$2*D25","v":61848.880000000005},42935.83,30403.45,26437.99,22732.760000000002]
[69,"69",null,68050.41,47237.840000000004,33453.07,29086.400000000001,25016.530000000002]
[70,"70",null,83747.95,57523.55,39380.060000000005,33890.85,29428.25]
[71,"71",null,87040.840000000011,59779.76,40929.78,35226.980000000003,30584.18]
[72,"72",null,89506.400000000009,61473.11,42079.880000000005,36224.44,31449.670000000002]
[73,"73",null,92792.400000000009,63734.62,43628.54,37557.39,32598.710000000003]
[74,"74",null,94435.930000000008,64861.93,44409.23,38221.480000000003,33182.240000000005]
[75,"75+",null,98546.61,67683.12000000001,46334.19,39886.21,34631.79]
[1,"1 Child",null,3679.26,2710.42,2051.63,1669.5,1298.5]
[2,"2 Children",null,5852.26,4317.38,3264.8,2649.4700000000003,2066.4700000000003]
[3,"3+ Children",null,8581.76,6322.9000000000005,4780.0700000000006,3882.78,3023.65]
[1,"Rider Comp. Maternidad",null,{"$f":"+D36*$G$2","v":0},0,119.25,119.25,119.25]
[1,"Transplante de organos",null,0,0,0,0,0]
[]
[]
[]
[]
[]
["DIAMOND (LATINAMERICA ONLY)"]
["TARIFAS ANUALES"]
["EDAD"]
[" "," ","DL1","DL2","DL3","DL4","DL5","DL6"]
[18,"-  24"]
[25,"-  29"]
[30,"-  34"]
[35,"-  39"]
[40,"-  44"]
[45,"-  49"]
[50,"-  54"]
[55,"-  59"]
[60]
[61]
[62]
[63]
[64]
[65]
[66]
[67]
[68]
[69]
[70]
[71]
[72]
[73]
[74]
[75,"o más"]
[1,"Hijo"]
[2,"Hijos"]
[3,"Hijos o más"]
[1,"Rider Comp. Maternidad"]
[1,"Transplante de organos",0,0,0,0,0,0]
[]
["TARIFAS SEMESTRALES "]
["EDAD"]
[" "," ","DL1","DL2","DL3","DL4","DL5","DL6"]
[18,"-  24",{"$f":"+C82*$G$2","v":0},0,0,0,0,0]
[25,"-  29",0,0,0,0,0,0]
[30,"-  34",0,0,0,0,0,0]
[35,"-  39",0,0,0,0,0,0]
[40,"-  44",0,0,0,0,0,0]
[45,"-  49",0,0,0,0,0,0]
[50,"-  54",0,0,0,0,0,0]
[55,"-  59",0,0,0,0,0,0]
[60,null,0,0,0,0,0,0]
[61,null,0,0,0,0,0,0]
[62,null,0,0,0,0,0,0]
[63,null,0,0,0,0,0,0]
[64,null,0,0,0,0,0,0]
[65,null,0,0,0,0,0,0]
[66,null,0,0,0,0,0,0]
[67,null,0,0,0,0,0,0]
[68,null,{"$f":"+C98*$G$2","v":0},0,0,0,0,0]
[69,null,0,0,0,0,0,0]
[70,null,0,0,0,0,0,0]
[71,null,0,0,0,0,0,0]
[72,null,0,0,0,0,0,0]
[73,null,0,0,0,0,0,0]
[74,null,0,0,0,0,0,0]
[75,"o más",0,0,0,0,0,0]
[1,"Hijo",0,0,0,0,0,0]
[2,"Hijos",0,0,0,0,0,0]
[3,"Hijos o más",0,0,0,0,0,0]
[1,"Rider Comp. Maternidad",0,0,0,0,0,0]
[1,"Transplante de organos",0,0,0,0,0,0]
[]
[]
[]
[]
["BUPA PRIVILEGE CARE"]
["TARIFAS ANUALES"]
["EDAD"]
[" "," ","CW1","CW2","CW3","CW4","CW5","CW6"]
[18,"18-24",null,16807,11553,7523,5153,3919]
[25,"25-29",null,17628,12782,8331,5704,4342]
[30,"30-34",null,18417,13671,9351,6892,5273]
[35,"35-39",null,20616,15304,10479,7731,5903]
[40,"40-44",null,23869,16785,11649,8526,6517]
[45,"45-49",null,26667,18755,13014,9530,7278]
[50,"50-54",null,34855,24739,17089,13587,10391]
[55,"55-59",null,37077,26316,18184,14464,11056]
[60,"60",null,40378,28572,20695,17198,13826]
[61,"61",null,43379,30693,22232,18485,14848]
[62,"62",null,47484,33618,24345,20239,16258]
[63,"63",null,50495,35740,25882,21529,17283]
[64,"64",null,54611,38672,28004,23288,18702]
[65,"65",null,71403,50431,35402,31048,26366]
[66,"66",null,82942,58598,41135,36085,30634]
[67,"67",null,90584,63998,44928,39396,33461]
[68,"68",null,100305,70855,49754,43630,37051]
[69,"69",null,110353,77953,54729,47998,40770]
[70,"70",null,135813,94922,64427,55943,47941]
[71,"71",null,141147,98635,66947,58133,49835]
[72,"72",null,145148,101426,68852,59779,51239]
[73,"73",null,150470,105160,71375,61978,53137]
[74,"74",null,153134,107015,72639,63083,54064]
[75,"75+",null,159803,111677,75799,65822,56417]
[1,"1 Child",null,5826,4251,3056,2487,1845]
[2,"2 Children",null,9259,6775,4872,3960,2931]
[3,"3+ Children",null,13581,9925,7132,5802,4297]
[1,"Rider Comp. Maternidad",null,0,0,225,225,225]
[1,"Transplante de organos",null,0,0,0,0,0]
[]
[]
[]
["TARIFAS SEMESTRALES "]
["EDAD"]
[" "," ",null,"CW2","CW3","CW4","CW5","CW6"]
[18,"18-24",null,{"$f":"$G$2*D152","v":8907.7100000000009},6123.09,3987.19,2731.09,2077.0700000000002]
[25,"25-29",null,9342.84,6774.46,4415.43,3023.1200000000003,2301.2600000000002]
[30,"30-34",null,9761.01,7245.63,4956.0300000000007,3652.76,2794.69]
[35,"35-39",null,10926.480000000001,8111.1200000000008,5553.87,4097.43,3128.59]
[40,"40-44",null,12650.570000000002,8896.0500000000011,6173.97,4518.7800000000007,3454.01]
[45,"45-49",null,14133.51,9940.15,6897.42,5050.9000000000005,3857.34]
[50,"50-54",null,18473.150000000001,13111.67,9057.17,7201.1100000000006,5507.2300000000005]
[55,"55-59",null,19650.810000000001,13947.480000000001,9637.52,7665.92,5859.68]
[60,"60",null,21400.34,15143.16,10968.35,9114.94,7327.7800000000007]
[61,"61",null,22990.870000000003,16267.29,11782.960000000001,9797.0500000000011,7869.4400000000005]
[62,"62",null,25166.52,17817.54,12902.85,10726.67,8616.74]
[63,"63",null,26762.350000000002,18942.2,13717.460000000001,11410.37,9159.99]
[64,"64",null,28943.83,20496.16,14842.12,12342.640000000001,9912.0600000000013]
[65,"65",null,37843.590000000004,26728.43,18763.060000000001,16455.440000000002,13973.980000000001]
[66,"66",null,43959.26,31056.940000000002,21801.550000000003,19125.05,16236.02]
[67,"67",null,48009.520000000004,33918.94,23811.84,20879.88,17734.330000000002]
[68,"68",null,{"$f":"$G$2*D168","v":53161.65},37553.15,26369.620000000003,23123.9,19637.030000000002]
[69,"69",null,58487.090000000004,41315.090000000004,29006.370000000003,25438.940000000002,21608.100000000002]
[70,"70",null,71980.89,50308.66,34146.310000000005,29649.79,25408.73]
[71,"71",null,74807.91,52276.55,35481.910000000003,30810.49,26412.550000000003]
[72,"72",null,76928.44,53755.780000000006,36491.560000000005,31682.870000000003,27156.670000000002]
[73,"73",null,79749.100000000006,55734.8,37828.75,32848.340000000004,28162.61]
[74,"74",null,81161.02,56717.950000000004,38498.670000000006,33433.990000000005,28653.920000000002]
[75,"75+",null,84695.590000000011,59188.810000000005,40173.47,34885.660000000003,29901.010000000002]
[1,"1 Child",null,3087.78,2253.0300000000002,1619.68,1318.1100000000001,977.85]
[2,"2 Children",null,4907.2700000000004,3590.75,2582.1600000000003,2098.8000000000002,1553.43]
[3,"3+ Children",null,7197.93,5260.25,3779.96,3075.06,2277.4100000000003]
[1,"Rider Comp. Maternidad",null,{"$f":"+D179*$G$2","v":0},0,119.25,119.25,119.25]
[1,"Transplante de organos",null,0,0,0,0,0]
[]
[]
[]
[]
["COMPLETE (LATINAMERICA ONLY)"]
["TARIFAS ANUALES"]
["EDAD"]
[" "," ","CL1","CL2","CL3","CL4","CL5","CL6"]
[18,"-  24"]
[25,"-  29"]
[30,"-  34"]
[35,"-  39"]
[40,"-  44"]
[45,"-  49"]
[50,"-  54"]
[55,"-  59"]
[60]
[61]
[62]
[63]
[64]
[65]
[66]
[67]
[68]
[69]
[70]
[71]
[72]
[73]
[74]
[75,"o más"]
[1,"Hijo"]
[2,"Hijos"]
[3,"Hijos o más"]
[1,"Rider Comp. Maternidad"]
[1,"Transplante de organos",0,0,0,0,0,0]
[]
["TARIFAS SEMESTRALES "]
["EDAD"]
[" "," ","CL1","CL2","CL3","CL4","CL5","CL6"]
[18,"-  24",{"$f":"+C224*$G$2","v":0},0,0,0,0,0]
[25,"-  29",0,0,0,0,0,0]
[30,"-  34",0,0,0,0,0,0]
[35,"-  39",0,0,0,0,0,0]
[40,"-  44",0,0,0,0,0,0]
[45,"-  49",0,0,0,0,0,0]
[50,"-  54",0,0,0,0,0,0]
[55,"-  59",0,0,0,0,0,0]
[60,null,0,0,0,0,0,0]
[61,null,0,0,0,0,0,0]
[62,null,0,0,0,0,0,0]
[63,null,0,0,0,0,0,0]
[64,null,0,0,0,0,0,0]
[65,null,0,0,0,0,0,0]
[66,null,0,0,0,0,0,0]
[67,null,0,0,0,0,0,0]
[68,null,{"$f":"+C240*$G$2","v":0},0,0,0,0,0]
[69,null,0,0,0,0,0,0]
[70,null,0,0,0,0,0,0]
[71,null,0,0,0,0,0,0]
[72,null,0,0,0,0,0,0]
[73,null,0,0,0,0,0,0]
[74,null,0,0,0,0,0,0]
[75,"o más",0,0,0,0,0,0]
[1,"Hijo",0,0,0,0,0,0]
[2,"Hijos",0,0,0,0,0,0]
[3,"Hijos o más",0,0,0,0,0,0]
[1,"Rider Comp. Maternidad",0,0,0,0,0,0]
[1,"Transplante de organos",0,0,0,0,0,0]
[]
[]
[]
[]
[]
[]
[]
["BUPA ADVANTAGE CARE (WORLDWIDE)"]
["TARIFAS ANUALES"]
["EDAD"]
[" "," ",null,"AW2","AW3","AW4","AW5","AW6"]
[18,"18-24",null,11182,8399,5973,4387,3477]
[25,"25-29",null,12431,9370,6644,4889,3854]
[30,"30-34",null,14386,11018,7896,5798,4470]
[35,"35-39",null,15957,12262,8782,6605,4953]
[40,"40-44",null,18014,13890,9957,7373,5607]
[45,"45-49",null,20927,16009,11234,8404,6515]
[50,"50-54",null,22926,17985,13083,9423,7150]
[55,"55-59",null,27083,20773,14469,10921,8459]
[60,"60",null,29924,23002,15908,12052,9362]
[61,"61",null,33681,25879,17915,13558,10545]
[62,"62",null,37431,28767,19909,15078,11719]
[63,"63",null,41182,31654,21909,16596,12900]
[64,"64",null,44923,34535,23907,18111,14074]
[65,"65",null,48576,37589,26057,19726,16015]
[66,"66",null,51434,39800,27598,20886,16971]
[67,"67",null,57157,44226,30670,23211,18853]
[68,"68",null,62891,48670,33744,25538,20753]
[69,"69",null,65746,50877,35274,26700,21698]
[70,"70",null,66598,51690,35817,27199,21976]
[71,"71",null,74927,58169,40297,30616,24738]
[72,"72",null,83274,64625,44783,34023,27492]
[73,"73",null,91603,71099,49259,37431,30246]
[74,"74",null,99939,77574,53758,40856,32997]
[75,"75+",null,109333,86524,61658,44713,37869]
[1,"1 Child",null,4980,3549,2602,2206,1587]
[2,"2 Children",null,8106,5592,4103,3492,2333]
[3,"3+ Children",null,11868,8148,5989,5059,3551]
[1,"Rider Comp. Maternidad",null,225,225,225,225,225]
[1,"Transplante de organos",null,300,300,300,300,300]
[]
[]
[]
["TARIFAS SEMESTRALES "]
["EDAD"]
[" "," ",null,"AW2","AW3","AW4","AW5","AW6"]
[18,"18-24",null,{"$f":"+D297*$G$2","v":5926.46},4451.47,3165.69,2325.11,1842.8100000000002]
[25,"25-29",null,6588.43,4966.1000000000004,3521.32,2591.17,2042.6200000000001]
[30,"30-34",null,7624.5800000000008,5839.54,4184.88,3072.94,2369.1]
[35,"35-39",null,8457.2100000000009,6498.8600000000006,4654.46,3500.65,2625.09]
[40,"40-44",null,9547.42,7361.7000000000007,5277.21,3907.69,2971.71]
[45,"45-49",null,11091.310000000001,8484.77,5954.02,4454.12,3452.9500000000003]
[50,"50-54",null,12150.78,9532.0500000000011,6933.9900000000007,4994.1900000000005,3789.5]
[55,"55-59",null,14353.990000000002,11009.69,7668.5700000000006,5788.13,4483.2700000000004]
[60,"60",null,15859.720000000001,12191.060000000001,8431.24,6387.56,4961.8600000000006]
[61,"61",null,17850.93,13715.87,9494.9500000000007,7185.7400000000007,5588.85]
[62,"62",null,19838.43,15246.51,10551.77,7991.34,6211.0700000000006]
[63,"63",null,21826.460000000003,16776.620000000003,11611.77,8795.880000000001,6837]
[64,"64",null,23809.190000000002,18303.55,12670.710000000001,9598.83,7459.22]
[65,"65",null,25745.280000000002,19922.170000000002,13810.210000000001,10454.780000000001,8487.9500000000007]
[66,"66",null,27260.02,21094,14626.94,11069.58,8994.630000000001]
[67,"67",null,30293.210000000003,23439.780000000002,16255.1,12301.83,9992.09]
[68,"68",null,{"$f":"+D313*$G$2","v":33332.230000000003},25795.100000000002,17884.32,13535.140000000001,10999.09]
[69,"69",null,34845.380000000005,26964.81,18695.22,14151,11499.94]
[70,"70",null,35296.94,27395.7,18983.010000000002,14415.470000000001,11647.28]
[71,"71",null,39711.310000000005,30829.570000000003,21357.41,16226.480000000001,13111.140000000001]
[72,"72",null,44135.22,34251.25,23734.99,18032.190000000002,14570.76]
[73,"73",null,48549.590000000004,37682.47,26107.27,19838.43,16030.380000000001]
[74,"74",null,52967.670000000006,41114.22,28491.74,21653.68,17488.41]
[75,"75+",null,57946.490000000005,45857.72,32678.74,23697.89,20070.57]
[1,"1 Child",null,2639.4,1880.97,1379.0600000000002,1169.18,841.11]
[2,"2 Children",null,4296.18,2963.76,2174.59,1850.76,1236.49]
[3,"3+ Children",null,6290.04,4318.4400000000005,3174.17,2681.27,1882.0300000000002]
[1,"Rider Comp. Maternidad",null,119.25,119.25,119.25,119.25,119.25]
[1,"Transplante de organos",null,159,159,159,159,159]
[]
[]
[]
[]
[]
["ADVANTAGE (LATINAMERICA ONLY)"]
["TARIFAS ANUALES"]
["EDAD"]
[" "," ",null,"AL2","AL3","AL4","AL5","AL6"]
[18,"18-24",null,11240,8450,6003,4521,3578]
[25,"25-29",null,12522,9432,6676,5046,3960]
[30,"30-34",null,14491,11087,7953,5984,4611]
[35,"35-39",null,16068,12342,8853,6822,5116]
[40,"40-44",null,18135,13999,10040,7628,5791]
[45,"45-49",null,21074,16127,11319,8682,6734]
[50,"50-54",null,23095,18131,13196,9747,7397]
[55,"55-59",null,27290,20932,14596,11305,8747]
[60,"60",null,30152,23179,16056,12465,9685]
[61,"61",null,33942,26076,18072,14038,10913]
[62,"62",null,37722,29010,20091,15611,12132]
[63,"63",null,41505,31913,22117,17178,13360]
[64,"64",null,45292,34829,24140,18760,14569]
[65,"65",null,48973,37903,26303,20431,16582]
[66,"66",null,51857,40135,27861,21635,17581]
[67,"67",null,57634,44613,30968,24062,19536]
[68,"68",null,63406,49074,34077,26482,21499]
[69,"69",null,66294,51314,35619,27680,22488]
[70,"70",null,67143,52135,36169,28205,22786]
[71,"71",null,75557,58666,40705,31745,25636]
[72,"72",null,83973,65215,45242,35276,28498]
[73,"73",null,92378,71746,49775,38821,31358]
[74,"74",null,100789,78269,54304,42358,34218]
[75,"75+",null,110253,87280,62287,46373,39262]
[1,"1 Child",null,5009,3572,2624,2281,1656]
[2,"2 Children",null,8181,5634,4146,3620,2438]
[3,"3+ Children",null,11967,8220,6057,5241,3690]
[1,"Rider Comp. Maternidad"]
[1,"Transplante de organos"]
[]
["TARIFAS SEMESTRALES "]
["EDAD"]
[" "," ",null,"AL2","AL3","AL4","AL5","AL6"]
[18,"18-24",null,{"$f":"+D370*$G$2","v":5957.2000000000007},4478.5,3181.59,2396.13,1896.3400000000001]
[25,"25-29",null,6636.6600000000008,4998.96,3538.28,2674.38,2098.8000000000002]
[30,"30-34",null,7680.2300000000005,5876.1100000000006,4215.09,3171.52,2443.83]
[35,"35-39",null,8516.0400000000009,6541.26,4692.09,3615.6600000000003,2711.48]
[40,"40-44",null,9611.5500000000011,7419.47,5321.2,4042.84,3069.23]
[45,"45-49",null,11169.220000000001,8547.3100000000013,5999.0700000000006,4601.46,3569.02]
[50,"50-54",null,12240.35,9609.43,6993.88,5165.91,3920.4100000000003]
[55,"55-59",null,14463.7,11093.960000000001,7735.88,5991.6500000000005,4635.91]
[60,"60",null,15980.560000000001,12284.87,8509.68,6606.4500000000007,5133.05]
[61,"61",null,17989.260000000002,13820.28,9578.16,7440.14,5783.89]
[62,"62",null,19992.66,15375.300000000001,10648.230000000001,8273.83,6429.96]
[63,"63",null,21997.65,16913.89,11722.01,9104.34,7080.8]
[64,"64",null,24004.760000000002,18459.370000000003,12794.2,9942.8000000000011,7721.5700000000006]
[65,"65",null,25955.690000000002,20088.59,13940.59,10828.43,8788.4600000000009]
[66,"66",null,27484.210000000003,21271.55,14766.33,11466.550000000001,9317.93]
[67,"67",null,30546.02,23644.89,16413.04,12752.86,10354.08]
[68,"68",null,{"$f":"+D386*$G$2","v":33605.18},26009.22,18060.810000000001,14035.460000000001,11394.470000000001]
[69,"69",null,35135.82,27196.420000000002,18878.07,14670.400000000001,11918.640000000001]
[70,"70",null,35585.79,27631.550000000003,19169.57,14948.650000000001,12076.58]
[71,"71",null,40045.21,31092.980000000003,21573.65,16824.850000000002,13587.08]
[72,"72",null,44505.69,34563.950000000004,23978.260000000002,18696.280000000002,15103.94]
[73,"73",null,48960.340000000004,38025.380000000005,26380.75,20575.13,16619.740000000002]
[74,"74",null,53418.170000000006,41482.57,28781.120000000003,22449.74,18135.54]
[75,"75+",null,58434.090000000004,46258.400000000001,33012.11,24577.690000000002,20808.86]
[1,"1 Child",null,2654.77,1893.16,1390.72,1208.93,877.68000000000006]
[2,"2 Children",null,4335.93,2986.02,2197.38,1918.6000000000001,1292.1400000000001]
[3,"3+ Children",null,6342.51,4356.6000000000004,3210.21,2777.73,1955.7]
[1,"Rider Comp. Maternidad",null,0,0,0,0,0]
[1,"Transplante de organos",null,0,0,0,0,0]
[]
[]
[]
[]
["BUPA SECURE CARE"]
["TARIFAS ANUALES"]
["EDAD"]
[" "," ",null,"SE2","SE3","SE4","SE5","SE6"]
[18,"18-24",null,9383,7359,5035,4100,3115]
[25,"25-29",null,10356,8304,5618,4569,3466]
[30,"30-34",null,11866,9745,6522,5309,4010]
[35,"35-39",null,13067,10899,7260,5904,4440]
[40,"40-44",null,14646,12437,8199,6671,5019]
[45,"45-49",null,16855,14584,9549,7746,5823]
[50,"50-54",null,18398,16056,10468,8502,6371]
[55,"55-59",null,21617,19164,12412,10080,7532]
[60,"60",null,22630,20486,13135,10670,7980]
[61,"61",null,25486,23050,14793,12013,8985]
[62,"62",null,28327,25628,16465,13350,10002]
[63,"63",null,31158,28202,18106,14698,11007]
[64,"64",null,34018,30774,19764,16042,12015]
[65,"65",null,34042,31069,19879,16132,12056]
[66,"66",null,34076,31360,19988,16216,12094]
[67,"67",null,37889,34858,22222,18033,13452]
[68,"68",null,41681,38336,24458,19847,14813]
[69,"69",null,43588,40076,25571,20736,15496]
[70,"70",null,43659,40766,25831,20944,15567]
[71,"71",null,49126,45874,29078,23574,17529]
[72,"72",null,54612,50992,32325,26203,19485]
[73,"73",null,60078,56083,35562,28832,21434]
[74,"74",null,65549,61199,38805,31464,23399]
[75,"75+",null,71437,67128,42431,34413,25571]
[1,"1 Child",null,4531,2664,2037,1647,1208]
[2,"2 Children",null,7634,3989,3199,2594,1925]
[3,"3+ Children",null,11209,5720,4645,3760,2789]
[1,"Rider Comp. Maternidad",null,225,225,225,225,225]
[1,"Transplante de organos",null,300,300,300,300,300]
[]
[]
[]
[]
["TARIFAS SEMESTRALES "]
["EDAD"]
[" "," ",null,"SE2","SE3","SE4","SE5","SE6"]
[18,"18-24",null,{"$f":"+D440*$G$2","v":4972.9900000000007},3900.27,2668.55,2173,1650.95]
[25,"25-29",null,5488.68,4401.12,2977.54,2421.5700000000002,1836.98]
[30,"30-34",null,6288.9800000000005,5164.8500000000004,3456.6600000000003,2813.77,2125.3000000000002]
[35,"35-39",null,6925.51,5776.47,3847.8,3129.1200000000003,2353.2000000000003]
[40,"40-44",null,7762.38,6591.6100000000006,4345.47,3535.63,2660.07]
[45,"45-49",null,8933.15,7729.52,5060.97,4105.38,3086.19]
[50,"50-54",null,9750.94,8509.68,5548.04,4506.0600000000004,3376.63]
[55,"55-59",null,11457.01,10156.92,6578.3600000000006,5342.4000000000005,3991.96]
[60,"60",null,11993.900000000001,10857.58,6961.55,5655.1,4229.4000000000005]
[61,"61",null,13507.58,12216.5,7840.29,6366.89,4762.05]
[62,"62",null,15013.310000000001,13582.84,8726.4500000000007,7075.5,5301.06]
[63,"63",null,16513.740000000002,14947.060000000001,9596.18,7789.9400000000005,5833.71]
[64,"64",null,18029.54,16310.220000000001,10474.92,8502.26,6367.9500000000007]
[65,"65",null,18042.260000000002,16466.57,10535.87,8549.9600000000009,6389.68]
[66,"66",null,18060.280000000002,16620.8,10593.640000000001,8594.48,6409.8200000000006]
[67,"67",null,20081.170000000002,18474.740000000002,11777.66,9557.49,7129.56]
[68,"68",null,{"$f":"+D456*$G$2","v":22090.93},20318.080000000002,12962.74,10518.91,7850.89]
[69,"69",null,23101.64,21240.280000000002,13552.630000000001,10990.08,8212.880000000001]
[70,"70",null,23139.27,21605.98,13690.43,11100.32,8250.51]
[71,"71",null,26036.780000000002,24313.22,15411.34,12494.220000000001,9290.3700000000008]
[72,"72",null,28944.36,27025.760000000002,17132.25,13887.59,10327.050000000001]
[73,"73",null,31841.34,29723.99,18847.86,15280.960000000001,11360.02]
[74,"74",null,34740.97,32435.47,20566.650000000001,16675.920000000002,12401.470000000001]
[75,"75+",null,37861.61,35577.840000000004,22488.43,18238.89,13552.630000000001]
[1,"1 Child",null,2401.4300000000003,1411.92,1079.6100000000001,872.91000000000008,640.24]
[2,"2 Children",null,4046.02,2114.17,1695.47,1374.8200000000002,1020.25]
[3,"3+ Children",null,5940.77,3031.6000000000004,2461.85,1992.8000000000002,1478.17]
[1,"Rider Comp. Maternidad",null,119.25,119.25,119.25,119.25,119.25]
[1,"Transplante de organos",null,159,159,159,159,159]
[]
[]
[]
[]
["ESSENTIAL"]
["TARIFAS ANUALES"]
["EDAD"]
[" "," ",null,"ET2","ET3","ET4","ET5","ET6"]
[18,"18-24",null,7758,6084,4157,3382,2568]
[25,"25-29",null,8556,6853,4641,3780,2857]
[30,"30-34",null,9806,8048,5390,4382,3299]
[35,"35-39",null,10810,9024,5991,4872,3673]
[40,"40-44",null,12115,10293,6771,5510,4147]
[45,"45-49",null,13949,12064,7905,6414,4814]
[50,"50-54",null,15231,13293,8660,7043,5264]
[55,"55-59",null,17885,15876,10267,8329,6236]
[60,"60",null,18725,16960,10878,8825,6595]
[61,"61",null,21088,19093,12245,9937,7435]
[62,"62",null,23455,21218,13617,11050,8272]
[63,"63",null,25817,23352,14984,12165,9101]
[64,"64",null,28157,25480,16361,13280,9941]
[65,"65",null,28190,25734,16468,13351,9972]
[66,"66",null,28218,25976,16566,13419,10018]
[67,"67",null,31378,28865,18409,14926,11138]
[68,"68",null,34516,31775,20253,16422,12263]
[69,"69",null,36097,33210,21183,17177,12823]
[70,"70",null,36156,33779,21405,17336,12891]
[71,"71",null,40685,38015,24085,19528,14523]
[72,"72",null,45236,42237,26771,21709,16121]
[73,"73",null,49757,46471,29456,23877,17750]
[74,"74",null,54313,50711,32145,26061,19370]
[75,"75+",null,59178,55616,35161,28498,21172]
[1,"1 Child",null,3756,2226,1691,1365,1006]
[2,"2 Children",null,6327,3301,2647,2145,1594]
[3,"3+ Children",null,9292,4737,3858,3115,2304]
[1,"Rider Comp. Maternidad",null,225,225,225,225,225]
[1,"Transplante de organos",null,300,300,300,300,300]
[]
[]
[]
["TARIFAS SEMESTRALES "]
["EDAD"]
[" "," ",null,"ET2","ET3","ET4","ET5","ET6"]
[18,"18-24",null,{"$f":"+D513*$G$2","v":4111.74},3224.52,2203.21,1792.46,1361.04]
[25,"25-29",null,4534.68,3632.09,2459.73,2003.4,1514.21]
[30,"30-34",null,5197.18,4265.4400000000005,2856.7000000000003,2322.46,1748.47]
[35,"35-39",null,5729.3,4782.72,3175.23,2582.1600000000003,1946.69]
[40,"40-44",null,6420.9500000000007,5455.29,3588.63,2920.3,2197.9100000000003]
[45,"45-49",null,7392.97,6393.92,4189.6500000000005,3399.42,2551.42]
[50,"50-54",null,8072.43,7045.29,4589.8,3732.79,2789.92]
[55,"55-59",null,9479.0500000000011,8414.2800000000007,5441.51,4414.37,3305.0800000000004]
[60,"60",null,9924.25,8988.8000000000011,5765.34,4677.25,3495.3500000000004]
[61,"61",null,11176.640000000001,10119.290000000001,6489.85,5266.6100000000006,3940.55]
[62,"62",null,12431.150000000001,11245.54,7217.01,5856.5,4384.16]
[63,"63",null,13683.01,12376.560000000001,7941.52,6447.4500000000007,4823.5300000000007]
[64,"64",null,14923.210000000001,13504.400000000001,8671.33,7038.4000000000005,5268.7300000000005]
[65,"65",null,14940.7,13639.02,8728.0400000000009,7076.0300000000007,5285.16]
[66,"66",null,14955.54,13767.28,8779.98,7112.0700000000006,5309.54]
[67,"67",null,16630.34,15298.45,9756.77,7910.7800000000007,5903.14]
[68,"68",null,{"$f":"+D529*$G$2","v":18293.48},16840.75,10734.09,8703.66,6499.39]
[69,"69",null,19131.41,17601.3,11226.99,9103.8100000000013,6796.1900000000005]
[70,"70",null,19162.68,17902.870000000003,11344.650000000001,9188.08,6832.2300000000005]
[71,"71",null,21563.05,20147.95,12765.050000000001,10349.84,7697.1900000000005]
[72,"72",null,23975.08,22385.61,14188.630000000001,11505.77,8544.130000000001]
[73,"73",null,26371.210000000003,24629.63,15611.68,12654.810000000001,9407.5]
[74,"74",null,28785.890000000003,26876.83,17036.850000000002,13812.33,10266.1]
[75,"75+",null,31364.34,29476.480000000003,18635.330000000002,15103.94,11221.16]
[1,"1 Child",null,1990.68,1179.78,896.23,723.45,533.18000000000006]
[2,"2 Children",null,3353.31,1749.5300000000002,1402.91,1136.8500000000001,844.82]
[3,"3+ Children",null,4924.76,2510.61,2044.74,1650.95,1221.1200000000001]
[1,"Rider Comp. Maternidad",null,119.25,119.25,119.25,119.25,119.25]
[1,"Transplante de organos",null,159,159,159,159,159]
[]
[]
[]
[]
[]
["CRITICAL"]
["TARIFAS ANUALES"]
["EDAD"]
[" "," ","CR1",null,null,"CR2",null,null,"CR3",null,null,"CR4",null,null,"CR5",null,null,"CR6"]
[null,null,"INDIVIDUAL","2 PERSONAS","FAMILIAR","INDIVIDUAL","2 PERSONAS","FAMILIAR","INDIVIDUAL","2 PERSONAS","FAMILIAR","INDIVIDUAL","2 PERSONAS","FAMILIAR","INDIVIDUAL","2 PERSONAS","FAMILIAR","INDIVIDUAL","2 PERSONAS","FAMILIAR"]
[18,"-  49",4426,7783,11129,3576,6101,8631,3060,5261,7439,2432,4071,5707,1824,2940,4058,1144,1685,2237]
[50,"o más",5596,8947,12299,4517,7038,9549,3816,6027,8202,3000,4635,6289,2209,3323,4444,1336,1871,2427]
[]
[]
["TARIFAS SEMESTRALES "]
["EDAD"]
[" "," ","CR1",null,null,"CR2",null,null,"CR3",null,null,"CR4",null,null,"CR5"]
[null,null,"INDIVIDUAL","2 PERSONAS","FAMILIAR","INDIVIDUAL","2 PERSONAS","FAMILIAR","INDIVIDUAL","2 PERSONAS","FAMILIAR","INDIVIDUAL","2 PERSONAS","FAMILIAR","INDIVIDUAL","2 PERSONAS","FAMILIAR"]
[18,"-  25",{"$f":"AO595","v":0},{"$f":"AP595","v":0},0,0,0,0,0,0,0,0,0,0,0,0,0]
[75,"o más",{"$f":"AO596","v":0},0,0,0,0,0,0,0,0,0,0,0,0,0,0]

{"sheet":"5","index":11,"n_rows":596,"n_cols":20,"rows_kept":596,"cut":false,"hidden":true,"merged":[[1,8,1,9],[4,0,4,7],[4,10,4,11],[5,0,5,7],[5,16,5,17],[6,0,6,1],[6,2,6,6],[111,0,111,7],[112,0,112,1],[112,2,112,6],[147,0,147,7],[148,0,148,7],[149,0,149,1],[149,2,149,6],[40,0,40,7],[41,0,41,1],[41,2,41,6],[77,0,77,7],[78,0,78,7],[79,0,79,1],[79,2,79,6],[253,0,253,7],[254,0,254,1],[254,2,254,6],[292,0,292,7],[293,0,293,7],[294,0,294,1],[294,2,294,6],[183,0,183,7],[184,0,184,1],[184,2,184,6],[219,0,219,7],[220,0,220,7],[221,0,221,1],[221,2,221,6],[399,0,399,7],[400,0,400,1],[400,2,400,6],[435,0,435,7],[436,0,436,7],[437,0,437,1],[437,2,437,6],[328,0,328,7],[329,0,329,1],[329,2,329,6],[365,0,365,7],[366,0,366,7],[367,0,367,1],[367,2,367,6],[544,0,544,7],[545,0,545,1],[545,2,545,6],[581,0,581,19],[582,0,582,19],[583,0,583,1],[583,2,583,6],[472,0,472,7],[473,0,473,1],[473,2,473,6],[508,0,508,7],[509,0,509,7],[510,0,510,1],[510,2,510,6],[591,38,591,39],[591,40,591,44],[584,43,584,45],[584,46,584,48],[584,49,584,51],[584,52,584,54],[590,0,590,16],[590,19,590,35],[590,38,590,54],[584,21,584,23],[584,24,584,26],[584,27,584,29],[584,30,584,32],[584,33,584,35],[584,40,584,42],[584,2,584,4],[584,5,584,7],[584,8,584,10],[584,11,584,13],[584,14,584,16],[584,17,584,19],[592,2,592,4],[592,5,592,7],[592,8,592,10],[592,11,592,13],[592,14,592,16],[592,21,592,23],[591,0,591,1],[591,2,591,6],[591,19,591,20],[591,21,591,25],[592,46,592,48],[592,49,592,51],[592,52,592,54],[592,24,592,26],[592,27,592,29],[592,30,592,32],[592,33,592,35],[592,40,592,42],[592,43,592,45]]}
[null,null,null,null,null,null,null,null,null,null,"D1","D2","D3","D4","D5","D6"]
[null,"REGIÓN",{"$f":"'INSURED INFORMATION'!W14","v":8},null,"FACTOR SEMESTRAL :",null,0.53,null,"NEW BUSINESS DISCUOUNTS",null,{"$f":"'INSURED INFORMATION'!P53","v":1},{"$f":"'INSURED INFORMATION'!Q53","v":1},{"$f":"'INSURED INFORMATION'!R53","v":1},{"$f":"'INSURED INFORMATION'!S53","v":1},{"$f":"'INSURED INFORMATION'!T53","v":1},{"$f":"'INSURED INFORMATION'!U53","v":1}]
[]
[]
["BUPA EXCLUSIVE CARE"]
["TARIFAS ANUALES"]
["EDAD"]
[" "," ","DW1","DW2","DW3","DW4","DW5","DW6"]
[18,"18-24",null,12025,7956,5536,3807,2993]
[25,"25-29",null,12613,8787,6128,4209,3314]
[30,"30-34",null,13118,9421,6860,5040,3976]
[35,"35-39",null,14696,10550,7686,5648,4452]
[40,"40-44",null,17029,11528,8531,6202,4891]
[45,"45-49",null,19035,12895,9524,6935,5466]
[50,"50-54",null,24360,16910,12431,9793,7725]
[55,"55-59",null,25912,17994,13225,10417,8221]
[60,"60",null,28224,19631,15209,12544,10210]
[61,"61",null,30326,21092,16328,13481,10966]
[62,"62",null,33204,23094,17891,14752,12004]
[63,"63",null,35298,24554,19014,15695,12767]
[64,"64",null,38182,26571,20573,16974,13810]
[65,"65",null,49902,34651,26005,22631,19468]
[66,"66",null,57970,40257,30218,26300,22619]
[67,"67",null,63322,43965,33005,28723,24700]
[68,"68",null,70108,48679,36540,31807,27358]
[69,"69",null,77142,53567,40201,34989,30096]
[70,"70",null,94934,65214,47326,40770,35393]
[71,"71",null,98660,67778,49183,42375,36783]
[72,"72",null,101458,69685,50569,43572,37833]
[73,"73",null,105182,72247,52428,45178,39219]
[74,"74",null,107042,73522,53360,45972,39911]
[75,"75+",null,111702,76728,55678,47976,41651]
[1,"1 Child",null,4177,3073,2467,2005,1566]
[2,"2 Children",null,6636,4894,3918,3185,2479]
[3,"3+ Children",null,9731,7162,5744,4669,3638]
[1,"Rider Comp. Maternidad",null,0,0,225,225,225]
[1,"Transplante de organos",null,0,0,0,0,0]
[]
[]
[]
["TARIFAS SEMESTRALES "]
["EDAD"]
[" "," ",null,"DW2","DW3","DW4","DW5","DW6"]
[18,"18-24",null,{"$f":"$G$2*D9","v":6373.25},4216.68,2934.08,2017.71,1586.2900000000002]
[25,"25-29",null,6684.89,4657.1100000000006,3247.84,2230.77,1756.42]
[30,"30-34",null,6952.54,4993.13,3635.8,2671.2000000000003,2107.2800000000002]
[35,"35-39",null,7788.88,5591.5,4073.5800000000004,2993.44,2359.56]
[40,"40-44",null,9025.3700000000008,6109.84,4521.43,3287.06,2592.23]
[45,"45-49",null,10088.550000000001,6834.35,5047.72,3675.55,2896.98]
[50,"50-54",null,12910.800000000001,8962.3000000000011,6588.43,5190.29,4094.25]
[55,"55-59",null,13733.36,9536.82,7009.25,5521.01,4357.13]
[60,"60",null,14958.720000000001,10404.43,8060.77,6648.3200000000006,5411.3]
[61,"61",null,16072.78,11178.76,8653.84,7144.93,5811.9800000000005]
[62,"62",null,17598.120000000003,12239.82,9482.2300000000014,7818.56,6362.12]
[63,"63",null,18707.940000000002,13013.62,10077.42,8318.35,6766.51]
[64,"64",null,20236.460000000003,14082.630000000001,10903.69,8996.2200000000012,7319.3]
[65,"65",null,26448.06,18365.030000000002,13782.650000000001,11994.43,10318.040000000001]
[66,"66",null,30724.100000000002,21336.210000000003,16015.54,13939,11988.07]
[67,"67",null,33560.660000000003,23301.45,17492.650000000001,15223.19,13091]
[68,"68",null,{"$f":"$G$2*D25","v":37157.240000000005},25799.870000000003,19366.2,16857.71,14499.740000000002]
[69,"69",null,40885.26,28390.510000000002,21306.530000000002,18544.170000000002,15950.880000000001]
[70,"70",null,50315.020000000004,34563.42,25082.780000000002,21608.100000000002,18758.29]
[71,"71",null,52289.8,35922.340000000004,26066.99,22458.75,19494.990000000002]
[72,"72",null,53772.740000000005,36933.050000000003,26801.57,23093.16,20051.490000000002]
[73,"73",null,55746.460000000006,38290.910000000003,27786.84,23944.34,20786.07]
[74,"74",null,56732.26,38966.660000000003,28280.800000000003,24365.16,21152.83]
[75,"75+",null,59202.060000000005,40665.840000000004,29509.34,25427.280000000002,22075.030000000002]
[1,"1 Child",null,2213.81,1628.69,1307.51,1062.6500000000001,829.98]
[2,"2 Children",null,3517.0800000000004,2593.8200000000002,2076.54,1688.0500000000002,1313.8700000000001]
[3,"3+ Children",null,5157.43,3795.86,3044.32,2474.5700000000002,1928.14]
[1,"Rider Comp. Maternidad",null,{"$f":"+D36*$G$2","v":0},0,119.25,119.25,119.25]
[1,"Transplante de organos",null,0,0,0,0,0]
[]
[]
[]
[]
[]
["DIAMOND (LATINAMERICA ONLY)"]
["TARIFAS ANUALES"]
["EDAD"]
[" "," ","DL1","DL2","DL3","DL4","DL5","DL6"]
[18,"-  24"]
[25,"-  29"]
[30,"-  34"]
[35,"-  39"]
[40,"-  44"]
[45,"-  49"]
[50,"-  54"]
[55,"-  59"]
[60]
[61]
[62]
[63]
[64]
[65]
[66]
[67]
[68]
[69]
[70]
[71]
[72]
[73]
[74]
[75,"o más"]
[1,"Hijo"]
[2,"Hijos"]
[3,"Hijos o más"]
[1,"Rider Comp. Maternidad"]
[1,"Transplante de organos",0,0,0,0,0,0]
[]
["TARIFAS SEMESTRALES "]
["EDAD"]
[" "," ","DL1","DL2","DL3","DL4","DL5","DL6"]
[18,"-  24",{"$f":"+C82*$G$2","v":0},0,0,0,0,0]
[25,"-  29",0,0,0,0,0,0]
[30,"-  34",0,0,0,0,0,0]
[35,"-  39",0,0,0,0,0,0]
[40,"-  44",0,0,0,0,0,0]
[45,"-  49",0,0,0,0,0,0]
[50,"-  54",0,0,0,0,0,0]
[55,"-  59",0,0,0,0,0,0]
[60,null,0,0,0,0,0,0]
[61,null,0,0,0,0,0,0]
[62,null,0,0,0,0,0,0]
[63,null,0,0,0,0,0,0]
[64,null,0,0,0,0,0,0]
[65,null,0,0,0,0,0,0]
[66,null,0,0,0,0,0,0]
[67,null,0,0,0,0,0,0]
[68,null,{"$f":"+C98*$G$2","v":0},0,0,0,0,0]
[69,null,0,0,0,0,0,0]
[70,null,0,0,0,0,0,0]
[71,null,0,0,0,0,0,0]
[72,null,0,0,0,0,0,0]
[73,null,0,0,0,0,0,0]
[74,null,0,0,0,0,0,0]
[75,"o más",0,0,0,0,0,0]
[1,"Hijo",0,0,0,0,0,0]
[2,"Hijos",0,0,0,0,0,0]
[3,"Hijos o más",0,0,0,0,0,0]
[1,"Rider Comp. Maternidad",0,0,0,0,0,0]
[1,"Transplante de organos",0,0,0,0,0,0]
[]
[]
[]
[]
["BUPA PRIVILEGE CARE"]
["TARIFAS ANUALES"]
["EDAD"]
[" "," ","CW1","CW2","CW3","CW4","CW5","CW6"]
[18,"18-24",null,10115,6955,4806,3287,2504]
[25,"25-29",null,10613,7689,5325,3643,2781]
[30,"30-34",null,11091,8241,5965,4413,3365]
[35,"35-39",null,12416,9223,6682,4942,3769]
[40,"40-44",null,14372,10102,7430,5448,4158]
[45,"45-49",null,16049,11292,8313,6085,4651]
[50,"50-54",null,20980,14889,10910,8684,6637]
[55,"55-59",null,22324,15841,11609,9242,7066]
[60,"60",null,24311,17207,13205,10996,8827]
[61,"61",null,26115,18480,14184,11809,9479]
[62,"62",null,28588,20239,15536,12929,10385]
[63,"63",null,30397,21512,16514,13745,11039]
[64,"64",null,32877,23275,17865,14870,11944]
[65,"65",null,42971,30357,22591,19824,16838]
[66,"66",null,49925,35267,26245,23036,19570]
[67,"67",null,54532,38524,28662,25160,21366]
[68,"68",null,60385,42654,31746,27870,23659]
[69,"69",null,66431,46926,34923,30654,26033]
[70,"70",null,81752,57135,41104,35723,30622]
[71,"71",null,84961,59370,42723,37119,31822]
[72,"72",null,87357,61058,43930,38175,32723]
[73,"73",null,90583,63298,45543,39575,33928]
[74,"74",null,92181,64420,46344,40275,34526]
[75,"75+",null,96191,67216,48365,42030,36030]
[1,"1 Child",null,3509,2564,1953,1591,1178]
[2,"2 Children",null,5583,4083,3106,2532,1872]
[3,"3+ Children",null,8178,5983,4553,3707,2746]
[1,"Rider Comp. Maternidad",null,0,0,225,225,225]
[1,"Transplante de organos",null,0,0,0,0,0]
[]
[]
[]
["TARIFAS SEMESTRALES "]
["EDAD"]
[" "," ",null,"CW2","CW3","CW4","CW5","CW6"]
[18,"18-24",null,{"$f":"$G$2*D152","v":5360.95},3686.15,2547.1800000000003,1742.1100000000001,1327.1200000000001]
[25,"25-29",null,5624.89,4075.17,2822.25,1930.7900000000002,1473.93]
[30,"30-34",null,5878.2300000000005,4367.7300000000005,3161.4500000000003,2338.8900000000003,1783.45]
[35,"35-39",null,6580.4800000000005,4888.1900000000005,3541.46,2619.2600000000002,1997.5700000000002]
[40,"40-44",null,7617.1600000000008,5354.06,3937.9,2887.44,2203.7400000000002]
[45,"45-49",null,8505.9700000000012,5984.76,4405.8900000000003,3225.05,2465.0300000000002]
[50,"50-54",null,11119.400000000001,7891.17,5782.3,4602.5200000000004,3517.61]
[55,"55-59",null,11831.720000000001,8395.73,6152.77,4898.26,3744.98]
[60,"60",null,12884.83,9119.7100000000009,6998.6500000000005,5827.88,4678.3100000000004]
[61,"61",null,13840.95,9794.4,7517.52,6258.77,5023.87]
[62,"62",null,15151.640000000001,10726.67,8234.08,6852.37,5504.05]
[63,"63",null,16110.410000000002,11401.36,8752.42,7284.85,5850.67]
[64,"64",null,17424.810000000001,12335.75,9468.4500000000007,7881.1,6330.3200000000006]
[65,"65",null,22774.63,16089.210000000001,11973.230000000001,10506.720000000001,8924.1400000000012]
[66,"66",null,26460.25,18691.510000000002,13909.85,12209.08,10372.1]
[67,"67",null,28901.960000000003,20417.72,15190.86,13334.800000000001,11323.980000000001]
[68,"68",null,{"$f":"$G$2*D168","v":32004.050000000003},22606.620000000003,16825.38,14771.1,12539.27]
[69,"69",null,35208.43,24870.780000000002,18509.190000000002,16246.62,13797.490000000002]
[70,"70",null,43328.560000000005,30281.550000000003,21785.120000000003,18933.190000000002,16229.660000000002]
[71,"71",null,45029.33,31466.100000000002,22643.190000000002,19673.07,16865.66]
[72,"72",null,46299.21,32360.74,23282.9,20232.75,17343.190000000002]
[73,"73",null,48008.990000000005,33547.94,24137.79,20974.75,17981.84]
[74,"74",null,48855.93,34142.6,24562.32,21345.75,18298.780000000002]
[75,"75+",null,50981.23,35624.480000000003,25633.45,22275.9,19095.900000000001]
[1,"1 Child",null,1859.77,1358.92,1035.0900000000001,843.23,624.34]
[2,"2 Children",null,2958.9900000000002,2163.9900000000002,1646.18,1341.96,992.16000000000008]
[3,"3+ Children",null,4334.34,3170.9900000000002,2413.09,1964.71,1455.38]
[1,"Rider Comp. Maternidad",null,{"$f":"+D179*$G$2","v":0},0,119.25,119.25,119.25]
[1,"Transplante de organos",null,0,0,0,0,0]
[]
[]
[]
[]
["COMPLETE (LATINAMERICA ONLY)"]
["TARIFAS ANUALES"]
["EDAD"]
[" "," ","CL1","CL2","CL3","CL4","CL5","CL6"]
[18,"-  24"]
[25,"-  29"]
[30,"-  34"]
[35,"-  39"]
[40,"-  44"]
[45,"-  49"]
[50,"-  54"]
[55,"-  59"]
[60]
[61]
[62]
[63]
[64]
[65]
[66]
[67]
[68]
[69]
[70]
[71]
[72]
[73]
[74]
[75,"o más"]
[1,"Hijo"]
[2,"Hijos"]
[3,"Hijos o más"]
[1,"Rider Comp. Maternidad"]
[1,"Transplante de organos",0,0,0,0,0,0]
[]
["TARIFAS SEMESTRALES "]
["EDAD"]
[" "," ","CL1","CL2","CL3","CL4","CL5","CL6"]
[18,"-  24",{"$f":"+C224*$G$2","v":0},0,0,0,0,0]
[25,"-  29",0,0,0,0,0,0]
[30,"-  34",0,0,0,0,0,0]
[35,"-  39",0,0,0,0,0,0]
[40,"-  44",0,0,0,0,0,0]
[45,"-  49",0,0,0,0,0,0]
[50,"-  54",0,0,0,0,0,0]
[55,"-  59",0,0,0,0,0,0]
[60,null,0,0,0,0,0,0]
[61,null,0,0,0,0,0,0]
[62,null,0,0,0,0,0,0]
[63,null,0,0,0,0,0,0]
[64,null,0,0,0,0,0,0]
[65,null,0,0,0,0,0,0]
[66,null,0,0,0,0,0,0]
[67,null,0,0,0,0,0,0]
[68,null,{"$f":"+C240*$G$2","v":0},0,0,0,0,0]
[69,null,0,0,0,0,0,0]
[70,null,0,0,0,0,0,0]
[71,null,0,0,0,0,0,0]
[72,null,0,0,0,0,0,0]
[73,null,0,0,0,0,0,0]
[74,null,0,0,0,0,0,0]
[75,"o más",0,0,0,0,0,0]
[1,"Hijo",0,0,0,0,0,0]
[2,"Hijos",0,0,0,0,0,0]
[3,"Hijos o más",0,0,0,0,0,0]
[1,"Rider Comp. Maternidad",0,0,0,0,0,0]
[1,"Transplante de organos",0,0,0,0,0,0]
[]
[]
[]
[]
[]
[]
[]
["BUPA ADVANTAGE CARE (WORLDWIDE)"]
["TARIFAS ANUALES"]
["EDAD"]
[" "," ",null,"AW2","AW3","AW4","AW5","AW6"]
[18,"18-24",null,6725,5056,3772,2774,2200]
[25,"25-29",null,7479,5643,4199,3093,2436]
[30,"30-34",null,8663,6629,4992,3665,2832]
[35,"35-39",null,9599,7382,5552,4180,3142]
[40,"40-44",null,10832,8364,6292,4669,3547]
[45,"45-49",null,12582,9632,7089,5309,4124]
[50,"50-54",null,13785,10828,8259,5965,4529]
[55,"55-59",null,16290,12497,9142,6899,5348]
[60,"60",null,17998,13833,10055,7616,5915]
[61,"61",null,20249,15572,11310,8575,6666]
[62,"62",null,22511,17303,12567,9531,7401]
[63,"63",null,24762,19035,13831,10486,8156]
[64,"64",null,27017,20772,15096,11443,8900]
[65,"65",null,29204,22600,16451,12462,10128]
[66,"66",null,30934,23942,17421,13200,10729]
[67,"67",null,34380,26603,19367,14673,11922]
[68,"68",null,37814,29266,21299,16141,13111]
[69,"69",null,39538,30598,22277,16878,13715]
[70,"70",null,40053,31085,22614,17196,13896]
[71,"71",null,45066,34976,25445,19350,15634]
[72,"72",null,50075,38876,28279,21505,17371]
[73,"73",null,55088,42754,31108,23662,19118]
[74,"74",null,60100,46652,33943,25815,20855]
[75,"75+",null,65740,52032,38925,28255,23934]
[1,"1 Child",null,2997,2134,1643,1398,1007]
[2,"2 Children",null,4874,3366,2604,2206,1481]
[3,"3+ Children",null,7134,4906,3780,3202,2250]
[1,"Rider Comp. Maternidad",null,225,225,225,225,225]
[1,"Transplante de organos",null,300,300,300,300,300]
[]
[]
[]
["TARIFAS SEMESTRALES "]
["EDAD"]
[" "," ",null,"AW2","AW3","AW4","AW5","AW6"]
[18,"18-24",null,{"$f":"+D297*$G$2","v":3564.25},2679.6800000000003,1999.16,1470.22,1166]
[25,"25-29",null,3963.8700000000003,2990.79,2225.4700000000003,1639.2900000000002,1291.0800000000002]
[30,"30-34",null,4591.3900000000003,3513.3700000000003,2645.76,1942.45,1500.96]
[35,"35-39",null,5087.47,3912.46,2942.56,2215.4,1665.26]
[40,"40-44",null,5740.96,4432.92,3334.76,2474.5700000000002,1879.91]
[45,"45-49",null,6668.46,5104.96,3757.17,2813.77,2185.7200000000003]
[50,"50-54",null,7306.05,5738.84,4377.2700000000004,3161.4500000000003,2400.3700000000003]
[55,"55-59",null,8633.7000000000007,6623.4100000000008,4845.26,3656.4700000000003,2834.44]
[60,"60",null,9538.94,7331.4900000000007,5329.1500000000005,4036.48,3134.9500000000003]
[61,"61",null,10731.970000000001,8253.16,5994.3,4544.75,3532.98]
[62,"62",null,11930.83,9170.59,6660.51,5051.43,3922.53]
[63,"63",null,13123.86,10088.550000000001,7330.43,5557.58,4322.68]
[64,"64",null,14319.01,11009.16,8000.88,6064.79,4717]
[65,"65",null,15478.12,11978,8719.0300000000007,6604.8600000000006,5367.84]
[66,"66",null,16395.02,12689.26,9233.130000000001,6996,5686.37]
[67,"67",null,18221.400000000001,14099.59,10264.51,7776.6900000000005,6318.6600000000008]
[68,"68",null,{"$f":"+D313*$G$2","v":20041.420000000002},15510.980000000001,11288.470000000001,8554.73,6948.83]
[69,"69",null,20955.14,16216.94,11806.810000000001,8945.34,7268.9500000000007]
[70,"70",null,21228.09,16475.05,11985.42,9113.880000000001,7364.88]
[71,"71",null,23884.98,18537.280000000002,13485.85,10255.5,8286.02]
[72,"72",null,26539.75,20604.280000000002,14987.87,11397.650000000001,9206.630000000001]
[73,"73",null,29196.640000000003,22659.620000000003,16487.240000000002,12540.86,10132.540000000001]
[74,"74",null,31853,24725.56,17989.79,13681.95,11053.150000000001]
[75,"75+",null,34842.200000000004,27576.960000000003,20630.25,14975.150000000001,12685.02]
[1,"1 Child",null,1588.41,1131.02,870.79000000000008,740.94,533.71]
[2,"2 Children",null,2583.2200000000003,1783.98,1380.1200000000001,1169.18,784.93000000000006]
[3,"3+ Children",null,3781.02,2600.1800000000003,2003.4,1697.0600000000002,1192.5]
[1,"Rider Comp. Maternidad",null,119.25,119.25,119.25,119.25,119.25]
[1,"Transplante de organos",null,159,159,159,159,159]
[]
[]
[]
[]
[]
["ADVANTAGE (LATINAMERICA ONLY)"]
["TARIFAS ANUALES"]
["EDAD"]
[" "," ",null,"AL2","AL3","AL4","AL5","AL6"]
[18,"18-24",null,11240,8450,6003,4521,3578]
[25,"25-29",null,12522,9432,6676,5046,3960]
[30,"30-34",null,14491,11087,7953,5984,4611]
[35,"35-39",null,16068,12342,8853,6822,5116]
[40,"40-44",null,18135,13999,10040,7628,5791]
[45,"45-49",null,21074,16127,11319,8682,6734]
[50,"50-54",null,23095,18131,13196,9747,7397]
[55,"55-59",null,27290,20932,14596,11305,8747]
[60,"60",null,30152,23179,16056,12465,9685]
[61,"61",null,33942,26076,18072,14038,10913]
[62,"62",null,37722,29010,20091,15611,12132]
[63,"63",null,41505,31913,22117,17178,13360]
[64,"64",null,45292,34829,24140,18760,14569]
[65,"65",null,48973,37903,26303,20431,16582]
[66,"66",null,51857,40135,27861,21635,17581]
[67,"67",null,57634,44613,30968,24062,19536]
[68,"68",null,63406,49074,34077,26482,21499]
[69,"69",null,66294,51314,35619,27680,22488]
[70,"70",null,67143,52135,36169,28205,22786]
[71,"71",null,75557,58666,40705,31745,25636]
[72,"72",null,83973,65215,45242,35276,28498]
[73,"73",null,92378,71746,49775,38821,31358]
[74,"74",null,100789,78269,54304,42358,34218]
[75,"75+",null,110253,87280,62287,46373,39262]
[1,"1 Child",null,5009,3572,2624,2281,1656]
[2,"2 Children",null,8181,5634,4146,3620,2438]
[3,"3+ Children",null,11967,8220,6057,5241,3690]
[1,"Rider Comp. Maternidad"]
[1,"Transplante de organos"]
[]
["TARIFAS SEMESTRALES "]
["EDAD"]
[" "," ",null,"AL2","AL3","AL4","AL5","AL6"]
[18,"18-24",null,{"$f":"+D370*$G$2","v":5957.2000000000007},4478.5,3181.59,2396.13,1896.3400000000001]
[25,"25-29",null,6636.6600000000008,4998.96,3538.28,2674.38,2098.8000000000002]
[30,"30-34",null,7680.2300000000005,5876.1100000000006,4215.09,3171.52,2443.83]
[35,"35-39",null,8516.0400000000009,6541.26,4692.09,3615.6600000000003,2711.48]
[40,"40-44",null,9611.5500000000011,7419.47,5321.2,4042.84,3069.23]
[45,"45-49",null,11169.220000000001,8547.3100000000013,5999.0700000000006,4601.46,3569.02]
[50,"50-54",null,12240.35,9609.43,6993.88,5165.91,3920.4100000000003]
[55,"55-59",null,14463.7,11093.960000000001,7735.88,5991.6500000000005,4635.91]
[60,"60",null,15980.560000000001,12284.87,8509.68,6606.4500000000007,5133.05]
[61,"61",null,17989.260000000002,13820.28,9578.16,7440.14,5783.89]
[62,"62",null,19992.66,15375.300000000001,10648.230000000001,8273.83,6429.96]
[63,"63",null,21997.65,16913.89,11722.01,9104.34,7080.8]
[64,"64",null,24004.760000000002,18459.370000000003,12794.2,9942.8000000000011,7721.5700000000006]
[65,"65",null,25955.690000000002,20088.59,13940.59,10828.43,8788.4600000000009]
[66,"66",null,27484.210000000003,21271.55,14766.33,11466.550000000001,9317.93]
[67,"67",null,30546.02,23644.89,16413.04,12752.86,10354.08]
[68,"68",null,{"$f":"+D386*$G$2","v":33605.18},26009.22,18060.810000000001,14035.460000000001,11394.470000000001]
[69,"69",null,35135.82,27196.420000000002,18878.07,14670.400000000001,11918.640000000001]
[70,"70",null,35585.79,27631.550000000003,19169.57,14948.650000000001,12076.58]
[71,"71",null,40045.21,31092.980000000003,21573.65,16824.850000000002,13587.08]
[72,"72",null,44505.69,34563.950000000004,23978.260000000002,18696.280000000002,15103.94]
[73,"73",null,48960.340000000004,38025.380000000005,26380.75,20575.13,16619.740000000002]
[74,"74",null,53418.170000000006,41482.57,28781.120000000003,22449.74,18135.54]
[75,"75+",null,58434.090000000004,46258.400000000001,33012.11,24577.690000000002,20808.86]
[1,"1 Child",null,2654.77,1893.16,1390.72,1208.93,877.68000000000006]
[2,"2 Children",null,4335.93,2986.02,2197.38,1918.6000000000001,1292.1400000000001]
[3,"3+ Children",null,6342.51,4356.6000000000004,3210.21,2777.73,1955.7]
[1,"Rider Comp. Maternidad",null,0,0,0,0,0]
[1,"Transplante de organos",null,0,0,0,0,0]
[]
[]
[]
[]
["BUPA SECURE CARE"]
["TARIFAS ANUALES"]
["EDAD"]
[" "," ",null,"SE2","SE3","SE4","SE5","SE6"]
[18,"18-24",null,4815,3776,2808,2365,1804]
[25,"25-29",null,5300,4246,3124,2632,1996]
[30,"30-34",null,6072,4994,3628,3058,2316]
[35,"35-39",null,6695,5587,4033,3397,2566]
[40,"40-44",null,7511,6385,4561,3847,2889]
[45,"45-49",null,8647,7471,5311,4469,3366]
[50,"50-54",null,9429,8231,5822,4906,3673]
[55,"55-59",null,11088,9823,6902,5803,4346]
[60,"60",null,11599,10494,7304,6142,4592]
[61,"61",null,13056,11816,8226,6921,5178]
[62,"62",null,14514,13136,9142,7699,5758]
[63,"63",null,15969,14442,10061,8467,6337]
[64,"64",null,17425,15773,10977,9243,6921]
[65,"65",null,17446,15924,11047,9294,6951]
[66,"66",null,17470,16065,11110,9340,6975]
[67,"67",null,19408,17859,12355,10380,7751]
[68,"68",null,21357,19647,13591,11428,8535]
[69,"69",null,22329,20540,14214,11943,8925]
[70,"70",null,22368,20888,14361,12060,8966]
[71,"71",null,25178,23505,16165,13582,10095]
[72,"72",null,27976,26132,17964,15102,11225]
[73,"73",null,30785,28744,19765,16605,12353]
[74,"74",null,33586,31354,21567,18124,13480]
[75,"75+",null,36604,34398,23586,19822,14726]
[1,"1 Child",null,2322,1371,1132,949,704]
[2,"2 Children",null,3913,2037,1777,1503,1111]
[3,"3+ Children",null,5748,2927,2585,2175,1605]
[1,"Rider Comp. Maternidad",null,225,225,225,225,225]
[1,"Transplante de organos",null,300,300,300,300,300]
[]
[]
[]
[]
["TARIFAS SEMESTRALES "]
["EDAD"]
[" "," ",null,"SE2","SE3","SE4","SE5","SE6"]
[18,"18-24",null,{"$f":"+D440*$G$2","v":2551.9500000000003},2001.2800000000002,1488.24,1253.45,956.12]
[25,"25-29",null,2809,2250.38,1655.72,1394.96,1057.8800000000001]
[30,"30-34",null,3218.1600000000003,2646.82,1922.8400000000001,1620.74,1227.48]
[35,"35-39",null,3548.3500000000004,2961.11,2137.4900000000002,1800.41,1359.98]
[40,"40-44",null,3980.8300000000004,3384.05,2417.33,2038.91,1531.17]
[45,"45-49",null,4582.91,3959.63,2814.83,2368.5700000000002,1783.98]
[50,"50-54",null,4997.37,4362.43,3085.6600000000003,2600.1800000000003,1946.69]
[55,"55-59",null,5876.64,5206.1900000000005,3658.0600000000004,3075.59,2303.38]
[60,"60",null,6147.47,5561.8200000000006,3871.1200000000003,3255.26,2433.7600000000002]
[61,"61",null,6919.68,6262.4800000000005,4359.7800000000007,3668.13,2744.34]
[62,"62",null,7692.42,6962.08,4845.26,4080.4700000000003,3051.7400000000002]
[63,"63",null,8463.57,7654.26,5332.33,4487.51,3358.61]
[64,"64",null,9235.25,8359.69,5817.81,4898.79,3668.13]
[65,"65",null,9246.380000000001,8439.7200000000012,5854.91,4925.8200000000006,3684.03]
[66,"66",null,9259.1,8514.4500000000007,5888.3,4950.2,3696.75]
[67,"67",null,10286.24,9465.27,6548.1500000000005,5501.4000000000005,4108.0300000000007]
[68,"68",null,{"$f":"+D456*$G$2","v":11319.210000000001},10412.91,7203.2300000000005,6056.84,4523.55]
[69,"69",null,11834.37,10886.2,7533.42,6329.79,4730.25]
[70,"70",null,11855.04,11070.640000000001,7611.3300000000008,6391.8,4751.9800000000005]
[71,"71",null,13344.34,12457.650000000001,8567.4500000000007,7198.46,5350.35]
[72,"72",null,14827.28,13849.960000000001,9520.92,8004.06,5949.25]
[73,"73",null,16316.050000000001,15234.320000000002,10475.450000000001,8800.65,6547.09]
[74,"74",null,17800.580000000002,16617.620000000003,11430.51,9605.7200000000012,7144.4000000000005]
[75,"75+",null,19400.120000000003,18230.940000000002,12500.58,10505.66,7804.7800000000007]
[1,"1 Child",null,1230.6600000000001,726.63,599.96,502.97,373.12]
[2,"2 Children",null,2073.8900000000003,1079.6100000000001,941.81000000000006,796.59,588.83000000000004]
[3,"3+ Children",null,3046.44,1551.3100000000002,1370.0500000000002,1152.75,850.65000000000009]
[1,"Rider Comp. Maternidad",null,119.25,119.25,119.25,119.25,119.25]
[1,"Transplante de organos",null,159,159,159,159,159]
[]
[]
[]
[]
["ESSENTIAL"]
["TARIFAS ANUALES"]
["EDAD"]
[" "," ",null,"ET2","ET3","ET4","ET5","ET6"]
[18,"18-24",null,3370,2639,1964,1656,1255]
[25,"25-29",null,3708,2979,2183,1852,1398]
[30,"30-34",null,4251,3504,2541,2149,1616]
[35,"35-39",null,4689,3915,2828,2389,1796]
[40,"40-44",null,5265,4475,3193,2702,2025]
[45,"45-49",null,6065,5243,3718,3143,2359]
[50,"50-54",null,6612,5777,4081,3447,2584]
[55,"55-59",null,7778,6898,4834,4093,3053]
[60,"60",null,8144,7372,5127,4332,3233]
[61,"61",null,9169,8298,5774,4879,3649]
[62,"62",null,10197,9226,6417,5430,4063]
[63,"63",null,11216,10157,7073,5975,4472]
[64,"64",null,12249,11081,7715,6519,4879]
[65,"65",null,12255,11189,7756,6560,4899]
[66,"66",null,12271,11289,7809,6592,4908]
[67,"67",null,13634,12556,8679,7332,5464]
[68,"68",null,15011,13811,9551,8071,6017]
[69,"69",null,15688,14440,9989,8429,6301]
[70,"70",null,15724,14688,10096,8515,6330]
[71,"71",null,17699,16530,11363,9590,7122]
[72,"72",null,19664,18377,12631,10659,7927]
[73,"73",null,21648,20216,13899,11734,8717]
[74,"74",null,23618,22061,15165,12805,9522]
[75,"75+",null,25744,24193,16591,14008,10401]
[1,"1 Child",null,1638,969,798,678,502]
[2,"2 Children",null,2759,1438,1250,1058,786]
[3,"3+ Children",null,4046,2062,1816,1536,1134]
[1,"Rider Comp. Maternidad",null,225,225,225,225,225]
[1,"Transplante de organos",null,300,300,300,300,300]
[]
[]
[]
["TARIFAS SEMESTRALES "]
["EDAD"]
[" "," ",null,"ET2","ET3","ET4","ET5","ET6"]
[18,"18-24",null,{"$f":"+D513*$G$2","v":1786.1000000000001},1398.67,1040.92,877.68000000000006,665.15]
[25,"25-29",null,1965.24,1578.8700000000001,1156.99,981.56000000000006,740.94]
[30,"30-34",null,2253.0300000000002,1857.1200000000001,1346.73,1138.97,856.48]
[35,"35-39",null,2485.17,2074.9500000000003,1498.8400000000001,1266.17,951.88]
[40,"40-44",null,2790.4500000000003,2371.75,1692.2900000000002,1432.0600000000002,1073.25]
[45,"45-49",null,3214.4500000000003,2778.79,1970.5400000000002,1665.7900000000002,1250.27]
[50,"50-54",null,3504.36,3061.81,2162.9300000000003,1826.91,1369.52]
[55,"55-59",null,4122.34,3655.94,2562.02,2169.29,1618.0900000000001]
[60,"60",null,4316.3200000000006,3907.1600000000003,2717.31,2295.96,1713.49]
[61,"61",null,4859.5700000000006,4397.9400000000005,3060.2200000000003,2585.8700000000003,1933.97]
[62,"62",null,5404.41,4889.7800000000007,3401.01,2877.9,2153.3900000000003]
[63,"63",null,5944.4800000000005,5383.21,3748.69,3166.75,2370.1600000000003]
[64,"64",null,6491.97,5872.93,4088.9500000000003,3455.07,2585.8700000000003]
[65,"65",null,6495.1500000000005,5930.17,4110.68,3476.8,2596.4700000000003]
[66,"66",null,6503.63,5983.17,4138.7700000000004,3493.76,2601.2400000000002]
[67,"67",null,7226.02,6654.68,4599.87,3885.96,2895.92]
[68,"68",null,{"$f":"+D529*$G$2","v":7955.8300000000008},7319.83,5062.0300000000007,4277.63,3189.01]
[69,"69",null,8314.6400000000012,7653.2000000000007,5294.17,4467.37,3339.53]
[70,"70",null,8333.7200000000012,7784.64,5350.88,4512.95,3354.9]
[71,"71",null,9380.4700000000012,8760.9,6022.39,5082.7,3774.6600000000003]
[72,"72",null,10421.92,9739.8100000000013,6694.43,5649.27,4201.3100000000004]
[73,"73",null,11473.44,10714.480000000001,7366.47,6219.02,4620.01]
[74,"74",null,12517.54,11692.33,8037.4500000000007,6786.6500000000005,5046.66]
[75,"75+",null,13644.320000000002,12822.29,8793.23,7424.2400000000007,5512.5300000000007]
[1,"1 Child",null,868.1400000000001,513.57000000000005,422.94,359.34000000000003,266.06]
[2,"2 Children",null,1462.27,762.14,662.5,560.74,416.58000000000004]
[3,"3+ Children",null,2144.38,1092.8600000000001,962.48,814.08,601.02]
[1,"Rider Comp. Maternidad",null,119.25,119.25,119.25,119.25,119.25]
[1,"Transplante de organos",null,159,159,159,159,159]
[]
[]
[]
[]
[]
["CRITICAL"]
["TARIFAS ANUALES"]
["EDAD"]
[" "," ","CR1",null,null,"CR2",null,null,"CR3",null,null,"CR4",null,null,"CR5",null,null,"CR6"]
[null,null,"INDIVIDUAL","2 PERSONAS","FAMILIAR","INDIVIDUAL","2 PERSONAS","FAMILIAR","INDIVIDUAL","2 PERSONAS","FAMILIAR","INDIVIDUAL","2 PERSONAS","FAMILIAR","INDIVIDUAL","2 PERSONAS","FAMILIAR","INDIVIDUAL","2 PERSONAS","FAMILIAR"]
[18,"-  49",3127,5685,8250,2724,4843,6967,2333,4221,6096,1792,3202,4611,1273,2229,3188,716,1188,1668]
[50,"o más",4019,6584,9146,3500,5613,7736,2997,4876,6750,2286,3692,5104,1600,2570,3517,884,1360,1841]
[]
[]
["TARIFAS SEMESTRALES "]
["EDAD"]
[" "," ","CR1",null,null,"CR2",null,null,"CR3",null,null,"CR4",null,null,"CR5"]
[null,null,"INDIVIDUAL","2 PERSONAS","FAMILIAR","INDIVIDUAL","2 PERSONAS","FAMILIAR","INDIVIDUAL","2 PERSONAS","FAMILIAR","INDIVIDUAL","2 PERSONAS","FAMILIAR","INDIVIDUAL","2 PERSONAS","FAMILIAR"]
[18,"-  25",{"$f":"AO595","v":0},{"$f":"AP595","v":0},0,0,0,0,0,0,0,0,0,0,0,0,0]
[75,"o más",{"$f":"AO596","v":0},0,0,0,0,0,0,0,0,0,0,0,0,0,0]

{"sheet":"6","index":12,"n_rows":596,"n_cols":20,"rows_kept":596,"cut":false,"hidden":true,"merged":[[1,8,1,9],[4,0,4,7],[4,10,4,11],[5,0,5,7],[5,16,5,17],[6,0,6,1],[6,2,6,6],[111,0,111,7],[112,0,112,1],[112,2,112,6],[147,0,147,7],[148,0,148,7],[149,0,149,1],[149,2,149,6],[40,0,40,7],[41,0,41,1],[41,2,41,6],[77,0,77,7],[78,0,78,7],[79,0,79,1],[79,2,79,6],[253,0,253,7],[254,0,254,1],[254,2,254,6],[292,0,292,7],[293,0,293,7],[294,0,294,1],[294,2,294,6],[183,0,183,7],[184,0,184,1],[184,2,184,6],[219,0,219,7],[220,0,220,7],[221,0,221,1],[221,2,221,6],[399,0,399,7],[400,0,400,1],[400,2,400,6],[435,0,435,7],[436,0,436,7],[437,0,437,1],[437,2,437,6],[328,0,328,7],[329,0,329,1],[329,2,329,6],[365,0,365,7],[366,0,366,7],[367,0,367,1],[367,2,367,6],[544,0,544,7],[545,0,545,1],[545,2,545,6],[581,0,581,19],[582,0,582,19],[583,0,583,1],[583,2,583,6],[472,0,472,7],[473,0,473,1],[473,2,473,6],[508,0,508,7],[509,0,509,7],[510,0,510,1],[510,2,510,6],[591,38,591,39],[591,40,591,44],[584,43,584,45],[584,46,584,48],[584,49,584,51],[584,52,584,54],[590,0,590,16],[590,19,590,35],[590,38,590,54],[584,21,584,23],[584,24,584,26],[584,27,584,29],[584,30,584,32],[584,33,584,35],[584,40,584,42],[584,2,584,4],[584,5,584,7],[584,8,584,10],[584,11,584,13],[584,14,584,16],[584,17,584,19],[592,2,592,4],[592,5,592,7],[592,8,592,10],[592,11,592,13],[592,14,592,16],[592,21,592,23],[591,0,591,1],[591,2,591,6],[591,19,591,20],[591,21,591,25],[592,46,592,48],[592,49,592,51],[592,52,592,54],[592,24,592,26],[592,27,592,29],[592,30,592,32],[592,33,592,35],[592,40,592,42],[592,43,592,45]]}
[null,null,null,null,null,null,null,null,null,null,"D1","D2","D3","D4","D5","D6"]
[null,"REGIÓN",{"$f":"'INSURED INFORMATION'!W14","v":8},null,"FACTOR SEMESTRAL :",null,0.53,null,"NEW BUSINESS DISCUOUNTS",null,{"$f":"'INSURED INFORMATION'!P53","v":1},{"$f":"'INSURED INFORMATION'!Q53","v":1},{"$f":"'INSURED INFORMATION'!R53","v":1},{"$f":"'INSURED INFORMATION'!S53","v":1},{"$f":"'INSURED INFORMATION'!T53","v":1},{"$f":"'INSURED INFORMATION'!U53","v":1}]
[]
[]
["BUPA EXCLUSIVE CARE"]
["TARIFAS ANUALES"]
["EDAD"]
[" "," ","DW1","DW2","DW3","DW4","DW5","DW6"]
[18,"18-24",null,14445,9556,6490,4376,3445]
[25,"25-29",null,15151,10549,7190,4844,3815]
[30,"30-34",null,15752,11323,8049,5796,4573]
[35,"35-39",null,17647,12673,9019,6501,5124]
[40,"40-44",null,20453,13863,10004,7144,5629]
[45,"45-49",null,22868,15496,11181,7984,6295]
[50,"50-54",null,29255,20323,14590,11275,8890]
[55,"55-59",null,31124,21622,15518,11992,9461]
[60,"60",null,33906,23591,17852,14444,11750]
[61,"61",null,36422,25342,19172,15528,12626]
[62,"62",null,39879,27760,20999,16988,13829]
[63,"63",null,42406,29513,22310,18068,14698]
[64,"64",null,45861,31933,24140,19549,15899]
[65,"65",null,59951,41646,30518,26063,22413]
[66,"66",null,69639,48386,35470,30289,26047]
[67,"67",null,76077,52845,38741,33078,28449]
[68,"68",null,84224,58519,42893,36632,31505]
[69,"69",null,92670,64379,47187,40299,34664]
[70,"70",null,114050,78385,55553,46955,40765]
[71,"71",null,118527,81461,57732,48802,42370]
[72,"72",null,121884,83761,59358,50186,43576]
[73,"73",null,126361,86839,61542,52034,45176]
[74,"74",null,128594,88374,62630,52951,45980]
[75,"75+",null,134199,92216,65357,55264,47976]
[1,"1 Child",null,5017,3693,2892,2312,1808]
[2,"2 Children",null,7971,5874,4603,3668,2855]
[3,"3+ Children",null,11688,8614,6739,5383,4192]
[1,"Rider Comp. Maternidad",null,0,0,225,225,225]
[1,"Transplante de organos",null,0,0,0,0,0]
[]
[]
[]
["TARIFAS SEMESTRALES "]
["EDAD"]
[" "," ",null,"DW2","DW3","DW4","DW5","DW6"]
[18,"18-24",null,{"$f":"$G$2*D9","v":7655.85},5064.68,3439.7000000000003,2319.2800000000002,1825.8500000000001]
[25,"25-29",null,8030.0300000000007,5590.97,3810.7000000000003,2567.3200000000002,2021.95]
[30,"30-34",null,8348.5600000000013,6001.1900000000005,4265.97,3071.88,2423.69]
[35,"35-39",null,9352.91,6716.6900000000005,4780.0700000000006,3445.53,2715.7200000000003]
[40,"40-44",null,10840.09,7347.39,5302.12,3786.32,2983.3700000000003]
[45,"45-49",null,12120.04,8212.880000000001,5925.93,4231.5200000000004,3336.3500000000004]
[50,"50-54",null,15505.150000000001,10771.19,7732.7000000000007,5975.75,4711.7]
[55,"55-59",null,16495.72,11459.66,8224.5400000000009,6355.76,5014.33]
[60,"60",null,17970.18,12503.230000000001,9461.5600000000013,7655.3200000000006,6227.5]
[61,"61",null,19303.66,13431.26,10161.16,8229.84,6691.7800000000007]
[62,"62",null,21135.870000000003,14712.800000000001,11129.470000000001,9003.6400000000012,7329.3700000000008]
[63,"63",null,22475.18,15641.890000000001,11824.300000000001,9576.0400000000009,7789.9400000000005]
[64,"64",null,24306.33,16924.490000000002,12794.2,10360.970000000001,8426.4700000000012]
[65,"65",null,31774.030000000002,22072.38,16174.54,13813.390000000001,11878.890000000001]
[66,"66",null,36908.67,25644.58,18799.100000000002,16053.17,13804.91]
[67,"67",null,40320.810000000005,28007.850000000002,20532.73,17531.34,15077.970000000001]
[68,"68",null,{"$f":"$G$2*D25","v":44638.720000000001},31015.070000000003,22733.29,19414.960000000003,16697.650000000001]
[69,"69",null,49115.100000000006,34120.870000000003,25009.11,21358.47,18371.920000000002]
[70,"70",null,60446.5,41544.050000000003,29443.09,24886.15,21605.45]
[71,"71",null,62819.310000000005,43174.33,30597.960000000003,25865.06,22456.100000000002]
[72,"72",null,64598.520000000004,44393.33,31459.74,26598.58,23095.280000000002]
[73,"73",null,66971.33,46024.670000000006,32617.260000000002,27578.02,23943.280000000002]
[74,"74",null,68154.820000000007,46838.22,33193.9,28064.030000000002,24369.4]
[75,"75+",null,71125.47,48874.48,34639.21,29289.920000000002,25427.280000000002]
[1,"1 Child",null,2659.01,1957.2900000000002,1532.76,1225.3600000000001,958.24]
[2,"2 Children",null,4224.63,3113.2200000000003,2439.59,1944.0400000000002,1513.15]
[3,"3+ Children",null,6194.64,4565.42,3571.67,2852.9900000000002,2221.7600000000002]
[1,"Rider Comp. Maternidad",null,{"$f":"+D36*$G$2","v":0},0,119.25,119.25,119.25]
[1,"Transplante de organos",null,0,0,0,0,0]
[]
[]
[]
[]
[]
["DIAMOND (LATINAMERICA ONLY)"]
["TARIFAS ANUALES"]
["EDAD"]
[" "," ","DL1","DL2","DL3","DL4","DL5","DL6"]
[18,"-  24"]
[25,"-  29"]
[30,"-  34"]
[35,"-  39"]
[40,"-  44"]
[45,"-  49"]
[50,"-  54"]
[55,"-  59"]
[60]
[61]
[62]
[63]
[64]
[65]
[66]
[67]
[68]
[69]
[70]
[71]
[72]
[73]
[74]
[75,"o más"]
[1,"Hijo"]
[2,"Hijos"]
[3,"Hijos o más"]
[1,"Rider Comp. Maternidad"]
[1,"Transplante de organos",0,0,0,0,0,0]
[]
["TARIFAS SEMESTRALES "]
["EDAD"]
[" "," ","DL1","DL2","DL3","DL4","DL5","DL6"]
[18,"-  24",{"$f":"+C82*$G$2","v":0},0,0,0,0,0]
[25,"-  29",0,0,0,0,0,0]
[30,"-  34",0,0,0,0,0,0]
[35,"-  39",0,0,0,0,0,0]
[40,"-  44",0,0,0,0,0,0]
[45,"-  49",0,0,0,0,0,0]
[50,"-  54",0,0,0,0,0,0]
[55,"-  59",0,0,0,0,0,0]
[60,null,0,0,0,0,0,0]
[61,null,0,0,0,0,0,0]
[62,null,0,0,0,0,0,0]
[63,null,0,0,0,0,0,0]
[64,null,0,0,0,0,0,0]
[65,null,0,0,0,0,0,0]
[66,null,0,0,0,0,0,0]
[67,null,0,0,0,0,0,0]
[68,null,{"$f":"+C98*$G$2","v":0},0,0,0,0,0]
[69,null,0,0,0,0,0,0]
[70,null,0,0,0,0,0,0]
[71,null,0,0,0,0,0,0]
[72,null,0,0,0,0,0,0]
[73,null,0,0,0,0,0,0]
[74,null,0,0,0,0,0,0]
[75,"o más",0,0,0,0,0,0]
[1,"Hijo",0,0,0,0,0,0]
[2,"Hijos",0,0,0,0,0,0]
[3,"Hijos o más",0,0,0,0,0,0]
[1,"Rider Comp. Maternidad",0,0,0,0,0,0]
[1,"Transplante de organos",0,0,0,0,0,0]
[]
[]
[]
[]
["BUPA PRIVILEGE CARE"]
["TARIFAS ANUALES"]
["EDAD"]
[" "," ","CW1","CW2","CW3","CW4","CW5","CW6"]
[18,"18-24",null,12152,8357,5635,3787,2888]
[25,"25-29",null,12751,9250,6245,4193,3193]
[30,"30-34",null,13321,9900,7003,5073,3873]
[35,"35-39",null,14914,11083,7842,5688,4338]
[40,"40-44",null,17261,12141,8728,6271,4787]
[45,"45-49",null,19283,13567,9755,7008,5358]
[50,"50-54",null,25210,17896,12799,10002,7640]
[55,"55-59",null,26818,19041,13627,10640,8138]
[60,"60",null,29206,20682,15501,12655,10168]
[61,"61",null,31376,22204,16653,13606,10916]
[62,"62",null,34344,24322,18238,14897,11954]
[63,"63",null,36520,25860,19386,15833,12711]
[64,"64",null,39501,27979,20974,17127,13756]
[65,"65",null,51636,36490,26519,22845,19394]
[66,"66",null,59987,42401,30812,26545,22538]
[67,"67",null,65518,46315,33650,28983,24615]
[68,"68",null,72550,51273,37275,32110,27254]
[69,"69",null,79817,56404,40999,35317,29990]
[70,"70",null,98226,68688,48258,41150,35276]
[71,"71",null,102089,71382,50154,42767,36666]
[72,"72",null,104980,73405,51574,43979,37694]
[73,"73",null,108837,76102,53475,45591,39090]
[74,"74",null,110760,77442,54415,46405,39780]
[75,"75+",null,115592,80815,56785,48425,41505]
[1,"1 Child",null,4217,3087,2293,1832,1353]
[2,"2 Children",null,6711,4909,3647,2913,2155]
[3,"3+ Children",null,9820,7196,5340,4265,3162]
[1,"Rider Comp. Maternidad",null,0,0,225,225,225]
[1,"Transplante de organos",null,0,0,0,0,0]
[]
[]
[]
["TARIFAS SEMESTRALES "]
["EDAD"]
[" "," ",null,"CW2","CW3","CW4","CW5","CW6"]
[18,"18-24",null,{"$f":"$G$2*D152","v":6440.56},4429.21,2986.55,2007.1100000000001,1530.64]
[25,"25-29",null,6758.0300000000007,4902.5,3309.8500000000004,2222.29,1692.2900000000002]
[30,"30-34",null,7060.13,5247,3711.59,2688.69,2052.69]
[35,"35-39",null,7904.42,5873.9900000000007,4156.26,3014.6400000000003,2299.1400000000003]
[40,"40-44",null,9148.33,6434.7300000000005,4625.84,3323.63,2537.11]
[45,"45-49",null,10219.99,7190.51,5170.1500000000005,3714.2400000000002,2839.7400000000002]
[50,"50-54",null,13361.300000000001,9484.880000000001,6783.47,5301.06,4049.2000000000003]
[55,"55-59",null,14213.54,10091.730000000001,7222.31,5639.2000000000007,4313.1400000000003]
[60,"60",null,15479.18,10961.460000000001,8215.5300000000007,6707.1500000000005,5389.04]
[61,"61",null,16629.280000000002,11768.12,8826.09,7211.18,5785.4800000000005]
[62,"62",null,18202.32,12890.66,9666.1400000000012,7895.4100000000008,6335.62]
[63,"63",null,19355.600000000002,13705.800000000001,10274.58,8391.49,6736.83]
[64,"64",null,20935.530000000002,14828.87,11116.220000000001,9077.3100000000013,7290.68]
[65,"65",null,27367.08,19339.7,14055.070000000002,12107.85,10278.82]
[66,"66",null,31793.11,22472.530000000002,16330.36,14068.85,11945.140000000001]
[67,"67",null,34724.54,24546.95,17834.5,15360.990000000002,13045.95]
[68,"68",null,{"$f":"$G$2*D168","v":38451.5},27174.690000000002,19755.75,17018.3,14444.62]
[69,"69",null,42303.01,29894.120000000003,21729.47,18718.010000000002,15894.7]
[70,"70",null,52059.780000000006,36404.639999999999,25576.74,21809.5,18696.280000000002]
[71,"71",null,54107.170000000006,37832.46,26581.620000000003,22666.510000000002,19432.98]
[72,"72",null,55639.4,38904.65,27334.22,23308.870000000003,19977.82]
[73,"73",null,57683.61,40334.060000000005,28341.75,24163.23,20717.7]
[74,"74",null,58702.8,41044.26,28839.95,24594.65,21083.4]
[75,"75+",null,61263.76,42831.950000000004,30096.050000000003,25665.25,21997.65]
[1,"1 Child",null,2235.0100000000002,1636.1100000000001,1215.29,970.96,717.09]
[2,"2 Children",null,3556.8300000000004,2601.77,1932.91,1543.89,1142.1500000000001]
[3,"3+ Children",null,5204.6000000000004,3813.88,2830.2000000000003,2260.4500000000003,1675.8600000000001]
[1,"Rider Comp. Maternidad",null,{"$f":"+D179*$G$2","v":0},0,119.25,119.25,119.25]
[1,"Transplante de organos",null,0,0,0,0,0]
[]
[]
[]
[]
["COMPLETE (LATINAMERICA ONLY)"]
["TARIFAS ANUALES"]
["EDAD"]
[" "," ","CL1","CL2","CL3","CL4","CL5","CL6"]
[18,"-  24"]
[25,"-  29"]
[30,"-  34"]
[35,"-  39"]
[40,"-  44"]
[45,"-  49"]
[50,"-  54"]
[55,"-  59"]
[60]
[61]
[62]
[63]
[64]
[65]
[66]
[67]
[68]
[69]
[70]
[71]
[72]
[73]
[74]
[75,"o más"]
[1,"Hijo"]
[2,"Hijos"]
[3,"Hijos o más"]
[1,"Rider Comp. Maternidad"]
[1,"Transplante de organos",0,0,0,0,0,0]
[]
["TARIFAS SEMESTRALES "]
["EDAD"]
[" "," ","CL1","CL2","CL3","CL4","CL5","CL6"]
[18,"-  24",{"$f":"+C224*$G$2","v":0},0,0,0,0,0]
[25,"-  29",0,0,0,0,0,0]
[30,"-  34",0,0,0,0,0,0]
[35,"-  39",0,0,0,0,0,0]
[40,"-  44",0,0,0,0,0,0]
[45,"-  49",0,0,0,0,0,0]
[50,"-  54",0,0,0,0,0,0]
[55,"-  59",0,0,0,0,0,0]
[60,null,0,0,0,0,0,0]
[61,null,0,0,0,0,0,0]
[62,null,0,0,0,0,0,0]
[63,null,0,0,0,0,0,0]
[64,null,0,0,0,0,0,0]
[65,null,0,0,0,0,0,0]
[66,null,0,0,0,0,0,0]
[67,null,0,0,0,0,0,0]
[68,null,{"$f":"+C240*$G$2","v":0},0,0,0,0,0]
[69,null,0,0,0,0,0,0]
[70,null,0,0,0,0,0,0]
[71,null,0,0,0,0,0,0]
[72,null,0,0,0,0,0,0]
[73,null,0,0,0,0,0,0]
[74,null,0,0,0,0,0,0]
[75,"o más",0,0,0,0,0,0]
[1,"Hijo",0,0,0,0,0,0]
[2,"Hijos",0,0,0,0,0,0]
[3,"Hijos o más",0,0,0,0,0,0]
[1,"Rider Comp. Maternidad",0,0,0,0,0,0]
[1,"Transplante de organos",0,0,0,0,0,0]
[]
[]
[]
[]
[]
[]
[]
["BUPA ADVANTAGE CARE (WORLDWIDE)"]
["TARIFAS ANUALES"]
["EDAD"]
[" "," ",null,"AW2","AW3","AW4","AW5","AW6"]
[18,"18-24",null,8224,6188,4473,3281,2599]
[25,"25-29",null,9147,6899,4970,3654,2885]
[30,"30-34",null,10584,8110,5905,4333,3339]
[35,"35-39",null,11739,9024,6576,4941,3714]
[40,"40-44",null,13238,10228,7462,5521,4200]
[45,"45-49",null,15382,11778,8408,6283,4880]
[50,"50-54",null,16861,13238,9791,7052,5357]
[55,"55-59",null,19923,15281,10839,8166,6326]
[60,"60",null,22012,16923,11914,9014,7002]
[61,"61",null,24765,19045,13405,10149,7885]
[62,"62",null,27528,21173,14905,11279,8767]
[63,"63",null,30290,23293,16399,12417,9647]
[64,"64",null,33040,25416,17898,13549,10530]
[65,"65",null,35728,27656,19506,14758,11990]
[66,"66",null,37838,29290,20663,15629,12697]
[67,"67",null,42047,32554,22969,17371,14111]
[68,"68",null,46253,35812,25257,19107,15525]
[69,"69",null,48356,37442,26411,19982,16231]
[70,"70",null,48986,38039,26821,20357,16447]
[71,"71",null,55124,42801,30177,22908,18509]
[72,"72",null,61250,47564,33537,25455,20571]
[73,"73",null,67382,52320,36889,28013,22629]
[74,"74",null,73519,57091,40252,30564,24690]
[75,"75+",null,80412,63670,46164,33457,28334]
[1,"1 Child",null,3664,2614,1951,1650,1193]
[2,"2 Children",null,5958,4113,3083,2613,1750]
[3,"3+ Children",null,8721,6005,4493,3783,2661]
[1,"Rider Comp. Maternidad",null,225,225,225,225,225]
[1,"Transplante de organos",null,300,300,300,300,300]
[]
[]
[]
["TARIFAS SEMESTRALES "]
["EDAD"]
[" "," ",null,"AW2","AW3","AW4","AW5","AW6"]
[18,"18-24",null,{"$f":"+D297*$G$2","v":4358.72},3279.6400000000003,2370.69,1738.93,1377.47]
[25,"25-29",null,4847.91,3656.4700000000003,2634.1,1936.6200000000001,1529.0500000000002]
[30,"30-34",null,5609.52,4298.3,3129.65,2296.4900000000002,1769.67]
[35,"35-39",null,6221.67,4782.72,3485.28,2618.73,1968.42]
[40,"40-44",null,7016.14,5420.84,3954.86,2926.13,2226]
[45,"45-49",null,8152.46,6242.34,4456.24,3329.9900000000002,2586.4]
[50,"50-54",null,8936.33,7016.14,5189.2300000000005,3737.5600000000004,2839.21]
[55,"55-59",null,10559.19,8098.93,5744.67,4327.9800000000005,3352.78]
[60,"60",null,11666.36,8969.19,6314.42,4777.42,3711.0600000000004]
[61,"61",null,13125.45,10093.85,7104.6500000000005,5378.97,4179.05]
[62,"62",null,14589.84,11221.69,7899.6500000000005,5977.87,4646.51]
[63,"63",null,16053.7,12345.29,8691.4700000000012,6581.01,5112.91]
[64,"64",null,17511.2,13470.480000000001,9485.94,7180.97,5580.9000000000005]
[65,"65",null,18935.84,14657.68,10338.18,7821.7400000000007,6354.7000000000007]
[66,"66",null,20054.14,15523.7,10951.390000000001,8283.3700000000008,6729.4100000000008]
[67,"67",null,22284.91,17253.620000000003,12173.57,9206.630000000001,7478.83]
[68,"68",null,{"$f":"+D313*$G$2","v":24514.09},18980.36,13386.210000000001,10126.710000000001,8228.25]
[69,"69",null,25628.68,19844.260000000002,13997.83,10590.460000000001,8602.43]
[70,"70",null,25962.58,20160.670000000002,14215.130000000001,10789.210000000001,8716.91]
[71,"71",null,29215.72,22684.530000000002,15993.810000000001,12141.24,9809.77]
[72,"72",null,32462.5,25208.920000000002,17774.61,13491.150000000001,10902.630000000001]
[73,"73",null,35712.46,27729.600000000002,19551.170000000002,14846.890000000001,11993.37]
[74,"74",null,38965.07,30258.230000000003,21333.56,16198.92,13085.7]
[75,"75+",null,42618.36,33745.1,24466.920000000002,17732.21,15017.02]
[1,"1 Child",null,1941.92,1385.42,1034.03,874.5,632.29000000000008]
[2,"2 Children",null,3157.7400000000002,2179.8900000000003,1633.99,1384.89,927.5]
[3,"3+ Children",null,4622.13,3182.65,2381.29,2004.99,1410.3300000000002]
[1,"Rider Comp. Maternidad",null,119.25,119.25,119.25,119.25,119.25]
[1,"Transplante de organos",null,159,159,159,159,159]
[]
[]
[]
[]
[]
["ADVANTAGE (LATINAMERICA ONLY)"]
["TARIFAS ANUALES"]
["EDAD"]
[" "," ",null,"AL2","AL3","AL4","AL5","AL6"]
[18,"18-24",null,11240,8450,6003,4521,3578]
[25,"25-29",null,12522,9432,6676,5046,3960]
[30,"30-34",null,14491,11087,7953,5984,4611]
[35,"35-39",null,16068,12342,8853,6822,5116]
[40,"40-44",null,18135,13999,10040,7628,5791]
[45,"45-49",null,21074,16127,11319,8682,6734]
[50,"50-54",null,23095,18131,13196,9747,7397]
[55,"55-59",null,27290,20932,14596,11305,8747]
[60,"60",null,30152,23179,16056,12465,9685]
[61,"61",null,33942,26076,18072,14038,10913]
[62,"62",null,37722,29010,20091,15611,12132]
[63,"63",null,41505,31913,22117,17178,13360]
[64,"64",null,45292,34829,24140,18760,14569]
[65,"65",null,48973,37903,26303,20431,16582]
[66,"66",null,51857,40135,27861,21635,17581]
[67,"67",null,57634,44613,30968,24062,19536]
[68,"68",null,63406,49074,34077,26482,21499]
[69,"69",null,66294,51314,35619,27680,22488]
[70,"70",null,67143,52135,36169,28205,22786]
[71,"71",null,75557,58666,40705,31745,25636]
[72,"72",null,83973,65215,45242,35276,28498]
[73,"73",null,92378,71746,49775,38821,31358]
[74,"74",null,100789,78269,54304,42358,34218]
[75,"75+",null,110253,87280,62287,46373,39262]
[1,"1 Child",null,5009,3572,2624,2281,1656]
[2,"2 Children",null,8181,5634,4146,3620,2438]
[3,"3+ Children",null,11967,8220,6057,5241,3690]
[1,"Rider Comp. Maternidad"]
[1,"Transplante de organos"]
[]
["TARIFAS SEMESTRALES "]
["EDAD"]
[" "," ",null,"AL2","AL3","AL4","AL5","AL6"]
[18,"18-24",null,{"$f":"+D370*$G$2","v":5957.2000000000007},4478.5,3181.59,2396.13,1896.3400000000001]
[25,"25-29",null,6636.6600000000008,4998.96,3538.28,2674.38,2098.8000000000002]
[30,"30-34",null,7680.2300000000005,5876.1100000000006,4215.09,3171.52,2443.83]
[35,"35-39",null,8516.0400000000009,6541.26,4692.09,3615.6600000000003,2711.48]
[40,"40-44",null,9611.5500000000011,7419.47,5321.2,4042.84,3069.23]
[45,"45-49",null,11169.220000000001,8547.3100000000013,5999.0700000000006,4601.46,3569.02]
[50,"50-54",null,12240.35,9609.43,6993.88,5165.91,3920.4100000000003]
[55,"55-59",null,14463.7,11093.960000000001,7735.88,5991.6500000000005,4635.91]
[60,"60",null,15980.560000000001,12284.87,8509.68,6606.4500000000007,5133.05]
[61,"61",null,17989.260000000002,13820.28,9578.16,7440.14,5783.89]
[62,"62",null,19992.66,15375.300000000001,10648.230000000001,8273.83,6429.96]
[63,"63",null,21997.65,16913.89,11722.01,9104.34,7080.8]
[64,"64",null,24004.760000000002,18459.370000000003,12794.2,9942.8000000000011,7721.5700000000006]
[65,"65",null,25955.690000000002,20088.59,13940.59,10828.43,8788.4600000000009]
[66,"66",null,27484.210000000003,21271.55,14766.33,11466.550000000001,9317.93]
[67,"67",null,30546.02,23644.89,16413.04,12752.86,10354.08]
[68,"68",null,{"$f":"+D386*$G$2","v":33605.18},26009.22,18060.810000000001,14035.460000000001,11394.470000000001]
[69,"69",null,35135.82,27196.420000000002,18878.07,14670.400000000001,11918.640000000001]
[70,"70",null,35585.79,27631.550000000003,19169.57,14948.650000000001,12076.58]
[71,"71",null,40045.21,31092.980000000003,21573.65,16824.850000000002,13587.08]
[72,"72",null,44505.69,34563.950000000004,23978.260000000002,18696.280000000002,15103.94]
[73,"73",null,48960.340000000004,38025.380000000005,26380.75,20575.13,16619.740000000002]
[74,"74",null,53418.170000000006,41482.57,28781.120000000003,22449.74,18135.54]
[75,"75+",null,58434.090000000004,46258.400000000001,33012.11,24577.690000000002,20808.86]
[1,"1 Child",null,2654.77,1893.16,1390.72,1208.93,877.68000000000006]
[2,"2 Children",null,4335.93,2986.02,2197.38,1918.6000000000001,1292.1400000000001]
[3,"3+ Children",null,6342.51,4356.6000000000004,3210.21,2777.73,1955.7]
[1,"Rider Comp. Maternidad",null,0,0,0,0,0]
[1,"Transplante de organos",null,0,0,0,0,0]
[]
[]
[]
[]
["BUPA SECURE CARE"]
["TARIFAS ANUALES"]
["EDAD"]
[" "," ",null,"SE2","SE3","SE4","SE5","SE6"]
[18,"18-24",null,6292,4937,3551,2967,2249]
[25,"25-29",null,6932,5552,3955,3306,2501]
[30,"30-34",null,7941,6533,4594,3837,2903]
[35,"35-39",null,8751,7307,5116,4269,3212]
[40,"40-44",null,9817,8342,5781,4823,3631]
[45,"45-49",null,11294,9768,6727,5610,4213]
[50,"50-54",null,12326,10761,7374,6151,4609]
[55,"55-59",null,14491,12847,8744,7286,5453]
[60,"60",null,15158,13726,9260,7709,5769]
[61,"61",null,17062,15447,10423,8688,6503]
[62,"62",null,18976,17185,11597,9653,7224]
[63,"63",null,20877,18900,12759,10624,7959]
[64,"64",null,22781,20636,13924,11604,8688]
[65,"65",null,22814,20832,14013,11671,8721]
[66,"66",null,22839,21019,14089,11722,8747]
[67,"67",null,25380,23354,15668,13032,9730]
[68,"68",null,27925,25709,17232,14347,10715]
[69,"69",null,29199,26875,18023,14995,11199]
[70,"70",null,29255,27331,18211,15145,11257]
[71,"71",null,32926,30752,20496,17051,12676]
[72,"72",null,36586,34184,22781,18961,14090]
[73,"73",null,40259,37601,25066,20849,15512]
[74,"74",null,43920,41029,27349,22752,16928]
[75,"75+",null,47866,45002,29915,24881,18492]
[1,"1 Child",null,3036,1785,1430,1190,878]
[2,"2 Children",null,5116,2660,2254,1882,1392]
[3,"3+ Children",null,7518,3822,3274,2728,2013]
[1,"Rider Comp. Maternidad",null,225,225,225,225,225]
[1,"Transplante de organos",null,300,300,300,300,300]
[]
[]
[]
[]
["TARIFAS SEMESTRALES "]
["EDAD"]
[" "," ",null,"SE2","SE3","SE4","SE5","SE6"]
[18,"18-24",null,{"$f":"+D440*$G$2","v":3334.76},2616.61,1882.0300000000002,1572.51,1191.97]
[25,"25-29",null,3673.96,2942.56,2096.15,1752.18,1325.53]
[30,"30-34",null,4208.7300000000005,3462.4900000000002,2434.8200000000002,2033.6100000000001,1538.5900000000001]
[35,"35-39",null,4638.0300000000007,3872.71,2711.48,2262.5700000000002,1702.3600000000001]
[40,"40-44",null,5203.01,4421.26,3063.9300000000003,2556.19,1924.43]
[45,"45-49",null,5985.8200000000006,5177.04,3565.3100000000004,2973.3,2232.8900000000003]
[50,"50-54",null,6532.7800000000007,5703.33,3908.2200000000003,3260.03,2442.77]
[55,"55-59",null,7680.2300000000005,6808.9100000000008,4634.3200000000006,3861.5800000000004,2890.09]
[60,"60",null,8033.7400000000007,7274.7800000000007,4907.8,4085.77,3057.57]
[61,"61",null,9042.86,8186.9100000000008,5524.1900000000005,4604.6400000000003,3446.59]
[62,"62",null,10057.280000000001,9108.0500000000011,6146.41,5116.09,3828.7200000000003]
[63,"63",null,11064.810000000001,10017,6762.27,5630.72,4218.2700000000004]
[64,"64",null,12073.93,10937.08,7379.72,6150.12,4604.6400000000003]
[65,"65",null,12091.42,11040.960000000001,7426.89,6185.63,4622.13]
[66,"66",null,12104.67,11140.07,7467.17,6212.6600000000008,4635.91]
[67,"67",null,13451.400000000001,12377.62,8304.0400000000009,6906.96,5156.9000000000005]
[68,"68",null,{"$f":"+D456*$G$2","v":14800.25},13625.77,9132.9600000000009,7603.9100000000008,5678.9500000000007]
[69,"69",null,15475.470000000001,14243.75,9552.19,7947.35,5935.47]
[70,"70",null,15505.150000000001,14485.43,9651.83,8026.85,5966.21]
[71,"71",null,17450.780000000002,16298.560000000001,10862.880000000001,9037.0300000000007,6718.2800000000007]
[72,"72",null,19390.580000000002,18117.52,12073.93,10049.33,7467.7000000000007]
[73,"73",null,21337.27,19928.530000000002,13284.980000000001,11049.970000000001,8221.36]
[74,"74",null,23277.600000000002,21745.370000000003,14494.970000000001,12058.560000000001,8971.84]
[75,"75+",null,25368.98,23851.06,15854.95,13186.93,9800.76]
[1,"1 Child",null,1609.0800000000002,946.05000000000007,757.90000000000009,630.70000000000005,465.34000000000003]
[2,"2 Children",null,2711.48,1409.8000000000002,1194.6200000000001,997.46,737.76]
[3,"3+ Children",null,3984.5400000000004,2025.66,1735.22,1445.8400000000001,1066.8900000000001]
[1,"Rider Comp. Maternidad",null,119.25,119.25,119.25,119.25,119.25]
[1,"Transplante de organos",null,159,159,159,159,159]
[]
[]
[]
[]
["ESSENTIAL"]
["TARIFAS ANUALES"]
["EDAD"]
[" "," ",null,"ET2","ET3","ET4","ET5","ET6"]
[18,"18-24",null,5334,4181,3007,2509,1900]
[25,"25-29",null,5879,4707,3352,2790,2112]
[30,"30-34",null,6734,5537,3895,3245,2460]
[35,"35-39",null,7422,6199,4328,3618,2721]
[40,"40-44",null,8317,7071,4902,4088,3075]
[45,"45-49",null,9586,8286,5707,4756,3572]
[50,"50-54",null,10459,9134,6255,5217,3907]
[55,"55-59",null,12297,10911,7423,6175,4618]
[60,"60",null,12865,11655,7861,6546,4887]
[61,"61",null,14498,13120,8845,7372,5513]
[62,"62",null,16109,14599,9849,8198,6138]
[63,"63",null,17730,16062,10834,9022,6756]
[64,"64",null,19342,17521,11824,9851,7372]
[65,"65",null,19366,17693,11895,9906,7401]
[66,"66",null,19392,17854,11969,9961,7426]
[67,"67",null,21549,19848,13299,11070,8259]
[68,"68",null,23715,21834,14640,12187,9093]
[69,"69",null,24795,22827,15313,12745,9512]
[70,"70",null,24845,23218,15472,12859,9554]
[71,"71",null,27962,26127,17408,14482,10759]
[72,"72",null,31074,29045,19356,16104,11968]
[73,"73",null,34200,31952,21299,17709,13173]
[74,"74",null,37314,34862,23233,19333,14374]
[75,"75+",null,40665,38236,25413,21143,15704]
[1,"1 Child",null,2584,1521,1211,1016,750]
[2,"2 Children",null,4346,2253,1915,1600,1182]
[3,"3+ Children",null,6384,3252,2789,2313,1712]
[1,"Rider Comp. Maternidad",null,225,225,225,225,225]
[1,"Transplante de organos",null,300,300,300,300,300]
[]
[]
[]
["TARIFAS SEMESTRALES "]
["EDAD"]
[" "," ",null,"ET2","ET3","ET4","ET5","ET6"]
[18,"18-24",null,{"$f":"+D513*$G$2","v":2827.02},2215.9300000000003,1593.71,1329.77,1007]
[25,"25-29",null,3115.8700000000003,2494.71,1776.5600000000002,1478.7,1119.3600000000001]
[30,"30-34",null,3569.02,2934.61,2064.35,1719.8500000000001,1303.8]
[35,"35-39",null,3933.6600000000003,3285.4700000000003,2293.84,1917.5400000000002,1442.13]
[40,"40-44",null,4408.01,3747.63,2598.06,2166.6400000000003,1629.75]
[45,"45-49",null,5080.58,4391.58,3024.71,2520.6800000000003,1893.16]
[50,"50-54",null,5543.27,4841.0200000000004,3315.15,2765.01,2070.71]
[55,"55-59",null,6517.4100000000008,5782.83,3934.19,3272.75,2447.54]
[60,"60",null,6818.4500000000007,6177.1500000000005,4166.33,3469.38,2590.11]
[61,"61",null,7683.9400000000005,6953.6,4687.8500000000004,3907.1600000000003,2921.8900000000003]
[62,"62",null,8537.77,7737.47,5219.97,4344.9400000000005,3253.1400000000003]
[63,"63",null,9396.9,8512.86,5742.02,4781.66,3580.6800000000003]
[64,"64",null,10251.26,9286.130000000001,6266.72,5221.0300000000007,3907.1600000000003]
[65,"65",null,10263.980000000001,9377.2900000000009,6304.35,5250.18,3922.53]
[66,"66",null,10277.76,9462.6200000000008,6343.5700000000006,5279.33,3935.78]
[67,"67",null,11420.970000000001,10519.44,7048.47,5867.1,4377.2700000000004]
[68,"68",null,{"$f":"+D529*$G$2","v":12568.95},11572.02,7759.2000000000007,6459.1100000000006,4819.29]
[69,"69",null,13141.35,12098.310000000001,8115.89,6754.85,5041.3600000000006]
[70,"70",null,13167.85,12305.54,8200.16,6815.27,5063.62]
[71,"71",null,14819.86,13847.310000000001,9226.24,7675.46,5702.27]
[72,"72",null,16469.22,15393.85,10258.68,8535.1200000000008,6343.04]
[73,"73",null,18126,16934.560000000001,11288.470000000001,9385.77,6981.6900000000005]
[74,"74",null,19776.420000000002,18476.86,12313.49,10246.49,7618.22]
[75,"75+",null,21552.45,20265.080000000002,13468.890000000001,11205.79,8323.1200000000008]
[1,"1 Child",null,1369.52,806.13,641.83000000000004,538.48,397.5]
[2,"2 Children",null,2303.38,1194.0900000000001,1014.95,848,626.46]
[3,"3+ Children",null,3383.52,1723.5600000000002,1478.17,1225.8900000000001,907.36]
[1,"Rider Comp. Maternidad",null,119.25,119.25,119.25,119.25,119.25]
[1,"Transplante de organos",null,159,159,159,159,159]
[]
[]
[]
[]
[]
["CRITICAL"]
["TARIFAS ANUALES"]
["EDAD"]
[" "," ","CR1",null,null,"CR2",null,null,"CR3",null,null,"CR4",null,null,"CR5",null,null,"CR6"]
[null,null,"INDIVIDUAL","2 PERSONAS","FAMILIAR","INDIVIDUAL","2 PERSONAS","FAMILIAR","INDIVIDUAL","2 PERSONAS","FAMILIAR","INDIVIDUAL","2 PERSONAS","FAMILIAR","INDIVIDUAL","2 PERSONAS","FAMILIAR","INDIVIDUAL","2 PERSONAS","FAMILIAR"]
[18,"-  49",3725,6538,9348,2963,5040,7122,2538,4341,6142,1949,3280,4594,1468,2367,3261,950,1394,1845]
[50,"o más",4704,7515,10336,3722,5810,7887,3162,4972,6776,2416,3728,5052,1771,2671,3567,1103,1548,1992]
[]
[]
["TARIFAS SEMESTRALES "]
["EDAD"]
[" "," ","CR1",null,null,"CR2",null,null,"CR3",null,null,"CR4",null,null,"CR5"]
[null,null,"INDIVIDUAL","2 PERSONAS","FAMILIAR","INDIVIDUAL","2 PERSONAS","FAMILIAR","INDIVIDUAL","2 PERSONAS","FAMILIAR","INDIVIDUAL","2 PERSONAS","FAMILIAR","INDIVIDUAL","2 PERSONAS","FAMILIAR"]
[18,"-  25",{"$f":"AO595","v":0},{"$f":"AP595","v":0},0,0,0,0,0,0,0,0,0,0,0,0,0]
[75,"o más",{"$f":"AO596","v":0},0,0,0,0,0,0,0,0,0,0,0,0,0,0]

{"sheet":"8","index":13,"n_rows":596,"n_cols":20,"rows_kept":596,"cut":false,"hidden":true,"merged":[[1,8,1,9],[4,0,4,7],[4,10,4,11],[5,0,5,7],[5,16,5,17],[6,0,6,1],[6,2,6,6],[111,0,111,7],[112,0,112,1],[112,2,112,6],[147,0,147,7],[148,0,148,7],[149,0,149,1],[149,2,149,6],[40,0,40,7],[41,0,41,1],[41,2,41,6],[77,0,77,7],[78,0,78,7],[79,0,79,1],[79,2,79,6],[253,0,253,7],[254,0,254,1],[254,2,254,6],[292,0,292,7],[293,0,293,7],[294,0,294,1],[294,2,294,6],[183,0,183,7],[184,0,184,1],[184,2,184,6],[219,0,219,7],[220,0,220,7],[221,0,221,1],[221,2,221,6],[399,0,399,7],[400,0,400,1],[400,2,400,6],[435,0,435,7],[436,0,436,7],[437,0,437,1],[437,2,437,6],[328,0,328,7],[329,0,329,1],[329,2,329,6],[365,0,365,7],[366,0,366,7],[367,0,367,1],[367,2,367,6],[544,0,544,7],[545,0,545,1],[545,2,545,6],[581,0,581,19],[582,0,582,19],[583,0,583,1],[583,2,583,6],[472,0,472,7],[473,0,473,1],[473,2,473,6],[508,0,508,7],[509,0,509,7],[510,0,510,1],[510,2,510,6],[591,38,591,39],[591,40,591,44],[584,43,584,45],[584,46,584,48],[584,49,584,51],[584,52,584,54],[590,0,590,16],[590,19,590,35],[590,38,590,54],[584,21,584,23],[584,24,584,26],[584,27,584,29],[584,30,584,32],[584,33,584,35],[584,40,584,42],[584,2,584,4],[584,5,584,7],[584,8,584,10],[584,11,584,13],[584,14,584,16],[584,17,584,19],[592,2,592,4],[592,5,592,7],[592,8,592,10],[592,11,592,13],[592,14,592,16],[592,21,592,23],[591,0,591,1],[591,2,591,6],[591,19,591,20],[591,21,591,25],[592,46,592,48],[592,49,592,51],[592,52,592,54],[592,24,592,26],[592,27,592,29],[592,30,592,32],[592,33,592,35],[592,40,592,42],[592,43,592,45]]}
[null,null,null,null,null,null,null,null,null,null,"D1","D2","D3","D4","D5","D6"]
[null,"REGIÓN",{"$f":"'INSURED INFORMATION'!W14","v":8},null,"FACTOR SEMESTRAL :",null,0.53,null,"NEW BUSINESS DISCUOUNTS",null,{"$f":"'INSURED INFORMATION'!P53","v":1},{"$f":"'INSURED INFORMATION'!Q53","v":1},{"$f":"'INSURED INFORMATION'!R53","v":1},{"$f":"'INSURED INFORMATION'!S53","v":1},{"$f":"'INSURED INFORMATION'!T53","v":1},{"$f":"'INSURED INFORMATION'!U53","v":1}]
[]
[]
["BUPA EXCLUSIVE CARE"]
["TARIFAS ANUALES"]
["EDAD"]
[" "," ","DW1","DW2","DW3","DW4","DW5","DW6"]
[18,"18-24",null,11957,7899,5579,3886,3056]
[25,"25-29",null,12540,8728,6183,4308,3384]
[30,"30-34",null,13047,9364,6920,5165,4073]
[35,"35-39",null,14613,10483,7760,5789,4561]
[40,"40-44",null,16942,11470,8609,6365,5015]
[45,"45-49",null,18944,12823,9628,7108,5606]
[50,"50-54",null,24238,16822,12560,10048,7921]
[55,"55-59",null,25791,17905,13360,10691,8434]
[60,"60",null,28098,19530,15376,12882,10475]
[61,"61",null,30183,20989,16514,13846,11259]
[62,"62",null,33047,22989,18095,15157,12326]
[63,"63",null,35141,24442,19227,16123,13106]
[64,"64",null,38010,26448,20808,17438,14186]
[65,"65",null,49693,34493,26308,23255,20003]
[66,"66",null,57728,40085,30569,27036,23244]
[67,"67",null,63059,43781,33391,29518,25390]
[68,"68",null,69822,48471,36978,32697,28114]
[69,"69",null,76822,53328,40687,35970,30936]
[70,"70",null,94548,64942,47895,41916,36393]
[71,"71",null,98265,67491,49779,43566,37826]
[72,"72",null,101047,69402,51180,44799,38893]
[73,"73",null,104758,71955,53058,46444,40318]
[74,"74",null,106610,73222,54008,47271,41035]
[75,"75+",null,111255,76411,56351,49326,42827]
[1,"1 Child",null,4156,3062,2494,2066,1610]
[2,"2 Children",null,6611,4873,3970,3275,2556]
[3,"3+ Children",null,9686,7139,5814,4804,3745]
[1,"Rider Comp. Maternidad",null,0,0,225,225,225]
[1,"Transplante de organos",null,0,0,0,0,0]
[]
[]
[]
["TARIFAS SEMESTRALES "]
["EDAD"]
[" "," ",null,"DW2","DW3","DW4","DW5","DW6"]
[18,"18-24",null,{"$f":"$G$2*D9","v":6337.21},4186.47,2956.8700000000003,2059.58,1619.68]
[25,"25-29",null,6646.2000000000007,4625.84,3276.9900000000002,2283.2400000000002,1793.52]
[30,"30-34",null,6914.9100000000008,4962.92,3667.6000000000004,2737.4500000000003,2158.69]
[35,"35-39",null,7744.89,5555.9900000000007,4112.8,3068.17,2417.33]
[40,"40-44",null,8979.26,6079.1,4562.7700000000004,3373.4500000000003,2657.9500000000003]
[45,"45-49",null,10040.32,6796.1900000000005,5102.84,3767.2400000000002,2971.1800000000003]
[50,"50-54",null,12846.140000000001,8915.66,6656.8,5325.4400000000005,4198.13]
[55,"55-59",null,13669.230000000001,9489.65,7080.8,5666.2300000000005,4470.0200000000004]
[60,"60",null,14891.94,10350.9,8149.2800000000007,6827.46,5551.75]
[61,"61",null,15996.990000000002,11124.17,8752.42,7338.38,5967.27]
[62,"62",null,17514.91,12184.17,9590.35,8033.21,6532.7800000000007]
[63,"63",null,18624.73,12954.26,10190.310000000001,8545.19,6946.18]
[64,"64",null,20145.3,14017.44,11028.24,9242.1400000000012,7518.58]
[65,"65",null,26337.29,18281.29,13943.240000000002,12325.150000000001,10601.59]
[66,"66",null,30595.84,21245.05,16201.570000000002,14329.08,12319.320000000002]
[67,"67",null,33421.270000000004,23203.93,17697.23,15644.54,13456.7]
[68,"68",null,{"$f":"$G$2*D25","v":37005.660000000003},25689.63,19598.34,17329.41,14900.42]
[69,"69",null,40715.660000000003,28263.84,21564.11,19064.100000000002,16396.080000000002]
[70,"70",null,50110.44,34419.26,25384.350000000002,22215.48,19288.29]
[71,"71",null,52080.450000000004,35770.230000000003,26382.870000000003,23089.98,20047.780000000002]
[72,"72",null,53554.91,36783.060000000005,27125.4,23743.47,20613.29]
[73,"73",null,55521.740000000005,38136.15,28120.74,24615.32,21368.54]
[74,"74",null,56503.3,38807.660000000003,28624.240000000002,25053.63,21748.550000000003]
[75,"75+",null,58965.15,40497.83,29866.030000000002,26142.780000000002,22698.31]
[1,"1 Child",null,2202.6800000000003,1622.8600000000001,1321.8200000000002,1094.98,853.30000000000007]
[2,"2 Children",null,3503.8300000000004,2582.69,2104.1,1735.75,1354.68]
[3,"3+ Children",null,5133.58,3783.67,3081.42,2546.1200000000003,1984.8500000000001]
[1,"Rider Comp. Maternidad",null,{"$f":"+D36*$G$2","v":0},0,119.25,119.25,119.25]
[1,"Transplante de organos",null,0,0,0,0,0]
[]
[]
[]
[]
[]
["DIAMOND (LATINAMERICA ONLY)"]
["TARIFAS ANUALES"]
["EDAD"]
[" "," ","DL1","DL2","DL3","DL4","DL5","DL6"]
[18,"-  24"]
[25,"-  29"]
[30,"-  34"]
[35,"-  39"]
[40,"-  44"]
[45,"-  49"]
[50,"-  54"]
[55,"-  59"]
[60]
[61]
[62]
[63]
[64]
[65]
[66]
[67]
[68]
[69]
[70]
[71]
[72]
[73]
[74]
[75,"o más"]
[1,"Hijo"]
[2,"Hijos"]
[3,"Hijos o más"]
[1,"Rider Comp. Maternidad"]
[1,"Transplante de organos",0,0,0,0,0,0]
[]
["TARIFAS SEMESTRALES "]
["EDAD"]
[" "," ","DL1","DL2","DL3","DL4","DL5","DL6"]
[18,"-  24",{"$f":"+C82*$G$2","v":0},0,0,0,0,0]
[25,"-  29",0,0,0,0,0,0]
[30,"-  34",0,0,0,0,0,0]
[35,"-  39",0,0,0,0,0,0]
[40,"-  44",0,0,0,0,0,0]
[45,"-  49",0,0,0,0,0,0]
[50,"-  54",0,0,0,0,0,0]
[55,"-  59",0,0,0,0,0,0]
[60,null,0,0,0,0,0,0]
[61,null,0,0,0,0,0,0]
[62,null,0,0,0,0,0,0]
[63,null,0,0,0,0,0,0]
[64,null,0,0,0,0,0,0]
[65,null,0,0,0,0,0,0]
[66,null,0,0,0,0,0,0]
[67,null,0,0,0,0,0,0]
[68,null,{"$f":"+C98*$G$2","v":0},0,0,0,0,0]
[69,null,0,0,0,0,0,0]
[70,null,0,0,0,0,0,0]
[71,null,0,0,0,0,0,0]
[72,null,0,0,0,0,0,0]
[73,null,0,0,0,0,0,0]
[74,null,0,0,0,0,0,0]
[75,"o más",0,0,0,0,0,0]
[1,"Hijo",0,0,0,0,0,0]
[2,"Hijos",0,0,0,0,0,0]
[3,"Hijos o más",0,0,0,0,0,0]
[1,"Rider Comp. Maternidad",0,0,0,0,0,0]
[1,"Transplante de organos",0,0,0,0,0,0]
[]
[]
[]
[]
["BUPA PRIVILEGE CARE"]
["TARIFAS ANUALES"]
["EDAD"]
[" "," ","CW1","CW2","CW3","CW4","CW5","CW6"]
[18,"18-24",null,10008,6884,4828,3361,2557]
[25,"25-29",null,10502,7614,5345,3723,2835]
[30,"30-34",null,10971,8143,5999,4497,3442]
[35,"35-39",null,12278,9114,6721,5047,3850]
[40,"40-44",null,14215,9996,7475,5562,4250]
[45,"45-49",null,15885,11173,8351,6220,4753]
[50,"50-54",null,20761,14739,10964,8867,6780]
[55,"55-59",null,22082,15672,11666,9436,7217]
[60,"60",null,24051,17017,13280,11223,9022]
[61,"61",null,25840,18283,14263,12061,9688]
[62,"62",null,28283,20025,15620,13207,10610]
[63,"63",null,30075,21286,16607,14046,11277]
[64,"64",null,32527,23035,17973,15196,12204]
[65,"65",null,42526,30035,22717,20258,17201]
[66,"66",null,49401,34900,26391,23544,19985]
[67,"67",null,53953,38117,28826,25705,21834]
[68,"68",null,59738,42202,31923,28469,24172]
[69,"69",null,65728,46427,35115,31317,26600]
[70,"70",null,80889,56532,41337,36498,31279]
[71,"71",null,84067,58747,42957,37928,32516]
[72,"72",null,86451,60411,44175,39001,33431]
[73,"73",null,89617,62632,45795,40437,34667]
[74,"74",null,91206,63740,46608,41155,35278]
[75,"75+",null,95178,66515,48637,42945,36806]
[1,"1 Child",null,3471,2538,1962,1628,1204]
[2,"2 Children",null,5515,4037,3126,2585,1914]
[3,"3+ Children",null,8091,5915,4578,3782,2804]
[1,"Rider Comp. Maternidad",null,0,0,225,225,225]
[1,"Transplante de organos",null,0,0,0,0,0]
[]
[]
[]
["TARIFAS SEMESTRALES "]
["EDAD"]
[" "," ",null,"CW2","CW3","CW4","CW5","CW6"]
[18,"18-24",null,{"$f":"$G$2*D152","v":5304.2400000000007},3648.52,2558.84,1781.3300000000002,1355.21]
[25,"25-29",null,5566.06,4035.42,2832.8500000000004,1973.19,1502.5500000000002]
[30,"30-34",null,5814.63,4315.79,3179.4700000000003,2383.4100000000003,1824.26]
[35,"35-39",null,6507.34,4830.42,3562.13,2674.9100000000003,2040.5]
[40,"40-44",null,7533.9500000000007,5297.88,3961.75,2947.86,2252.5]
[45,"45-49",null,8419.0500000000011,5921.6900000000005,4426.0300000000007,3296.6000000000004,2519.09]
[50,"50-54",null,11003.33,7811.67,5810.92,4699.51,3593.4]
[55,"55-59",null,11703.460000000001,8306.16,6182.9800000000005,5001.08,3825.01]
[60,"60",null,12747.03,9019.01,7038.4000000000005,5948.1900000000005,4781.66]
[61,"61",null,13695.2,9689.99,7559.39,6392.33,5134.6400000000003]
[62,"62",null,14989.990000000002,10613.25,8278.6,6999.71,5623.3]
[63,"63",null,15939.75,11281.58,8801.7100000000009,7444.38,5976.81]
[64,"64",null,17239.310000000001,12208.550000000001,9525.69,8053.88,6468.12]
[65,"65",null,22538.780000000002,15918.550000000001,12040.01,10736.74,9116.5300000000007]
[66,"66",null,26182.530000000002,18497,13987.230000000001,12478.320000000002,10592.050000000001]
[67,"67",null,28595.09,20202.010000000002,15277.78,13623.650000000001,11572.02]
[68,"68",null,{"$f":"$G$2*D168","v":31661.140000000003},22367.06,16919.190000000002,15088.570000000002,12811.16]
[69,"69",null,34835.840000000004,24606.31,18610.95,16598.010000000002,14098]
[70,"70",null,42871.170000000006,29961.960000000003,21908.61,19343.940000000002,16577.870000000003]
[71,"71",null,44555.51,31135.91,22767.210000000003,20101.84,17233.48]
[72,"72",null,45819.03,32017.83,23412.75,20670.530000000002,17718.43]
[73,"73",null,47497.01,33194.959999999999,24271.350000000002,21431.61,18373.510000000002]
[74,"74",null,48339.18,33782.200000000004,24702.240000000002,21812.15,18697.34]
[75,"75+",null,50444.340000000004,35252.950000000004,25777.61,22760.850000000002,19507.18]
[1,"1 Child",null,1839.63,1345.14,1039.8600000000001,862.84,638.12]
[2,"2 Children",null,2922.9500000000003,2139.61,1656.78,1370.0500000000002,1014.4200000000001]
[3,"3+ Children",null,4288.2300000000005,3134.9500000000003,2426.34,2004.46,1486.1200000000001]
[1,"Rider Comp. Maternidad",null,{"$f":"+D179*$G$2","v":0},0,119.25,119.25,119.25]
[1,"Transplante de organos",null,0,0,0,0,0]
[]
[]
[]
[]
["COMPLETE (LATINAMERICA ONLY)"]
["TARIFAS ANUALES"]
["EDAD"]
[" "," ","CL1","CL2","CL3","CL4","CL5","CL6"]
[18,"-  24"]
[25,"-  29"]
[30,"-  34"]
[35,"-  39"]
[40,"-  44"]
[45,"-  49"]
[50,"-  54"]
[55,"-  59"]
[60]
[61]
[62]
[63]
[64]
[65]
[66]
[67]
[68]
[69]
[70]
[71]
[72]
[73]
[74]
[75,"o más"]
[1,"Hijo"]
[2,"Hijos"]
[3,"Hijos o más"]
[1,"Rider Comp. Maternidad"]
[1,"Transplante de organos",0,0,0,0,0,0]
[]
["TARIFAS SEMESTRALES "]
["EDAD"]
[" "," ","CL1","CL2","CL3","CL4","CL5","CL6"]
[18,"-  24",{"$f":"+C224*$G$2","v":0},0,0,0,0,0]
[25,"-  29",0,0,0,0,0,0]
[30,"-  34",0,0,0,0,0,0]
[35,"-  39",0,0,0,0,0,0]
[40,"-  44",0,0,0,0,0,0]
[45,"-  49",0,0,0,0,0,0]
[50,"-  54",0,0,0,0,0,0]
[55,"-  59",0,0,0,0,0,0]
[60,null,0,0,0,0,0,0]
[61,null,0,0,0,0,0,0]
[62,null,0,0,0,0,0,0]
[63,null,0,0,0,0,0,0]
[64,null,0,0,0,0,0,0]
[65,null,0,0,0,0,0,0]
[66,null,0,0,0,0,0,0]
[67,null,0,0,0,0,0,0]
[68,null,{"$f":"+C240*$G$2","v":0},0,0,0,0,0]
[69,null,0,0,0,0,0,0]
[70,null,0,0,0,0,0,0]
[71,null,0,0,0,0,0,0]
[72,null,0,0,0,0,0,0]
[73,null,0,0,0,0,0,0]
[74,null,0,0,0,0,0,0]
[75,"o más",0,0,0,0,0,0]
[1,"Hijo",0,0,0,0,0,0]
[2,"Hijos",0,0,0,0,0,0]
[3,"Hijos o más",0,0,0,0,0,0]
[1,"Rider Comp. Maternidad",0,0,0,0,0,0]
[1,"Transplante de organos",0,0,0,0,0,0]
[]
[]
[]
[]
[]
[]
[]
["BUPA ADVANTAGE CARE (WORLDWIDE)"]
["TARIFAS ANUALES"]
["EDAD"]
[" "," ",null,"AW2","AW3","AW4","AW5","AW6"]
[18,"18-24",null,6534,4912,3694,2781,2203]
[25,"25-29",null,7265,5475,4109,3106,2449]
[30,"30-34",null,8410,6438,4883,3676,2837]
[35,"35-39",null,9329,7168,5431,4190,3141]
[40,"40-44",null,10527,8120,6155,4679,3559]
[45,"45-49",null,12231,9357,6946,5330,4132]
[50,"50-54",null,13398,10516,8090,5979,4535]
[55,"55-59",null,15830,12138,8948,6925,5365]
[60,"60",null,17490,13442,9836,7642,5938]
[61,"61",null,19683,15126,11077,8600,6689]
[62,"62",null,21879,16810,12314,9561,7431]
[63,"63",null,24069,18500,13546,10526,8180]
[64,"64",null,26256,20182,14784,11488,8925]
[65,"65",null,28389,21968,16115,12511,10161]
[66,"66",null,30059,23264,17065,13247,10761]
[67,"67",null,33404,25848,18963,14725,11956]
[68,"68",null,36753,28444,20868,16196,13160]
[69,"69",null,38422,29732,21817,16935,13763]
[70,"70",null,38921,30211,22150,17252,13938]
[71,"71",null,43789,33995,24918,19418,15689]
[72,"72",null,48667,37771,27690,21576,17438]
[73,"73",null,53536,41553,30459,23739,19179]
[74,"74",null,58410,45338,33243,25909,20926]
[75,"75+",null,63898,50570,38124,28358,24018]
[1,"1 Child",null,2912,2076,1613,1400,1008]
[2,"2 Children",null,4739,3271,2542,2217,1484]
[3,"3+ Children",null,6934,4764,3704,3209,2253]
[1,"Rider Comp. Maternidad",null,225,225,225,225,225]
[1,"Transplante de organos",null,300,300,300,300,300]
[]
[]
[]
["TARIFAS SEMESTRALES "]
["EDAD"]
[" "," ",null,"AW2","AW3","AW4","AW5","AW6"]
[18,"18-24",null,{"$f":"+D297*$G$2","v":3463.02},2603.36,1957.8200000000002,1473.93,1167.5900000000001]
[25,"25-29",null,3850.4500000000003,2901.75,2177.77,1646.18,1297.97]
[30,"30-34",null,4457.3,3412.1400000000003,2587.9900000000002,1948.2800000000002,1503.6100000000001]
[35,"35-39",null,4944.37,3799.04,2878.4300000000003,2220.7000000000003,1664.73]
[40,"40-44",null,5579.31,4303.6000000000004,3262.15,2479.8700000000003,1886.27]
[45,"45-49",null,6482.43,4959.21,3681.38,2824.9,2189.96]
[50,"50-54",null,7100.9400000000005,5573.4800000000005,4287.7,3168.8700000000003,2403.5500000000002]
[55,"55-59",null,8389.9,6433.14,4742.4400000000005,3670.25,2843.4500000000003]
[60,"60",null,9269.7000000000007,7124.26,5213.08,4050.26,3147.1400000000003]
[61,"61",null,10431.99,8016.7800000000007,5870.81,4558,3545.17]
[62,"62",null,11595.87,8909.3000000000011,6526.42,5067.33,3938.4300000000003]
[63,"63",null,12756.570000000002,9805,7179.38,5578.7800000000007,4335.4000000000005]
[64,"64",null,13915.68,10696.460000000001,7835.52,6088.64,4730.25]
[65,"65",null,15046.17,11643.04,8540.9500000000007,6630.83,5385.33]
[66,"66",null,15931.27,12329.92,9044.4500000000007,7020.9100000000008,5703.33]
[67,"67",null,17704.120000000003,13699.44,10050.390000000001,7804.25,6336.68]
[68,"68",null,{"$f":"+D313*$G$2","v":19479.09},15075.320000000002,11060.04,8583.880000000001,6974.8]
[69,"69",null,20363.66,15757.960000000001,11563.01,8975.5500000000011,7294.39]
[70,"70",null,20628.13,16011.83,11739.5,9143.5600000000013,7387.14]
[71,"71",null,23208.170000000002,18017.350000000002,13206.54,10291.540000000001,8315.17]
[72,"72",null,25793.510000000002,20018.63,14675.7,11435.28,9242.1400000000012]
[73,"73",null,28374.080000000002,22023.09,16143.27,12581.67,10164.870000000001]
[74,"74",null,30957.300000000003,24029.14,17618.79,13731.77,11090.78]
[75,"75+",null,33865.94,26802.100000000002,20205.72,15029.740000000002,12729.54]
[1,"1 Child",null,1543.3600000000001,1100.28,854.89,742,534.24]
[2,"2 Children",null,2511.67,1733.63,1347.26,1175.01,786.5200000000001]
[3,"3+ Children",null,3675.02,2524.92,1963.1200000000001,1700.77,1194.0900000000001]
[1,"Rider Comp. Maternidad",null,119.25,119.25,119.25,119.25,119.25]
[1,"Transplante de organos",null,159,159,159,159,159]
[]
[]
[]
[]
[]
["ADVANTAGE (LATINAMERICA ONLY)"]
["TARIFAS ANUALES"]
["EDAD"]
[" "," ",null,"AL2","AL3","AL4","AL5","AL6"]
[18,"18-24",null,11240,8450,6003,4521,3578]
[25,"25-29",null,12522,9432,6676,5046,3960]
[30,"30-34",null,14491,11087,7953,5984,4611]
[35,"35-39",null,16068,12342,8853,6822,5116]
[40,"40-44",null,18135,13999,10040,7628,5791]
[45,"45-49",null,21074,16127,11319,8682,6734]
[50,"50-54",null,23095,18131,13196,9747,7397]
[55,"55-59",null,27290,20932,14596,11305,8747]
[60,"60",null,30152,23179,16056,12465,9685]
[61,"61",null,33942,26076,18072,14038,10913]
[62,"62",null,37722,29010,20091,15611,12132]
[63,"63",null,41505,31913,22117,17178,13360]
[64,"64",null,45292,34829,24140,18760,14569]
[65,"65",null,48973,37903,26303,20431,16582]
[66,"66",null,51857,40135,27861,21635,17581]
[67,"67",null,57634,44613,30968,24062,19536]
[68,"68",null,63406,49074,34077,26482,21499]
[69,"69",null,66294,51314,35619,27680,22488]
[70,"70",null,67143,52135,36169,28205,22786]
[71,"71",null,75557,58666,40705,31745,25636]
[72,"72",null,83973,65215,45242,35276,28498]
[73,"73",null,92378,71746,49775,38821,31358]
[74,"74",null,100789,78269,54304,42358,34218]
[75,"75+",null,110253,87280,62287,46373,39262]
[1,"1 Child",null,5009,3572,2624,2281,1656]
[2,"2 Children",null,8181,5634,4146,3620,2438]
[3,"3+ Children",null,11967,8220,6057,5241,3690]
[1,"Rider Comp. Maternidad"]
[1,"Transplante de organos"]
[]
["TARIFAS SEMESTRALES "]
["EDAD"]
[" "," ",null,"AL2","AL3","AL4","AL5","AL6"]
[18,"18-24",null,{"$f":"+D370*$G$2","v":5957.2000000000007},4478.5,3181.59,2396.13,1896.3400000000001]
[25,"25-29",null,6636.6600000000008,4998.96,3538.28,2674.38,2098.8000000000002]
[30,"30-34",null,7680.2300000000005,5876.1100000000006,4215.09,3171.52,2443.83]
[35,"35-39",null,8516.0400000000009,6541.26,4692.09,3615.6600000000003,2711.48]
[40,"40-44",null,9611.5500000000011,7419.47,5321.2,4042.84,3069.23]
[45,"45-49",null,11169.220000000001,8547.3100000000013,5999.0700000000006,4601.46,3569.02]
[50,"50-54",null,12240.35,9609.43,6993.88,5165.91,3920.4100000000003]
[55,"55-59",null,14463.7,11093.960000000001,7735.88,5991.6500000000005,4635.91]
[60,"60",null,15980.560000000001,12284.87,8509.68,6606.4500000000007,5133.05]
[61,"61",null,17989.260000000002,13820.28,9578.16,7440.14,5783.89]
[62,"62",null,19992.66,15375.300000000001,10648.230000000001,8273.83,6429.96]
[63,"63",null,21997.65,16913.89,11722.01,9104.34,7080.8]
[64,"64",null,24004.760000000002,18459.370000000003,12794.2,9942.8000000000011,7721.5700000000006]
[65,"65",null,25955.690000000002,20088.59,13940.59,10828.43,8788.4600000000009]
[66,"66",null,27484.210000000003,21271.55,14766.33,11466.550000000001,9317.93]
[67,"67",null,30546.02,23644.89,16413.04,12752.86,10354.08]
[68,"68",null,{"$f":"+D386*$G$2","v":33605.18},26009.22,18060.810000000001,14035.460000000001,11394.470000000001]
[69,"69",null,35135.82,27196.420000000002,18878.07,14670.400000000001,11918.640000000001]
[70,"70",null,35585.79,27631.550000000003,19169.57,14948.650000000001,12076.58]
[71,"71",null,40045.21,31092.980000000003,21573.65,16824.850000000002,13587.08]
[72,"72",null,44505.69,34563.950000000004,23978.260000000002,18696.280000000002,15103.94]
[73,"73",null,48960.340000000004,38025.380000000005,26380.75,20575.13,16619.740000000002]
[74,"74",null,53418.170000000006,41482.57,28781.120000000003,22449.74,18135.54]
[75,"75+",null,58434.090000000004,46258.400000000001,33012.11,24577.690000000002,20808.86]
[1,"1 Child",null,2654.77,1893.16,1390.72,1208.93,877.68000000000006]
[2,"2 Children",null,4335.93,2986.02,2197.38,1918.6000000000001,1292.1400000000001]
[3,"3+ Children",null,6342.51,4356.6000000000004,3210.21,2777.73,1955.7]
[1,"Rider Comp. Maternidad",null,0,0,0,0,0]
[1,"Transplante de organos",null,0,0,0,0,0]
[]
[]
[]
[]
["BUPA SECURE CARE"]
["TARIFAS ANUALES"]
["EDAD"]
[" "," ",null,"SE2","SE3","SE4","SE5","SE6"]
[18,"18-24",null,4720,3703,2768,2331,1768]
[25,"25-29",null,5209,4177,3086,2598,1967]
[30,"30-34",null,5969,4905,3582,3019,2278]
[35,"35-39",null,6571,5480,3987,3351,2522]
[40,"40-44",null,7367,6251,4503,3787,2850]
[45,"45-49",null,8477,7336,5241,4400,3308]
[50,"50-54",null,9253,8074,5748,4828,3619]
[55,"55-59",null,10873,9636,6818,5727,4283]
[60,"60",null,11379,10303,7217,6058,4533]
[61,"61",null,12819,11593,8124,6821,5105]
[62,"62",null,14245,12890,9041,7584,5679]
[63,"63",null,15668,14182,9943,8349,6254]
[64,"64",null,17108,15474,10854,9110,6825]
[65,"65",null,17118,15623,10918,9161,6847]
[66,"66",null,17137,15772,10979,9206,6869]
[67,"67",null,19056,17533,12201,10241,7639]
[68,"68",null,20960,19281,13431,11268,8415]
[69,"69",null,21919,20153,14044,11776,8798]
[70,"70",null,21956,20498,14185,11894,8840]
[71,"71",null,24708,23071,15970,13389,9956]
[72,"72",null,27462,25644,17753,14880,11062]
[73,"73",null,30214,28204,19529,16373,12176]
[74,"74",null,32963,30773,21312,17867,13289]
[75,"75+",null,35928,33755,23302,19542,14524]
[1,"1 Child",null,2278,1342,1120,937,690]
[2,"2 Children",null,3837,2006,1756,1476,1094]
[3,"3+ Children",null,5639,2879,2551,2138,1579]
[1,"Rider Comp. Maternidad",null,225,225,225,225,225]
[1,"Transplante de organos",null,300,300,300,300,300]
[]
[]
[]
[]
["TARIFAS SEMESTRALES "]
["EDAD"]
[" "," ",null,"SE2","SE3","SE4","SE5","SE6"]
[18,"18-24",null,{"$f":"+D440*$G$2","v":2501.6},1962.5900000000001,1467.04,1235.43,937.04000000000008]
[25,"25-29",null,2760.77,2213.81,1635.5800000000002,1376.94,1042.51]
[30,"30-34",null,3163.57,2599.65,1898.46,1600.0700000000002,1207.3400000000001]
[35,"35-39",null,3482.63,2904.4,2113.11,1776.0300000000002,1336.66]
[40,"40-44",null,3904.51,3313.03,2386.59,2007.1100000000001,1510.5]
[45,"45-49",null,4492.8100000000004,3888.0800000000004,2777.73,2332,1753.24]
[50,"50-54",null,4904.09,4279.22,3046.44,2558.84,1918.0700000000002]
[55,"55-59",null,5762.6900000000005,5107.08,3613.54,3035.31,2269.9900000000002]
[60,"60",null,6030.87,5460.59,3825.01,3210.7400000000002,2402.4900000000002]
[61,"61",null,6794.0700000000006,6144.29,4305.72,3615.13,2705.65]
[62,"62",null,7549.85,6831.7000000000007,4791.7300000000005,4019.52,3009.8700000000003]
[63,"63",null,8304.0400000000009,7516.46,5269.79,4424.97,3314.6200000000003]
[64,"64",null,9067.24,8201.2200000000012,5752.62,4828.3,3617.25]
[65,"65",null,9072.5400000000009,8280.19,5786.54,4855.33,3628.9100000000003]
[66,"66",null,9082.61,8359.16,5818.87,4879.18,3640.57]
[67,"67",null,10099.68,9292.49,6466.5300000000007,5427.7300000000005,4048.67]
[68,"68",null,{"$f":"+D456*$G$2","v":11108.800000000001},10218.93,7118.43,5972.04,4459.95]
[69,"69",null,11617.07,10681.09,7443.3200000000006,6241.2800000000007,4662.9400000000005]
[70,"70",null,11636.68,10863.94,7518.05,6303.8200000000006,4685.2]
[71,"71",null,13095.24,12227.630000000001,8464.1,7096.17,5276.68]
[72,"72",null,14554.86,13591.320000000002,9409.09,7886.4000000000005,5862.8600000000006]
[73,"73",null,16013.42,14948.12,10350.370000000001,8677.69,6453.2800000000007]
[74,"74",null,17470.39,16309.69,11295.36,9469.51,7043.17]
[75,"75+",null,19041.84,17890.150000000001,12350.060000000001,10357.26,7697.72]
[1,"1 Child",null,1207.3400000000001,711.26,593.6,496.61,365.70000000000005]
[2,"2 Children",null,2033.6100000000001,1063.18,930.68000000000006,782.28000000000009,579.82000000000005]
[3,"3+ Children",null,2988.67,1525.8700000000001,1352.03,1133.1400000000001,836.87]
[1,"Rider Comp. Maternidad",null,119.25,119.25,119.25,119.25,119.25]
[1,"Transplante de organos",null,159,159,159,159,159]
[]
[]
[]
[]
["ESSENTIAL"]
["TARIFAS ANUALES"]
["EDAD"]
[" "," ",null,"ET2","ET3","ET4","ET5","ET6"]
[18,"18-24",null,3965,3111,2322,1951,1485]
[25,"25-29",null,4374,3504,2590,2183,1648]
[30,"30-34",null,5015,4116,3009,2532,1906]
[35,"35-39",null,5529,4611,3347,2813,2119]
[40,"40-44",null,6193,5261,3777,3180,2392]
[45,"45-49",null,7132,6169,4412,3703,2780]
[50,"50-54",null,7784,6795,4834,4066,3041]
[55,"55-59",null,9143,8113,5733,4809,3600]
[60,"60",null,9574,8669,6070,5094,3809]
[61,"61",null,10780,9761,6837,5732,4292]
[62,"62",null,11991,10847,7602,6380,4777]
[63,"63",null,13194,11941,8369,7020,5257]
[64,"64",null,14391,13027,9135,7668,5741]
[65,"65",null,14412,13155,9192,7705,5760]
[66,"66",null,14424,13279,9248,7747,5785]
[67,"67",null,16040,14758,10275,8617,6429]
[68,"68",null,17645,16238,11303,9481,7083]
[69,"69",null,18453,16972,11827,9915,7404]
[70,"70",null,18483,17271,11947,10010,7445]
[71,"71",null,20796,19430,13445,11274,8383]
[72,"72",null,23123,21589,14945,12529,9307]
[73,"73",null,25435,23752,16444,13784,10248]
[74,"74",null,27757,25918,17940,15044,11185]
[75,"75+",null,30248,28425,19626,16449,12222]
[1,"1 Child",null,1921,1138,944,786,581]
[2,"2 Children",null,3236,1686,1479,1240,923]
[3,"3+ Children",null,4749,2426,2156,1798,1332]
[1,"Rider Comp. Maternidad",null,225,225,225,225,225]
[1,"Transplante de organos",null,300,300,300,300,300]
[]
[]
[]
["TARIFAS SEMESTRALES "]
["EDAD"]
[" "," ",null,"ET2","ET3","ET4","ET5","ET6"]
[18,"18-24",null,{"$f":"+D513*$G$2","v":2101.4500000000003},1648.8300000000002,1230.6600000000001,1034.03,787.05000000000007]
[25,"25-29",null,2318.2200000000003,1857.1200000000001,1372.7,1156.99,873.44]
[30,"30-34",null,2657.9500000000003,2181.48,1594.77,1341.96,1010.1800000000001]
[35,"35-39",null,2930.3700000000003,2443.83,1773.91,1490.89,1123.0700000000002]
[40,"40-44",null,3282.29,2788.33,2001.8100000000002,1685.4,1267.76]
[45,"45-49",null,3779.96,3269.57,2338.36,1962.5900000000001,1473.4]
[50,"50-54",null,4125.5200000000004,3601.3500000000004,2562.02,2154.98,1611.73]
[55,"55-59",null,4845.79,4299.8900000000003,3038.4900000000002,2548.77,1908]
[60,"60",null,5074.22,4594.5700000000006,3217.1000000000004,2699.82,2018.7700000000002]
[61,"61",null,5713.4000000000005,5173.33,3623.61,3037.96,2274.7600000000002]
[62,"62",null,6355.2300000000005,5748.91,4029.0600000000004,3381.4,2531.81]
[63,"63",null,6992.8200000000006,6328.7300000000005,4435.5700000000006,3720.6000000000004,2786.21]
[64,"64",null,7627.2300000000005,6904.31,4841.55,4064.0400000000004,3042.73]
[65,"65",null,7638.3600000000006,6972.1500000000005,4871.76,4083.65,3052.8]
[66,"66",null,7644.72,7037.8700000000008,4901.4400000000005,4105.91,3066.05]
[67,"67",null,8501.2000000000007,7821.7400000000007,5445.75,4567.01,3407.3700000000003]
[68,"68",null,{"$f":"+D529*$G$2","v":9351.85},8606.1400000000012,5990.59,5024.93,3753.9900000000002]
[69,"69",null,9780.09,8995.16,6268.31,5254.95,3924.1200000000003]
[70,"70",null,9795.99,9153.630000000001,6331.9100000000008,5305.3,3945.8500000000004]
[71,"71",null,11021.880000000001,10297.9,7125.85,5975.22,4442.99]
[72,"72",null,12255.19,11442.17,7920.85,6640.37,4932.71]
[73,"73",null,13480.550000000001,12588.560000000001,8715.32,7305.52,5431.4400000000005]
[74,"74",null,14711.210000000001,13736.54,9508.2000000000007,7973.3200000000006,5928.05]
[75,"75+",null,16031.44,15065.25,10401.780000000001,8717.9700000000012,6477.6600000000008]
[1,"1 Child",null,1018.13,603.14,500.32000000000005,416.58000000000004,307.93]
[2,"2 Children",null,1715.0800000000002,893.58,783.87,657.2,489.19]
[3,"3+ Children",null,2516.9700000000003,1285.78,1142.68,952.94,705.96]
[1,"Rider Comp. Maternidad",null,119.25,119.25,119.25,119.25,119.25]
[1,"Transplante de organos",null,159,159,159,159,159]
[]
[]
[]
[]
[]
["CRITICAL"]
["TARIFAS ANUALES"]
["EDAD"]
[" "," ","CR1",null,null,"CR2",null,null,"CR3",null,null,"CR4",null,null,"CR5",null,null,"CR6"]
[null,null,"INDIVIDUAL","2 PERSONAS","FAMILIAR","INDIVIDUAL","2 PERSONAS","FAMILIAR","INDIVIDUAL","2 PERSONAS","FAMILIAR","INDIVIDUAL","2 PERSONAS","FAMILIAR","INDIVIDUAL","2 PERSONAS","FAMILIAR","INDIVIDUAL","2 PERSONAS","FAMILIAR"]
[18,"-  49",2587,4553,6519,2096,3574,5053,1829,3145,4452,1454,2436,3414,1093,1759,2425,684,1007,1334]
[50,"o más",3277,5238,7199,2640,4118,5589,2283,3605,4904,1792,2774,3761,1322,1987,2659,797,1120,1449]
[]
[]
["TARIFAS SEMESTRALES "]
["EDAD"]
[" "," ","CR1",null,null,"CR2",null,null,"CR3",null,null,"CR4",null,null,"CR5"]
[null,null,"INDIVIDUAL","2 PERSONAS","FAMILIAR","INDIVIDUAL","2 PERSONAS","FAMILIAR","INDIVIDUAL","2 PERSONAS","FAMILIAR","INDIVIDUAL","2 PERSONAS","FAMILIAR","INDIVIDUAL","2 PERSONAS","FAMILIAR"]
[18,"-  25",{"$f":"AO595","v":0},{"$f":"AP595","v":0},0,0,0,0,0,0,0,0,0,0,0,0,0]
[75,"o más",{"$f":"AO596","v":0},0,0,0,0,0,0,0,0,0,0,0,0,0,0]

{"sheet":"9","index":14,"n_rows":596,"n_cols":20,"rows_kept":596,"cut":false,"hidden":true,"merged":[[1,8,1,9],[4,0,4,7],[4,10,4,11],[5,0,5,7],[5,16,5,17],[6,0,6,1],[6,2,6,6],[111,0,111,7],[112,0,112,1],[112,2,112,6],[147,0,147,7],[148,0,148,7],[149,0,149,1],[149,2,149,6],[40,0,40,7],[41,0,41,1],[41,2,41,6],[77,0,77,7],[78,0,78,7],[79,0,79,1],[79,2,79,6],[253,0,253,7],[254,0,254,1],[254,2,254,6],[292,0,292,7],[293,0,293,7],[294,0,294,1],[294,2,294,6],[183,0,183,7],[184,0,184,1],[184,2,184,6],[219,0,219,7],[220,0,220,7],[221,0,221,1],[221,2,221,6],[399,0,399,7],[400,0,400,1],[400,2,400,6],[435,0,435,7],[436,0,436,7],[437,0,437,1],[437,2,437,6],[328,0,328,7],[329,0,329,1],[329,2,329,6],[365,0,365,7],[366,0,366,7],[367,0,367,1],[367,2,367,6],[544,0,544,7],[545,0,545,1],[545,2,545,6],[581,0,581,19],[582,0,582,19],[583,0,583,1],[583,2,583,6],[472,0,472,7],[473,0,473,1],[473,2,473,6],[508,0,508,7],[509,0,509,7],[510,0,510,1],[510,2,510,6],[591,38,591,39],[591,40,591,44],[584,43,584,45],[584,46,584,48],[584,49,584,51],[584,52,584,54],[590,0,590,16],[590,19,590,35],[590,38,590,54],[584,21,584,23],[584,24,584,26],[584,27,584,29],[584,30,584,32],[584,33,584,35],[584,40,584,42],[584,2,584,4],[584,5,584,7],[584,8,584,10],[584,11,584,13],[584,14,584,16],[584,17,584,19],[592,2,592,4],[592,5,592,7],[592,8,592,10],[592,11,592,13],[592,14,592,16],[592,21,592,23],[591,0,591,1],[591,2,591,6],[591,19,591,20],[591,21,591,25],[592,46,592,48],[592,49,592,51],[592,52,592,54],[592,24,592,26],[592,27,592,29],[592,30,592,32],[592,33,592,35],[592,40,592,42],[592,43,592,45]]}
[null,null,null,null,null,null,null,null,null,null,"D1","D2","D3","D4","D5","D6"]
[null,"REGIÓN",{"$f":"'INSURED INFORMATION'!W14","v":8},null,"FACTOR SEMESTRAL :",null,0.53,null,"NEW BUSINESS DISCUOUNTS",null,{"$f":"'INSURED INFORMATION'!P53","v":1},{"$f":"'INSURED INFORMATION'!Q53","v":1},{"$f":"'INSURED INFORMATION'!R53","v":1},{"$f":"'INSURED INFORMATION'!S53","v":1},{"$f":"'INSURED INFORMATION'!T53","v":1},{"$f":"'INSURED INFORMATION'!U53","v":1}]
[]
[]
["BUPA EXCLUSIVE CARE"]
["TARIFAS ANUALES"]
["EDAD"]
[" "," ","DW1","DW2","DW3","DW4","DW5","DW6"]
[18,"18-24",null,20289,13420,9281,6485,5109]
[25,"25-29",null,21281,14822,10277,7191,5656]
[30,"30-34",null,22130,15891,11506,8607,6790]
[35,"35-39",null,24782,17792,12890,9637,7603]
[40,"40-44",null,28721,19446,14300,10589,8351]
[45,"45-49",null,32110,21755,15971,11833,9327]
[50,"50-54",null,41088,28522,20849,16708,13183]
[55,"55-59",null,43710,30351,22177,17786,14036]
[60,"60",null,47612,33112,25514,21412,17429]
[61,"61",null,51154,35584,27390,23020,18719]
[62,"62",null,56004,38955,30006,25185,20492]
[63,"63",null,59541,41421,31890,26794,21788]
[64,"64",null,64408,44821,34503,28971,23570]
[65,"65",null,84180,58449,43617,38629,33235]
[66,"66",null,97789,67905,50685,44894,38613]
[67,"67",null,106824,74171,55353,49024,42162]
[68,"68",null,118266,82118,61287,54300,46695]
[69,"69",null,130139,90355,67426,59734,51376]
[70,"70",null,160148,110011,79380,69601,60427]
[71,"71",null,166435,114335,82490,72338,62792]
[72,"72",null,171153,117559,84817,74381,64578]
[73,"73",null,177437,121883,87940,77122,66951]
[74,"74",null,180568,124031,89493,78476,68138]
[75,"75+",null,188438,129431,93386,81902,71100]
[1,"1 Child",null,7044,5185,4132,3418,2674]
[2,"2 Children",null,11188,8253,6570,5440,4227]
[3,"3+ Children",null,16406,12078,9632,7967,6204]
[1,"Rider Comp. Maternidad",null,0,0,225,225,225]
[1,"Transplante de organos",null,0,0,0,0,0]
[]
[]
[]
["TARIFAS SEMESTRALES "]
["EDAD"]
[" "," ",null,"DW2","DW3","DW4","DW5","DW6"]
[18,"18-24",null,{"$f":"$G$2*D9","v":10753.17},7112.6,4918.93,3437.05,2707.77]
[25,"25-29",null,11278.93,7855.6600000000008,5446.81,3811.23,2997.6800000000003]
[30,"30-34",null,11728.900000000001,8422.23,6098.18,4561.71,3598.7000000000003]
[35,"35-39",null,13134.460000000001,9429.76,6831.7000000000007,5107.6100000000006,4029.59]
[40,"40-44",null,15222.130000000001,10306.380000000001,7579,5612.17,4426.0300000000007]
[45,"45-49",null,17018.3,11530.150000000001,8464.630000000001,6271.4900000000007,4943.3100000000004]
[50,"50-54",null,21776.639999999999,15116.66,11049.970000000001,8855.24,6986.9900000000007]
[55,"55-59",null,23166.300000000003,16086.03,11753.810000000001,9426.58,7439.08]
[60,"60",null,25234.36,17549.36,13522.42,11348.36,9237.3700000000008]
[61,"61",null,27111.620000000003,18859.52,14516.7,12200.6,9921.07]
[62,"62",null,29682.120000000003,20646.150000000001,15903.18,13348.050000000001,10860.76]
[63,"63",null,31556.730000000003,21953.13,16901.7,14200.820000000002,11547.640000000001]
[64,"64",null,34136.240000000005,23755.13,18286.59,15354.630000000001,12492.1]
[65,"65",null,44615.4,30977.97,23117.010000000002,20473.370000000003,17614.55]
[66,"66",null,51828.170000000006,35989.65,26863.050000000003,23793.82,20464.89]
[67,"67",null,56616.72,39310.630000000005,29337.09,25982.720000000001,22345.86]
[68,"68",null,{"$f":"$G$2*D25","v":62680.98},43522.54,32482.11,28779,24748.350000000002]
[69,"69",null,68973.67,47888.15,35735.78,31659.02,27229.280000000002]
[70,"70",null,84878.44,58305.83,42071.4,36888.53,32026.31]
[71,"71",null,88210.55,60597.55,43719.700000000004,38339.14,33279.760000000002]
[72,"72",null,90711.090000000011,62306.270000000004,44953.01,39421.93,34226.340000000004]
[73,"73",null,94041.61,64597.990000000005,46608.200000000004,40874.660000000003,35484.03]
[74,"74",null,95701.040000000008,65736.430000000008,47431.29,41592.28,36113.14]
[75,"75+",null,99872.14,68598.430000000008,49494.58,43408.060000000005,37683]
[1,"1 Child",null,3733.32,2748.05,2189.96,1811.5400000000002,1417.22]
[2,"2 Children",null,5929.64,4374.09,3482.1000000000004,2883.2000000000003,2240.31]
[3,"3+ Children",null,8695.18,6401.34,5104.96,4222.51,3288.1200000000003]
[1,"Rider Comp. Maternidad",null,{"$f":"+D36*$G$2","v":0},0,119.25,119.25,119.25]
[1,"Transplante de organos",null,0,0,0,0,0]
[]
[]
[]
[]
[]
["DIAMOND (LATINAMERICA ONLY)"]
["TARIFAS ANUALES"]
["EDAD"]
[" "," ","DL1","DL2","DL3","DL4","DL5","DL6"]
[18,"-  24"]
[25,"-  29"]
[30,"-  34"]
[35,"-  39"]
[40,"-  44"]
[45,"-  49"]
[50,"-  54"]
[55,"-  59"]
[60]
[61]
[62]
[63]
[64]
[65]
[66]
[67]
[68]
[69]
[70]
[71]
[72]
[73]
[74]
[75,"o más"]
[1,"Hijo"]
[2,"Hijos"]
[3,"Hijos o más"]
[1,"Rider Comp. Maternidad"]
[1,"Transplante de organos",0,0,0,0,0,0]
[]
["TARIFAS SEMESTRALES "]
["EDAD"]
[" "," ","DL1","DL2","DL3","DL4","DL5","DL6"]
[18,"-  24",{"$f":"+C82*$G$2","v":0},0,0,0,0,0]
[25,"-  29",0,0,0,0,0,0]
[30,"-  34",0,0,0,0,0,0]
[35,"-  39",0,0,0,0,0,0]
[40,"-  44",0,0,0,0,0,0]
[45,"-  49",0,0,0,0,0,0]
[50,"-  54",0,0,0,0,0,0]
[55,"-  59",0,0,0,0,0,0]
[60,null,0,0,0,0,0,0]
[61,null,0,0,0,0,0,0]
[62,null,0,0,0,0,0,0]
[63,null,0,0,0,0,0,0]
[64,null,0,0,0,0,0,0]
[65,null,0,0,0,0,0,0]
[66,null,0,0,0,0,0,0]
[67,null,0,0,0,0,0,0]
[68,null,{"$f":"+C98*$G$2","v":0},0,0,0,0,0]
[69,null,0,0,0,0,0,0]
[70,null,0,0,0,0,0,0]
[71,null,0,0,0,0,0,0]
[72,null,0,0,0,0,0,0]
[73,null,0,0,0,0,0,0]
[74,null,0,0,0,0,0,0]
[75,"o más",0,0,0,0,0,0]
[1,"Hijo",0,0,0,0,0,0]
[2,"Hijos",0,0,0,0,0,0]
[3,"Hijos o más",0,0,0,0,0,0]
[1,"Rider Comp. Maternidad",0,0,0,0,0,0]
[1,"Transplante de organos",0,0,0,0,0,0]
[]
[]
[]
[]
["BUPA PRIVILEGE CARE"]
["TARIFAS ANUALES"]
["EDAD"]
[" "," ","CW1","CW2","CW3","CW4","CW5","CW6"]
[18,"18-24",null,17060,11722,8058,5611,4275]
[25,"25-29",null,17903,12970,8928,6217,4744]
[30,"30-34",null,18700,13901,10003,7528,5742]
[35,"35-39",null,20940,15557,11210,8435,6438]
[40,"40-44",null,24234,17042,12465,9298,7093]
[45,"45-49",null,27071,19044,13943,10383,7938]
[50,"50-54",null,35393,25113,18296,14824,11336]
[55,"55-59",null,37654,26721,19469,15774,12064]
[60,"60",null,41006,29028,22153,18767,15064]
[61,"61",null,44051,31173,23796,20157,16183]
[62,"62",null,48222,34136,26063,22070,17727]
[63,"63",null,51280,36291,27703,23467,18840]
[64,"64",null,55456,39256,29963,25381,20397]
[65,"65",null,72492,51206,37889,33838,28744]
[66,"66",null,84212,59497,44018,39328,33402]
[67,"67",null,91987,64985,48075,42951,36473]
[68,"68",null,101862,71950,53248,47573,40390]
[69,"69",null,112057,79157,58574,52330,44443]
[70,"70",null,137912,96373,68939,60985,52269]
[71,"71",null,143317,100156,71656,63372,54323]
[72,"72",null,147367,103000,73677,65166,55862]
[73,"73",null,152804,106778,76389,67555,57916]
[74,"74",null,155501,108674,77735,68754,58935]
[75,"75+",null,162267,113392,81121,71751,61500]
[1,"1 Child",null,5924,4329,3271,2710,2003]
[2,"2 Children",null,9419,6888,5211,4316,3193]
[3,"3+ Children",null,13790,10086,7631,6319,4681]
[1,"Rider Comp. Maternidad",null,0,0,225,225,225]
[1,"Transplante de organos",null,0,0,0,0,0]
[]
[]
[]
["TARIFAS SEMESTRALES "]
["EDAD"]
[" "," ",null,"CW2","CW3","CW4","CW5","CW6"]
[18,"18-24",null,{"$f":"$G$2*D152","v":9041.8000000000011},6212.6600000000008,4270.74,2973.83,2265.75]
[25,"25-29",null,9488.59,6874.1,4731.84,3295.01,2514.3200000000002]
[30,"30-34",null,9911,7367.5300000000007,5301.59,3989.84,3043.26]
[35,"35-39",null,11098.2,8245.2100000000009,5941.3,4470.55,3412.1400000000003]
[40,"40-44",null,12844.02,9032.26,6606.4500000000007,4927.9400000000005,3759.29]
[45,"45-49",null,14347.630000000001,10093.32,7389.79,5502.9900000000007,4207.1400000000003]
[50,"50-54",null,18758.29,13309.890000000001,9696.880000000001,7856.72,6008.08]
[55,"55-59",null,19956.620000000003,14162.130000000001,10318.57,8360.2200000000012,6393.92]
[60,"60",null,21733.18,15384.84,11741.09,9946.51,7983.92]
[61,"61",null,23347.030000000002,16521.690000000002,12611.880000000001,10683.210000000001,8576.99]
[62,"62",null,25557.66,18092.080000000002,13813.390000000001,11697.1,9395.3100000000013]
[63,"63",null,27178.400000000001,19234.23,14682.59,12437.51,9985.2000000000007]
[64,"64",null,29391.68,20805.68,15880.390000000001,13451.93,10810.41]
[65,"65",null,38420.76,27139.18,20081.170000000002,17934.14,15234.320000000002]
[66,"66",null,44632.36,31533.41,23329.54,20843.84,17703.060000000001]
[67,"67",null,48753.11,34442.050000000003,25479.75,22764.030000000002,19330.690000000002]
[68,"68",null,{"$f":"$G$2*D168","v":53986.86},38133.5,28221.440000000002,25213.690000000002,21406.7]
[69,"69",null,59390.210000000006,41953.21,31044.22,27734.9,23554.79]
[70,"70",null,73093.36,51077.69,36537.67,32322.050000000003,27702.57]
[71,"71",null,75958.010000000009,53082.68,37977.68,33587.160000000003,28791.190000000002]
[72,"72",null,78104.510000000009,54590,39048.810000000005,34537.980000000003,29606.86]
[73,"73",null,80986.12000000001,56592.340000000004,40486.170000000006,35804.15,30695.480000000003]
[74,"74",null,82415.53,57597.22,41199.550000000003,36439.620000000003,31235.550000000003]
[75,"75+",null,86001.510000000009,60097.760000000002,42994.130000000005,38028.03,32595]
[1,"1 Child",null,3139.7200000000003,2294.37,1733.63,1436.3000000000002,1061.5900000000001]
[2,"2 Children",null,4992.0700000000006,3650.6400000000003,2761.83,2287.48,1692.2900000000002]
[3,"3+ Children",null,7308.7000000000007,5345.58,4044.4300000000003,3349.07,2480.9300000000003]
[1,"Rider Comp. Maternidad",null,{"$f":"+D179*$G$2","v":0},0,119.25,119.25,119.25]
[1,"Transplante de organos",null,0,0,0,0,0]
[]
[]
[]
[]
["COMPLETE (LATINAMERICA ONLY)"]
["TARIFAS ANUALES"]
["EDAD"]
[" "," ","CL1","CL2","CL3","CL4","CL5","CL6"]
[18,"-  24"]
[25,"-  29"]
[30,"-  34"]
[35,"-  39"]
[40,"-  44"]
[45,"-  49"]
[50,"-  54"]
[55,"-  59"]
[60]
[61]
[62]
[63]
[64]
[65]
[66]
[67]
[68]
[69]
[70]
[71]
[72]
[73]
[74]
[75,"o más"]
[1,"Hijo"]
[2,"Hijos"]
[3,"Hijos o más"]
[1,"Rider Comp. Maternidad"]
[1,"Transplante de organos",0,0,0,0,0,0]
[]
["TARIFAS SEMESTRALES "]
["EDAD"]
[" "," ","CL1","CL2","CL3","CL4","CL5","CL6"]
[18,"-  24",{"$f":"+C224*$G$2","v":0},0,0,0,0,0]
[25,"-  29",0,0,0,0,0,0]
[30,"-  34",0,0,0,0,0,0]
[35,"-  39",0,0,0,0,0,0]
[40,"-  44",0,0,0,0,0,0]
[45,"-  49",0,0,0,0,0,0]
[50,"-  54",0,0,0,0,0,0]
[55,"-  59",0,0,0,0,0,0]
[60,null,0,0,0,0,0,0]
[61,null,0,0,0,0,0,0]
[62,null,0,0,0,0,0,0]
[63,null,0,0,0,0,0,0]
[64,null,0,0,0,0,0,0]
[65,null,0,0,0,0,0,0]
[66,null,0,0,0,0,0,0]
[67,null,0,0,0,0,0,0]
[68,null,{"$f":"+C240*$G$2","v":0},0,0,0,0,0]
[69,null,0,0,0,0,0,0]
[70,null,0,0,0,0,0,0]
[71,null,0,0,0,0,0,0]
[72,null,0,0,0,0,0,0]
[73,null,0,0,0,0,0,0]
[74,null,0,0,0,0,0,0]
[75,"o más",0,0,0,0,0,0]
[1,"Hijo",0,0,0,0,0,0]
[2,"Hijos",0,0,0,0,0,0]
[3,"Hijos o más",0,0,0,0,0,0]
[1,"Rider Comp. Maternidad",0,0,0,0,0,0]
[1,"Transplante de organos",0,0,0,0,0,0]
[]
[]
[]
[]
[]
[]
[]
["BUPA ADVANTAGE CARE (WORLDWIDE)"]
["TARIFAS ANUALES"]
["EDAD"]
[" "," ",null,"AW2","AW3","AW4","AW5","AW6"]
[18,"18-24",null,11451,8612,6331,4782,3793]
[25,"25-29",null,12738,9610,7051,5332,4199]
[30,"30-34",null,14744,11286,8376,6314,4877]
[35,"35-39",null,16343,12566,9324,7202,5411]
[40,"40-44",null,18443,14241,10570,8049,6116]
[45,"45-49",null,21425,16398,11904,9152,7110]
[50,"50-54",null,23480,18437,13880,10283,7803]
[55,"55-59",null,27744,21276,15356,11902,9222]
[60,"60",null,30645,23559,16887,13131,10198]
[61,"61",null,34481,26511,18997,14782,11495]
[62,"62",null,38328,29460,21113,16431,12764]
[63,"63",null,42174,32422,23235,18080,14064]
[64,"64",null,46010,35370,25362,19733,15340]
[65,"65",null,49730,38487,27633,21491,17458]
[66,"66",null,52674,40774,29270,22765,18496]
[67,"67",null,58539,45299,32532,25300,20556]
[68,"68",null,64392,49841,35780,27831,22607]
[69,"69",null,67336,52104,37418,29098,23647]
[70,"70",null,68198,52935,37985,29659,23964]
[71,"71",null,76744,59560,42747,33370,26954]
[72,"72",null,85272,66197,47501,37083,29957]
[73,"73",null,93803,72812,52254,40802,32961]
[74,"74",null,102346,79443,57022,44517,35966]
[75,"75+",null,111950,88606,65396,48723,41270]
[1,"1 Child",null,5102,3629,2762,2401,1735]
[2,"2 Children",null,8301,5728,4371,3797,2551]
[3,"3+ Children",null,12146,8351,6352,5519,3881]
[1,"Rider Comp. Maternidad",null,225,225,225,225,225]
[1,"Transplante de organos",null,300,300,300,300,300]
[]
[]
[]
["TARIFAS SEMESTRALES "]
["EDAD"]
[" "," ",null,"AW2","AW3","AW4","AW5","AW6"]
[18,"18-24",null,{"$f":"+D297*$G$2","v":6069.0300000000007},4564.3600000000006,3355.4300000000003,2534.46,2010.2900000000002]
[25,"25-29",null,6751.14,5093.3,3737.03,2825.96,2225.4700000000003]
[30,"30-34",null,7814.3200000000006,5981.58,4439.2800000000007,3346.42,2584.81]
[35,"35-39",null,8661.7900000000009,6659.9800000000005,4941.72,3817.0600000000004,2867.83]
[40,"40-44",null,9774.7900000000009,7547.7300000000005,5602.1,4265.97,3241.48]
[45,"45-49",null,11355.25,8690.94,6309.12,4850.5600000000004,3768.3]
[50,"50-54",null,12444.400000000001,9771.61,7356.4000000000005,5449.9900000000007,4135.59]
[55,"55-59",null,14704.320000000002,11276.28,8138.68,6308.06,4887.66]
[60,"60",null,16241.85,12486.27,8950.11,6959.43,5404.9400000000005]
[61,"61",null,18274.93,14050.83,10068.41,7834.46,6092.35]
[62,"62",null,20313.84,15613.800000000001,11189.890000000001,8708.43,6764.92]
[63,"63",null,22352.22,17183.66,12314.550000000001,9582.4,7453.92]
[64,"64",null,24385.300000000003,18746.100000000002,13441.86,10458.49,8130.2000000000007]
[65,"65",null,26356.9,20398.11,14645.490000000002,11390.230000000001,9252.74]
[66,"66",null,27917.22,21610.22,15513.1,12065.45,9802.880000000001]
[67,"67",null,31025.670000000002,24008.47,17241.96,13409,10894.68]
[68,"68",null,{"$f":"+D313*$G$2","v":34127.760000000002},26415.73,18963.400000000001,14750.43,11981.710000000001]
[69,"69",null,35688.080000000002,27615.120000000003,19831.54,15421.94,12532.91]
[70,"70",null,36144.94,28055.550000000003,20132.05,15719.27,12700.92]
[71,"71",null,40674.32,31566.800000000003,22655.91,17686.100000000002,14285.62]
[72,"72",null,45194.16,35084.410000000003,25175.530000000002,19653.990000000002,15877.210000000001]
[73,"73",null,49715.590000000004,38590.36,27694.620000000003,21625.06,17469.330000000002]
[74,"74",null,54243.380000000005,42104.79,30221.66,23594.010000000002,19061.98]
[75,"75+",null,59333.5,46961.18,34659.880000000005,25823.190000000002,21873.100000000002]
[1,"1 Child",null,2704.06,1923.3700000000001,1463.8600000000001,1272.53,919.55000000000007]
[2,"2 Children",null,4399.5300000000007,3035.84,2316.63,2012.41,1352.03]
[3,"3+ Children",null,6437.38,4426.0300000000007,3366.56,2925.07,2056.9300000000003]
[1,"Rider Comp. Maternidad",null,119.25,119.25,119.25,119.25,119.25]
[1,"Transplante de organos",null,159,159,159,159,159]
[]
[]
[]
[]
[]
["ADVANTAGE (LATINAMERICA ONLY)"]
["TARIFAS ANUALES"]
["EDAD"]
[" "," ",null,"AL2","AL3","AL4","AL5","AL6"]
[18,"18-24",null,11240,8450,6003,4521,3578]
[25,"25-29",null,12522,9432,6676,5046,3960]
[30,"30-34",null,14491,11087,7953,5984,4611]
[35,"35-39",null,16068,12342,8853,6822,5116]
[40,"40-44",null,18135,13999,10040,7628,5791]
[45,"45-49",null,21074,16127,11319,8682,6734]
[50,"50-54",null,23095,18131,13196,9747,7397]
[55,"55-59",null,27290,20932,14596,11305,8747]
[60,"60",null,30152,23179,16056,12465,9685]
[61,"61",null,33942,26076,18072,14038,10913]
[62,"62",null,37722,29010,20091,15611,12132]
[63,"63",null,41505,31913,22117,17178,13360]
[64,"64",null,45292,34829,24140,18760,14569]
[65,"65",null,48973,37903,26303,20431,16582]
[66,"66",null,51857,40135,27861,21635,17581]
[67,"67",null,57634,44613,30968,24062,19536]
[68,"68",null,63406,49074,34077,26482,21499]
[69,"69",null,66294,51314,35619,27680,22488]
[70,"70",null,67143,52135,36169,28205,22786]
[71,"71",null,75557,58666,40705,31745,25636]
[72,"72",null,83973,65215,45242,35276,28498]
[73,"73",null,92378,71746,49775,38821,31358]
[74,"74",null,100789,78269,54304,42358,34218]
[75,"75+",null,110253,87280,62287,46373,39262]
[1,"1 Child",null,5009,3572,2624,2281,1656]
[2,"2 Children",null,8181,5634,4146,3620,2438]
[3,"3+ Children",null,11967,8220,6057,5241,3690]
[1,"Rider Comp. Maternidad"]
[1,"Transplante de organos"]
[]
["TARIFAS SEMESTRALES "]
["EDAD"]
[" "," ",null,"AL2","AL3","AL4","AL5","AL6"]
[18,"18-24",null,{"$f":"+D370*$G$2","v":5957.2000000000007},4478.5,3181.59,2396.13,1896.3400000000001]
[25,"25-29",null,6636.6600000000008,4998.96,3538.28,2674.38,2098.8000000000002]
[30,"30-34",null,7680.2300000000005,5876.1100000000006,4215.09,3171.52,2443.83]
[35,"35-39",null,8516.0400000000009,6541.26,4692.09,3615.6600000000003,2711.48]
[40,"40-44",null,9611.5500000000011,7419.47,5321.2,4042.84,3069.23]
[45,"45-49",null,11169.220000000001,8547.3100000000013,5999.0700000000006,4601.46,3569.02]
[50,"50-54",null,12240.35,9609.43,6993.88,5165.91,3920.4100000000003]
[55,"55-59",null,14463.7,11093.960000000001,7735.88,5991.6500000000005,4635.91]
[60,"60",null,15980.560000000001,12284.87,8509.68,6606.4500000000007,5133.05]
[61,"61",null,17989.260000000002,13820.28,9578.16,7440.14,5783.89]
[62,"62",null,19992.66,15375.300000000001,10648.230000000001,8273.83,6429.96]
[63,"63",null,21997.65,16913.89,11722.01,9104.34,7080.8]
[64,"64",null,24004.760000000002,18459.370000000003,12794.2,9942.8000000000011,7721.5700000000006]
[65,"65",null,25955.690000000002,20088.59,13940.59,10828.43,8788.4600000000009]
[66,"66",null,27484.210000000003,21271.55,14766.33,11466.550000000001,9317.93]
[67,"67",null,30546.02,23644.89,16413.04,12752.86,10354.08]
[68,"68",null,{"$f":"+D386*$G$2","v":33605.18},26009.22,18060.810000000001,14035.460000000001,11394.470000000001]
[69,"69",null,35135.82,27196.420000000002,18878.07,14670.400000000001,11918.640000000001]
[70,"70",null,35585.79,27631.550000000003,19169.57,14948.650000000001,12076.58]
[71,"71",null,40045.21,31092.980000000003,21573.65,16824.850000000002,13587.08]
[72,"72",null,44505.69,34563.950000000004,23978.260000000002,18696.280000000002,15103.94]
[73,"73",null,48960.340000000004,38025.380000000005,26380.75,20575.13,16619.740000000002]
[74,"74",null,53418.170000000006,41482.57,28781.120000000003,22449.74,18135.54]
[75,"75+",null,58434.090000000004,46258.400000000001,33012.11,24577.690000000002,20808.86]
[1,"1 Child",null,2654.77,1893.16,1390.72,1208.93,877.68000000000006]
[2,"2 Children",null,4335.93,2986.02,2197.38,1918.6000000000001,1292.1400000000001]
[3,"3+ Children",null,6342.51,4356.6000000000004,3210.21,2777.73,1955.7]
[1,"Rider Comp. Maternidad",null,0,0,0,0,0]
[1,"Transplante de organos",null,0,0,0,0,0]
[]
[]
[]
[]
["BUPA SECURE CARE"]
["TARIFAS ANUALES"]
["EDAD"]
[" "," ",null,"SE2","SE3","SE4","SE5","SE6"]
[18,"18-24",null,8729,6845,5018,4301,3275]
[25,"25-29",null,9617,7705,5591,4795,3627]
[30,"30-34",null,11016,9059,6485,5566,4214]
[35,"35-39",null,12147,10136,7215,6185,4665]
[40,"40-44",null,13627,11580,8168,7003,5263]
[45,"45-49",null,15685,13555,9497,8127,6122]
[50,"50-54",null,17100,14923,10411,8925,6685]
[55,"55-59",null,20110,17825,12349,10568,7919]
[60,"60",null,21045,19040,13067,11186,8364]
[61,"61",null,23682,21423,14715,12600,9418]
[62,"62",null,26325,23827,16360,14014,10482]
[63,"63",null,28970,26208,18008,15416,11541]
[64,"64",null,31604,28614,19637,16830,12600]
[65,"65",null,31646,28880,19769,16925,12652]
[66,"66",null,31690,29143,19877,17007,12693]
[67,"67",null,35209,32398,22114,18903,14107]
[68,"68",null,38741,35643,24320,20809,15539]
[69,"69",null,40510,37255,25437,21745,16254]
[70,"70",null,40574,37892,25692,21967,16324]
[71,"71",null,45670,42642,28923,24726,18383]
[72,"72",null,50746,47400,32146,27495,20435]
[73,"73",null,55847,52142,35368,30239,22494]
[74,"74",null,60925,56880,38589,32997,24547]
[75,"75+",null,66402,62404,42208,36086,26814]
[1,"1 Child",null,4214,2482,2021,1726,1275]
[2,"2 Children",null,7101,3691,3179,2731,2016]
[3,"3+ Children",null,10420,5306,4624,3951,2919]
[1,"Rider Comp. Maternidad",null,225,225,225,225,225]
[1,"Transplante de organos",null,300,300,300,300,300]
[]
[]
[]
[]
["TARIFAS SEMESTRALES "]
["EDAD"]
[" "," ",null,"SE2","SE3","SE4","SE5","SE6"]
[18,"18-24",null,{"$f":"+D440*$G$2","v":4626.37},3627.8500000000004,2659.54,2279.5300000000002,1735.75]
[25,"25-29",null,5097.01,4083.65,2963.23,2541.35,1922.3100000000002]
[30,"30-34",null,5838.4800000000005,4801.2700000000004,3437.05,2949.98,2233.42]
[35,"35-39",null,6437.9100000000008,5372.08,3823.9500000000003,3278.05,2472.4500000000003]
[40,"40-44",null,7222.31,6137.4000000000005,4329.04,3711.59,2789.3900000000003]
[45,"45-49",null,8313.0500000000011,7184.1500000000005,5033.41,4307.3100000000004,3244.6600000000003]
[50,"50-54",null,9063,7909.1900000000005,5517.83,4730.25,3543.05]
[55,"55-59",null,10658.300000000001,9447.25,6544.97,5601.04,4197.0700000000006]
[60,"60",null,11153.85,10091.200000000001,6925.51,5928.58,4432.92]
[61,"61",null,12551.460000000001,11354.19,7798.9500000000007,6678,4991.54]
[62,"62",null,13952.25,12628.310000000001,8670.8000000000011,7427.42,5555.46]
[63,"63",null,15354.1,13890.240000000002,9544.24,8170.4800000000005,6116.7300000000005]
[64,"64",null,16750.120000000003,15165.42,10407.61,8919.9,6678]
[65,"65",null,16772.38,15306.400000000001,10477.57,8970.25,6705.56]
[66,"66",null,16795.7,15445.79,10534.810000000001,9013.7100000000009,6727.29]
[67,"67",null,18660.77,17170.940000000002,11720.42,10018.59,7476.71]
[68,"68",null,{"$f":"+D456*$G$2","v":20532.73},18890.79,12889.6,11028.77,8235.67]
[69,"69",null,21470.3,19745.150000000001,13481.61,11524.85,8614.6200000000008]
[70,"70",null,21504.22,20082.760000000002,13616.76,11642.51,8651.7200000000012]
[71,"71",null,24205.100000000002,22600.260000000002,15329.19,13104.78,9742.99]
[72,"72",null,26895.38,25122,17037.38,14572.35,10830.550000000001]
[73,"73",null,29598.91,27635.260000000002,18745.04,16026.67,11921.82]
[74,"74",null,32290.25,30146.400000000001,20452.170000000002,17488.41,13009.91]
[75,"75+",null,35193.060000000005,33074.120000000003,22370.240000000002,19125.580000000002,14211.42]
[1,"1 Child",null,2233.42,1315.46,1071.1300000000001,914.78000000000009,675.75]
[2,"2 Children",null,3763.53,1956.23,1684.8700000000001,1447.43,1068.48]
[3,"3+ Children",null,5522.6,2812.1800000000003,2450.7200000000003,2094.0300000000002,1547.0700000000002]
[1,"Rider Comp. Maternidad",null,119.25,119.25,119.25,119.25,119.25]
[1,"Transplante de organos",null,159,159,159,159,159]
[]
[]
[]
[]
["ESSENTIAL"]
["TARIFAS ANUALES"]
["EDAD"]
[" "," ",null,"ET2","ET3","ET4","ET5","ET6"]
[18,"18-24",null,5898,4618,3389,2913,2205]
[25,"25-29",null,6493,5210,3769,3256,2454]
[30,"30-34",null,7455,6140,4384,3772,2836]
[35,"35-39",null,8214,6859,4878,4195,3156]
[40,"40-44",null,9221,7830,5513,4749,3565]
[45,"45-49",null,10620,9188,6429,5525,4141]
[50,"50-54",null,11576,10117,7051,6063,4537]
[55,"55-59",null,13626,12085,8352,7197,5371]
[60,"60",null,14262,12911,8859,7612,5683]
[61,"61",null,16062,14537,9975,8583,6407]
[62,"62",null,17854,16159,11090,9548,7138]
[63,"63",null,19651,17784,12218,10504,7861]
[64,"64",null,21451,19418,13332,11465,8583]
[65,"65",null,21469,19604,13402,11533,8611]
[66,"66",null,21494,19770,13490,11586,8634]
[67,"67",null,23888,21986,14999,12885,9607]
[68,"68",null,26299,24190,16497,14189,10578]
[69,"69",null,27482,25298,17259,14827,11067]
[70,"70",null,27541,25726,17443,14979,11130]
[71,"71",null,31002,28957,19631,16865,12527]
[72,"72",null,34450,32196,21823,18741,13932]
[73,"73",null,37925,35411,24015,20628,15326]
[74,"74",null,41372,38652,26199,22510,16735]
[75,"75+",null,45103,42384,28666,24633,18295]
[1,"1 Child",null,2865,1694,1378,1186,878]
[2,"2 Children",null,4828,2510,2166,1861,1378]
[3,"3+ Children",null,7083,3610,3149,2702,1991]
[1,"Rider Comp. Maternidad",null,225,225,225,225,225]
[1,"Transplante de organos",null,300,300,300,300,300]
[]
[]
[]
["TARIFAS SEMESTRALES "]
["EDAD"]
[" "," ",null,"ET2","ET3","ET4","ET5","ET6"]
[18,"18-24",null,{"$f":"+D513*$G$2","v":3125.94},2447.54,1796.17,1543.89,1168.6500000000001]
[25,"25-29",null,3441.29,2761.3,1997.5700000000002,1725.68,1300.6200000000001]
[30,"30-34",null,3951.15,3254.2000000000003,2323.52,1999.16,1503.0800000000002]
[35,"35-39",null,4353.42,3635.27,2585.34,2223.35,1672.68]
[40,"40-44",null,4887.13,4149.9000000000005,2921.8900000000003,2516.9700000000003,1889.45]
[45,"45-49",null,5628.6,4869.6400000000003,3407.3700000000003,2928.25,2194.73]
[50,"50-54",null,6135.2800000000007,5362.01,3737.03,3213.3900000000003,2404.61]
[55,"55-59",null,7221.7800000000007,6405.05,4426.5600000000004,3814.4100000000003,2846.63]
[60,"60",null,7558.8600000000006,6842.83,4695.2700000000004,4034.36,3011.9900000000002]
[61,"61",null,8512.86,7704.6100000000006,5286.75,4548.99,3395.71]
[62,"62",null,9462.6200000000008,8564.27,5877.7000000000007,5060.4400000000005,3783.1400000000003]
[63,"63",null,10415.030000000001,9425.52,6475.54,5567.12,4166.33]
[64,"64",null,11369.03,10291.540000000001,7065.96,6076.4500000000007,4548.99]
[65,"65",null,11378.57,10390.120000000001,7103.06,6112.4900000000007,4563.83]
[66,"66",null,11391.82,10478.1,7149.7000000000007,6140.58,4576.0200000000004]
[67,"67",null,12660.640000000001,11652.58,7949.47,6829.05,5091.71]
[68,"68",null,{"$f":"+D529*$G$2","v":13938.470000000001},12820.7,8743.41,7520.17,5606.34]
[69,"69",null,14565.460000000001,13407.94,9147.27,7858.31,5865.51]
[70,"70",null,14596.730000000001,13634.78,9244.7900000000009,7938.8700000000008,5898.9000000000005]
[71,"71",null,16431.060000000001,15347.210000000001,10404.43,8938.4500000000007,6639.31]
[72,"72",null,18258.5,17063.88,11566.19,9932.7300000000014,7383.96]
[73,"73",null,20100.25,18767.830000000002,12727.95,10932.84,8122.7800000000007]
[74,"74",null,21927.16,20485.560000000001,13885.470000000001,11930.300000000001,8869.5500000000011]
[75,"75+",null,23904.59,22463.52,15192.980000000001,13055.49,9696.35]
[1,"1 Child",null,1518.45,897.82,730.34,628.58000000000004,465.34000000000003]
[2,"2 Children",null,2558.84,1330.3,1147.98,986.33,730.34]
[3,"3+ Children",null,3753.9900000000002,1913.3000000000002,1668.97,1432.0600000000002,1055.23]
[1,"Rider Comp. Maternidad",null,119.25,119.25,119.25,119.25,119.25]
[1,"Transplante de organos",null,159,159,159,159,159]
[]
[]
[]
[]
[]
["CRITICAL"]
["TARIFAS ANUALES"]
["EDAD"]
[" "," ","CR1",null,null,"CR2",null,null,"CR3",null,null,"CR4",null,null,"CR5",null,null,"CR6"]
[null,null,"INDIVIDUAL","2 PERSONAS","FAMILIAR","INDIVIDUAL","2 PERSONAS","FAMILIAR","INDIVIDUAL","2 PERSONAS","FAMILIAR","INDIVIDUAL","2 PERSONAS","FAMILIAR","INDIVIDUAL","2 PERSONAS","FAMILIAR","INDIVIDUAL","2 PERSONAS","FAMILIAR"]
[18,"-  49",6027,10950,15897,5243,9324,13417,4397,7958,11498,3376,6038,8694,2395,4200,6014,1348,2245,3147]
[50,"o más",7746,12682,17617,6731,10813,14902,5645,9191,12725,4307,6960,9627,3008,4844,6631,1662,2570,3471]
[]
[]
["TARIFAS SEMESTRALES "]
["EDAD"]
[" "," ","CR1",null,null,"CR2",null,null,"CR3",null,null,"CR4",null,null,"CR5"]
[null,null,"INDIVIDUAL","2 PERSONAS","FAMILIAR","INDIVIDUAL","2 PERSONAS","FAMILIAR","INDIVIDUAL","2 PERSONAS","FAMILIAR","INDIVIDUAL","2 PERSONAS","FAMILIAR","INDIVIDUAL","2 PERSONAS","FAMILIAR"]
[18,"-  25",{"$f":"AO595","v":0},{"$f":"AP595","v":0},0,0,0,0,0,0,0,0,0,0,0,0,0]
[75,"o más",{"$f":"AO596","v":0},0,0,0,0,0,0,0,0,0,0,0,0,0,0]

{"sheet":"PERU2020","index":15,"n_rows":596,"n_cols":20,"rows_kept":596,"cut":false,"hidden":true,"merged":[[1,8,1,9],[4,0,4,7],[4,10,4,11],[5,0,5,7],[5,16,5,17],[6,0,6,1],[6,2,6,6],[6,10,20,13],[111,0,111,7],[112,0,112,1],[112,2,112,6],[147,0,147,7],[148,0,148,7],[149,0,149,1],[149,2,149,6],[40,0,40,7],[41,0,41,1],[41,2,41,6],[77,0,77,7],[78,0,78,7],[79,0,79,1],[79,2,79,6],[253,0,253,7],[254,0,254,1],[254,2,254,6],[292,0,292,7],[293,0,293,7],[294,0,294,1],[294,2,294,6],[183,0,183,7],[184,0,184,1],[184,2,184,6],[219,0,219,7],[220,0,220,7],[221,0,221,1],[221,2,221,6],[399,0,399,7],[400,0,400,1],[400,2,400,6],[435,0,435,7],[436,0,436,7],[437,0,437,1],[437,2,437,6],[328,0,328,7],[329,0,329,1],[329,2,329,6],[365,0,365,7],[366,0,366,7],[367,0,367,1],[367,2,367,6],[544,0,544,7],[545,0,545,1],[545,2,545,6],[581,0,581,19],[582,0,582,19],[583,0,583,1],[583,2,583,6],[472,0,472,7],[473,0,473,1],[473,2,473,6],[508,0,508,7],[509,0,509,7],[510,0,510,1],[510,2,510,6],[591,38,591,39],[591,40,591,44],[584,43,584,45],[584,46,584,48],[584,49,584,51],[584,52,584,54],[590,0,590,16],[590,19,590,35],[590,38,590,54],[584,21,584,23],[584,24,584,26],[584,27,584,29],[584,30,584,32],[584,33,584,35],[584,40,584,42],[584,2,584,4],[584,5,584,7],[584,8,584,10],[584,11,584,13],[584,14,584,16],[584,17,584,19],[592,2,592,4],[592,5,592,7],[592,8,592,10],[592,11,592,13],[592,14,592,16],[592,21,592,23],[591,0,591,1],[591,2,591,6],[591,19,591,20],[591,21,591,25],[592,46,592,48],[592,49,592,51],[592,52,592,54],[592,24,592,26],[592,27,592,29],[592,30,592,32],[592,33,592,35],[592,40,592,42],[592,43,592,45]]}
[null,null,null,null,null,null,null,null,null,null,"D1","D2","D3","D4","D5","D6"]
[null,"REGIÓN",{"$f":"'INSURED INFORMATION'!W14","v":8},null,"FACTOR SEMESTRAL :",null,0.53,null,"NEW BUSINESS DISCUOUNTS",null,{"$f":"'INSURED INFORMATION'!P53","v":1},{"$f":"'INSURED INFORMATION'!Q53","v":1},{"$f":"'INSURED INFORMATION'!R53","v":1},{"$f":"'INSURED INFORMATION'!S53","v":1},{"$f":"'INSURED INFORMATION'!T53","v":1},{"$f":"'INSURED INFORMATION'!U53","v":1}]
[]
[]
["BUPA EXCLUSIVE CARE"]
["TARIFAS ANUALES"]
["EDAD",null,null,null,null,null,null,null,null,null,"Usar tarifas de la Zona 4"]
[" "," ","DW1","DW2","DW3","DW4","DW5","DW6"]
[18,"18-24",null,19979,13201,8654,5923,4662]
[25,"25-29",null,20959,14590,9589,6569,5163]
[30,"30-34",null,21802,15646,10734,7876,6210]
[35,"35-39",null,24418,17516,12036,8827,6954]
[40,"40-44",null,28320,19161,13361,9708,7646]
[45,"45-49",null,31660,21430,14933,10844,8548]
[50,"50-54",null,40512,28118,19485,15332,12085]
[55,"55-59",null,43104,29922,20726,16311,12864]
[60,"60",null,46956,32642,23858,19649,15984]
[61,"61",null,50446,35078,25621,21126,17174]
[62,"62",null,55231,38417,28065,23118,18806]
[63,"63",null,58728,40848,29827,24597,19990]
[64,"64",null,63524,44197,32283,26600,21644]
[65,"65",null,83050,57652,40817,35481,30520]
[66,"66",null,96481,66992,47426,41248,35459]
[67,"67",null,105388,73169,51804,45040,38737]
[68,"68",null,116696,81011,57365,49883,42892]
[69,"69",null,128397,89128,63119,54880,47201]
[70,"70",null,158015,108535,74302,63945,55525]
[71,"71",null,164228,112792,77226,66466,57706]
[72,"72",null,168880,115987,79396,68348,59339]
[73,"73",null,175080,120254,82318,70863,61507]
[74,"74",null,178181,122381,83791,72116,62608]
[75,"75+",null,185937,127704,87423,75257,65343]
[1,"1 Child",null,6942,5114,3871,3150,2450]
[2,"2 Children",null,11042,8146,6160,4999,3899]
[3,"3+ Children",null,16192,11930,9019,7326,5705]
[1,"Rider Comp. Maternidad",null,0,0,225,225,225]
[1,"Transplante de organos",null,0,0,0,0,0]
[]
[]
[]
["TARIFAS SEMESTRALES "]
["EDAD"]
[" "," ",null,"DW2","DW3","DW4","DW5","DW6"]
[18,"18-24",null,{"$f":"$G$2*D9","v":10588.87},6996.5300000000007,4586.62,3139.19,2470.86]
[25,"25-29",null,11108.27,7732.7000000000007,5082.17,3481.57,2736.3900000000003]
[30,"30-34",null,11555.060000000001,8292.380000000001,5689.02,4174.2800000000007,3291.3]
[35,"35-39",null,12941.54,9283.48,6379.08,4678.3100000000004,3685.6200000000003]
[40,"40-44",null,15009.6,10155.33,7081.33,5145.2400000000007,4052.38]
[45,"45-49",null,16779.8,11357.900000000001,7914.4900000000007,5747.3200000000006,4530.4400000000005]
[50,"50-54",null,21471.360000000001,14902.54,10327.050000000001,8125.96,6405.05]
[55,"55-59",null,22845.120000000003,15858.660000000002,10984.78,8644.83,6817.92]
[60,"60",null,24886.68,17300.260000000002,12644.74,10413.970000000001,8471.52]
[61,"61",null,26736.38,18591.34,13579.130000000001,11196.78,9102.2200000000012]
[62,"62",null,29272.43,20361.010000000002,14874.45,12252.54,9967.18]
[63,"63",null,31125.84,21649.440000000002,15808.310000000001,13036.41,10594.7]
[64,"64",null,33667.72,23424.41,17109.990000000002,14098,11471.32]
[65,"65",null,44016.5,30555.56,21633.010000000002,18804.93,16175.6]
[66,"66",null,51134.93,35505.760000000002,25135.780000000002,21861.440000000002,18793.27]
[67,"67",null,55855.64,38779.57,27456.120000000003,23871.200000000001,20530.61]
[68,"68",null,{"$f":"$G$2*D25","v":61848.880000000005},42935.83,30403.45,26437.99,22732.760000000002]
[69,"69",null,68050.41,47237.840000000004,33453.07,29086.400000000001,25016.530000000002]
[70,"70",null,83747.95,57523.55,39380.060000000005,33890.85,29428.25]
[71,"71",null,87040.840000000011,59779.76,40929.78,35226.980000000003,30584.18]
[72,"72",null,89506.400000000009,61473.11,42079.880000000005,36224.44,31449.670000000002]
[73,"73",null,92792.400000000009,63734.62,43628.54,37557.39,32598.710000000003]
[74,"74",null,94435.930000000008,64861.93,44409.23,38221.480000000003,33182.240000000005]
[75,"75+",null,98546.61,67683.12000000001,46334.19,39886.21,34631.79]
[1,"1 Child",null,3679.26,2710.42,2051.63,1669.5,1298.5]
[2,"2 Children",null,5852.26,4317.38,3264.8,2649.4700000000003,2066.4700000000003]
[3,"3+ Children",null,8581.76,6322.9000000000005,4780.0700000000006,3882.78,3023.65]
[1,"Rider Comp. Maternidad",null,{"$f":"+D36*$G$2","v":0},0,119.25,119.25,119.25]
[1,"Transplante de organos",null,0,0,0,0,0]
[]
[]
[]
[]
[]
["DIAMOND (LATINAMERICA ONLY)"]
["TARIFAS ANUALES"]
["EDAD"]
[" "," ","DL1","DL2","DL3","DL4","DL5","DL6"]
[18,"-  24"]
[25,"-  29"]
[30,"-  34"]
[35,"-  39"]
[40,"-  44"]
[45,"-  49"]
[50,"-  54"]
[55,"-  59"]
[60]
[61]
[62]
[63]
[64]
[65]
[66]
[67]
[68]
[69]
[70]
[71]
[72]
[73]
[74]
[75,"o más"]
[1,"Hijo"]
[2,"Hijos"]
[3,"Hijos o más"]
[1,"Rider Comp. Maternidad"]
[1,"Transplante de organos",0,0,0,0,0,0]
[]
["TARIFAS SEMESTRALES "]
["EDAD"]
[" "," ","DL1","DL2","DL3","DL4","DL5","DL6"]
[18,"-  24",{"$f":"+C82*$G$2","v":0},0,0,0,0,0]
[25,"-  29",0,0,0,0,0,0]
[30,"-  34",0,0,0,0,0,0]
[35,"-  39",0,0,0,0,0,0]
[40,"-  44",0,0,0,0,0,0]
[45,"-  49",0,0,0,0,0,0]
[50,"-  54",0,0,0,0,0,0]
[55,"-  59",0,0,0,0,0,0]
[60,null,0,0,0,0,0,0]
[61,null,0,0,0,0,0,0]
[62,null,0,0,0,0,0,0]
[63,null,0,0,0,0,0,0]
[64,null,0,0,0,0,0,0]
[65,null,0,0,0,0,0,0]
[66,null,0,0,0,0,0,0]
[67,null,0,0,0,0,0,0]
[68,null,{"$f":"+C98*$G$2","v":0},0,0,0,0,0]
[69,null,0,0,0,0,0,0]
[70,null,0,0,0,0,0,0]
[71,null,0,0,0,0,0,0]
[72,null,0,0,0,0,0,0]
[73,null,0,0,0,0,0,0]
[74,null,0,0,0,0,0,0]
[75,"o más",0,0,0,0,0,0]
[1,"Hijo",0,0,0,0,0,0]
[2,"Hijos",0,0,0,0,0,0]
[3,"Hijos o más",0,0,0,0,0,0]
[1,"Rider Comp. Maternidad",0,0,0,0,0,0]
[1,"Transplante de organos",0,0,0,0,0,0]
[]
[]
[]
[]
["BUPA PRIVILEGE CARE"]
["TARIFAS ANUALES"]
["EDAD"]
[" "," ","CW1","CW2","CW3","CW4","CW5","CW6"]
[18,"18-24",null,16807,11553,7523,5153,3919]
[25,"25-29",null,17628,12782,8331,5704,4342]
[30,"30-34",null,18417,13671,9351,6892,5273]
[35,"35-39",null,20616,15304,10479,7731,5903]
[40,"40-44",null,23869,16785,11649,8526,6517]
[45,"45-49",null,26667,18755,13014,9530,7278]
[50,"50-54",null,34855,24739,17089,13587,10391]
[55,"55-59",null,37077,26316,18184,14464,11056]
[60,"60",null,40378,28572,20695,17198,13826]
[61,"61",null,43379,30693,22232,18485,14848]
[62,"62",null,47484,33618,24345,20239,16258]
[63,"63",null,50495,35740,25882,21529,17283]
[64,"64",null,54611,38672,28004,23288,18702]
[65,"65",null,71403,50431,35402,31048,26366]
[66,"66",null,82942,58598,41135,36085,30634]
[67,"67",null,90584,63998,44928,39396,33461]
[68,"68",null,100305,70855,49754,43630,37051]
[69,"69",null,110353,77953,54729,47998,40770]
[70,"70",null,135813,94922,64427,55943,47941]
[71,"71",null,141147,98635,66947,58133,49835]
[72,"72",null,145148,101426,68852,59779,51239]
[73,"73",null,150470,105160,71375,61978,53137]
[74,"74",null,153134,107015,72639,63083,54064]
[75,"75+",null,159803,111677,75799,65822,56417]
[1,"1 Child",null,5826,4251,3056,2487,1845]
[2,"2 Children",null,9259,6775,4872,3960,2931]
[3,"3+ Children",null,13581,9925,7132,5802,4297]
[1,"Rider Comp. Maternidad",null,0,0,225,225,225]
[1,"Transplante de organos",null,0,0,0,0,0]
[]
[]
[]
["TARIFAS SEMESTRALES "]
["EDAD"]
[" "," ",null,"CW2","CW3","CW4","CW5","CW6"]
[18,"18-24",null,{"$f":"$G$2*D152","v":8907.7100000000009},6123.09,3987.19,2731.09,2077.0700000000002]
[25,"25-29",null,9342.84,6774.46,4415.43,3023.1200000000003,2301.2600000000002]
[30,"30-34",null,9761.01,7245.63,4956.0300000000007,3652.76,2794.69]
[35,"35-39",null,10926.480000000001,8111.1200000000008,5553.87,4097.43,3128.59]
[40,"40-44",null,12650.570000000002,8896.0500000000011,6173.97,4518.7800000000007,3454.01]
[45,"45-49",null,14133.51,9940.15,6897.42,5050.9000000000005,3857.34]
[50,"50-54",null,18473.150000000001,13111.67,9057.17,7201.1100000000006,5507.2300000000005]
[55,"55-59",null,19650.810000000001,13947.480000000001,9637.52,7665.92,5859.68]
[60,"60",null,21400.34,15143.16,10968.35,9114.94,7327.7800000000007]
[61,"61",null,22990.870000000003,16267.29,11782.960000000001,9797.0500000000011,7869.4400000000005]
[62,"62",null,25166.52,17817.54,12902.85,10726.67,8616.74]
[63,"63",null,26762.350000000002,18942.2,13717.460000000001,11410.37,9159.99]
[64,"64",null,28943.83,20496.16,14842.12,12342.640000000001,9912.0600000000013]
[65,"65",null,37843.590000000004,26728.43,18763.060000000001,16455.440000000002,13973.980000000001]
[66,"66",null,43959.26,31056.940000000002,21801.550000000003,19125.05,16236.02]
[67,"67",null,48009.520000000004,33918.94,23811.84,20879.88,17734.330000000002]
[68,"68",null,{"$f":"$G$2*D168","v":53161.65},37553.15,26369.620000000003,23123.9,19637.030000000002]
[69,"69",null,58487.090000000004,41315.090000000004,29006.370000000003,25438.940000000002,21608.100000000002]
[70,"70",null,71980.89,50308.66,34146.310000000005,29649.79,25408.73]
[71,"71",null,74807.91,52276.55,35481.910000000003,30810.49,26412.550000000003]
[72,"72",null,76928.44,53755.780000000006,36491.560000000005,31682.870000000003,27156.670000000002]
[73,"73",null,79749.100000000006,55734.8,37828.75,32848.340000000004,28162.61]
[74,"74",null,81161.02,56717.950000000004,38498.670000000006,33433.990000000005,28653.920000000002]
[75,"75+",null,84695.590000000011,59188.810000000005,40173.47,34885.660000000003,29901.010000000002]
[1,"1 Child",null,3087.78,2253.0300000000002,1619.68,1318.1100000000001,977.85]
[2,"2 Children",null,4907.2700000000004,3590.75,2582.1600000000003,2098.8000000000002,1553.43]
[3,"3+ Children",null,7197.93,5260.25,3779.96,3075.06,2277.4100000000003]
[1,"Rider Comp. Maternidad",null,{"$f":"+D179*$G$2","v":0},0,119.25,119.25,119.25]
[1,"Transplante de organos",null,0,0,0,0,0]
[]
[]
[]
[]
["COMPLETE (LATINAMERICA ONLY)"]
["TARIFAS ANUALES"]
["EDAD"]
[" "," ","CL1","CL2","CL3","CL4","CL5","CL6"]
[18,"-  24"]
[25,"-  29"]
[30,"-  34"]
[35,"-  39"]
[40,"-  44"]
[45,"-  49"]
[50,"-  54"]
[55,"-  59"]
[60]
[61]
[62]
[63]
[64]
[65]
[66]
[67]
[68]
[69]
[70]
[71]
[72]
[73]
[74]
[75,"o más"]
[1,"Hijo"]
[2,"Hijos"]
[3,"Hijos o más"]
[1,"Rider Comp. Maternidad"]
[1,"Transplante de organos",0,0,0,0,0,0]
[]
["TARIFAS SEMESTRALES "]
["EDAD"]
[" "," ","CL1","CL2","CL3","CL4","CL5","CL6"]
[18,"-  24",{"$f":"+C224*$G$2","v":0},0,0,0,0,0]
[25,"-  29",0,0,0,0,0,0]
[30,"-  34",0,0,0,0,0,0]
[35,"-  39",0,0,0,0,0,0]
[40,"-  44",0,0,0,0,0,0]
[45,"-  49",0,0,0,0,0,0]
[50,"-  54",0,0,0,0,0,0]
[55,"-  59",0,0,0,0,0,0]
[60,null,0,0,0,0,0,0]
[61,null,0,0,0,0,0,0]
[62,null,0,0,0,0,0,0]
[63,null,0,0,0,0,0,0]
[64,null,0,0,0,0,0,0]
[65,null,0,0,0,0,0,0]
[66,null,0,0,0,0,0,0]
[67,null,0,0,0,0,0,0]
[68,null,{"$f":"+C240*$G$2","v":0},0,0,0,0,0]
[69,null,0,0,0,0,0,0]
[70,null,0,0,0,0,0,0]
[71,null,0,0,0,0,0,0]
[72,null,0,0,0,0,0,0]
[73,null,0,0,0,0,0,0]
[74,null,0,0,0,0,0,0]
[75,"o más",0,0,0,0,0,0]
[1,"Hijo",0,0,0,0,0,0]
[2,"Hijos",0,0,0,0,0,0]
[3,"Hijos o más",0,0,0,0,0,0]
[1,"Rider Comp. Maternidad",0,0,0,0,0,0]
[1,"Transplante de organos",0,0,0,0,0,0]
[]
[]
[]
[]
[]
[]
[]
["BUPA ADVANTAGE CARE (WORLDWIDE)"]
["TARIFAS ANUALES"]
["EDAD"]
[" "," ",null,"AW2","AW3","AW4","AW5","AW6"]
[18,"18-24",null,11182,8399,5973,4387,3477]
[25,"25-29",null,12431,9370,6644,4889,3854]
[30,"30-34",null,14386,11018,7896,5798,4470]
[35,"35-39",null,15957,12262,8782,6605,4953]
[40,"40-44",null,18014,13890,9957,7373,5607]
[45,"45-49",null,20927,16009,11234,8404,6515]
[50,"50-54",null,22926,17985,13083,9423,7150]
[55,"55-59",null,27083,20773,14469,10921,8459]
[60,"60",null,29924,23002,15908,12052,9362]
[61,"61",null,33681,25879,17915,13558,10545]
[62,"62",null,37431,28767,19909,15078,11719]
[63,"63",null,41182,31654,21909,16596,12900]
[64,"64",null,44923,34535,23907,18111,14074]
[65,"65",null,48576,37589,26057,19726,16015]
[66,"66",null,51434,39800,27598,20886,16971]
[67,"67",null,57157,44226,30670,23211,18853]
[68,"68",null,62891,48670,33744,25538,20753]
[69,"69",null,65746,50877,35274,26700,21698]
[70,"70",null,66598,51690,35817,27199,21976]
[71,"71",null,74927,58169,40297,30616,24738]
[72,"72",null,83274,64625,44783,34023,27492]
[73,"73",null,91603,71099,49259,37431,30246]
[74,"74",null,99939,77574,53758,40856,32997]
[75,"75+",null,109333,86524,61658,44713,37869]
[1,"1 Child",null,4980,3549,2602,2206,1587]
[2,"2 Children",null,8106,5592,4103,3492,2333]
[3,"3+ Children",null,11868,8148,5989,5059,3551]
[1,"Rider Comp. Maternidad",null,225,225,225,225,225]
[1,"Transplante de organos",null,300,300,300,300,300]
[]
[]
[]
["TARIFAS SEMESTRALES "]
["EDAD"]
[" "," ",null,"AW2","AW3","AW4","AW5","AW6"]
[18,"18-24",null,{"$f":"+D297*$G$2","v":5926.46},4451.47,3165.69,2325.11,1842.8100000000002]
[25,"25-29",null,6588.43,4966.1000000000004,3521.32,2591.17,2042.6200000000001]
[30,"30-34",null,7624.5800000000008,5839.54,4184.88,3072.94,2369.1]
[35,"35-39",null,8457.2100000000009,6498.8600000000006,4654.46,3500.65,2625.09]
[40,"40-44",null,9547.42,7361.7000000000007,5277.21,3907.69,2971.71]
[45,"45-49",null,11091.310000000001,8484.77,5954.02,4454.12,3452.9500000000003]
[50,"50-54",null,12150.78,9532.0500000000011,6933.9900000000007,4994.1900000000005,3789.5]
[55,"55-59",null,14353.990000000002,11009.69,7668.5700000000006,5788.13,4483.2700000000004]
[60,"60",null,15859.720000000001,12191.060000000001,8431.24,6387.56,4961.8600000000006]
[61,"61",null,17850.93,13715.87,9494.9500000000007,7185.7400000000007,5588.85]
[62,"62",null,19838.43,15246.51,10551.77,7991.34,6211.0700000000006]
[63,"63",null,21826.460000000003,16776.620000000003,11611.77,8795.880000000001,6837]
[64,"64",null,23809.190000000002,18303.55,12670.710000000001,9598.83,7459.22]
[65,"65",null,25745.280000000002,19922.170000000002,13810.210000000001,10454.780000000001,8487.9500000000007]
[66,"66",null,27260.02,21094,14626.94,11069.58,8994.630000000001]
[67,"67",null,30293.210000000003,23439.780000000002,16255.1,12301.83,9992.09]
[68,"68",null,{"$f":"+D313*$G$2","v":33332.230000000003},25795.100000000002,17884.32,13535.140000000001,10999.09]
[69,"69",null,34845.380000000005,26964.81,18695.22,14151,11499.94]
[70,"70",null,35296.94,27395.7,18983.010000000002,14415.470000000001,11647.28]
[71,"71",null,39711.310000000005,30829.570000000003,21357.41,16226.480000000001,13111.140000000001]
[72,"72",null,44135.22,34251.25,23734.99,18032.190000000002,14570.76]
[73,"73",null,48549.590000000004,37682.47,26107.27,19838.43,16030.380000000001]
[74,"74",null,52967.670000000006,41114.22,28491.74,21653.68,17488.41]
[75,"75+",null,57946.490000000005,45857.72,32678.74,23697.89,20070.57]
[1,"1 Child",null,2639.4,1880.97,1379.0600000000002,1169.18,841.11]
[2,"2 Children",null,4296.18,2963.76,2174.59,1850.76,1236.49]
[3,"3+ Children",null,6290.04,4318.4400000000005,3174.17,2681.27,1882.0300000000002]
[1,"Rider Comp. Maternidad",null,119.25,119.25,119.25,119.25,119.25]
[1,"Transplante de organos",null,159,159,159,159,159]
[]
[]
[]
[]
[]
["ADVANTAGE (LATINAMERICA ONLY)"]
["TARIFAS ANUALES"]
["EDAD"]
[" "," ",null,"AL2","AL3","AL4","AL5","AL6"]
[18,"18-24",null,11240,8450,6003,4521,3578]
[25,"25-29",null,12522,9432,6676,5046,3960]
[30,"30-34",null,14491,11087,7953,5984,4611]
[35,"35-39",null,16068,12342,8853,6822,5116]
[40,"40-44",null,18135,13999,10040,7628,5791]
[45,"45-49",null,21074,16127,11319,8682,6734]
[50,"50-54",null,23095,18131,13196,9747,7397]
[55,"55-59",null,27290,20932,14596,11305,8747]
[60,"60",null,30152,23179,16056,12465,9685]
[61,"61",null,33942,26076,18072,14038,10913]
[62,"62",null,37722,29010,20091,15611,12132]
[63,"63",null,41505,31913,22117,17178,13360]
[64,"64",null,45292,34829,24140,18760,14569]
[65,"65",null,48973,37903,26303,20431,16582]
[66,"66",null,51857,40135,27861,21635,17581]
[67,"67",null,57634,44613,30968,24062,19536]
[68,"68",null,63406,49074,34077,26482,21499]
[69,"69",null,66294,51314,35619,27680,22488]
[70,"70",null,67143,52135,36169,28205,22786]
[71,"71",null,75557,58666,40705,31745,25636]
[72,"72",null,83973,65215,45242,35276,28498]
[73,"73",null,92378,71746,49775,38821,31358]
[74,"74",null,100789,78269,54304,42358,34218]
[75,"75+",null,110253,87280,62287,46373,39262]
[1,"1 Child",null,5009,3572,2624,2281,1656]
[2,"2 Children",null,8181,5634,4146,3620,2438]
[3,"3+ Children",null,11967,8220,6057,5241,3690]
[1,"Rider Comp. Maternidad"]
[1,"Transplante de organos"]
[]
["TARIFAS SEMESTRALES "]
["EDAD"]
[" "," ",null,"AL2","AL3","AL4","AL5","AL6"]
[18,"18-24",null,{"$f":"+D370*$G$2","v":5957.2000000000007},4478.5,3181.59,2396.13,1896.3400000000001]
[25,"25-29",null,6636.6600000000008,4998.96,3538.28,2674.38,2098.8000000000002]
[30,"30-34",null,7680.2300000000005,5876.1100000000006,4215.09,3171.52,2443.83]
[35,"35-39",null,8516.0400000000009,6541.26,4692.09,3615.6600000000003,2711.48]
[40,"40-44",null,9611.5500000000011,7419.47,5321.2,4042.84,3069.23]
[45,"45-49",null,11169.220000000001,8547.3100000000013,5999.0700000000006,4601.46,3569.02]
[50,"50-54",null,12240.35,9609.43,6993.88,5165.91,3920.4100000000003]
[55,"55-59",null,14463.7,11093.960000000001,7735.88,5991.6500000000005,4635.91]
[60,"60",null,15980.560000000001,12284.87,8509.68,6606.4500000000007,5133.05]
[61,"61",null,17989.260000000002,13820.28,9578.16,7440.14,5783.89]
[62,"62",null,19992.66,15375.300000000001,10648.230000000001,8273.83,6429.96]
[63,"63",null,21997.65,16913.89,11722.01,9104.34,7080.8]
[64,"64",null,24004.760000000002,18459.370000000003,12794.2,9942.8000000000011,7721.5700000000006]
[65,"65",null,25955.690000000002,20088.59,13940.59,10828.43,8788.4600000000009]
[66,"66",null,27484.210000000003,21271.55,14766.33,11466.550000000001,9317.93]
[67,"67",null,30546.02,23644.89,16413.04,12752.86,10354.08]
[68,"68",null,{"$f":"+D386*$G$2","v":33605.18},26009.22,18060.810000000001,14035.460000000001,11394.470000000001]
[69,"69",null,35135.82,27196.420000000002,18878.07,14670.400000000001,11918.640000000001]
[70,"70",null,35585.79,27631.550000000003,19169.57,14948.650000000001,12076.58]
[71,"71",null,40045.21,31092.980000000003,21573.65,16824.850000000002,13587.08]
[72,"72",null,44505.69,34563.950000000004,23978.260000000002,18696.280000000002,15103.94]
[73,"73",null,48960.340000000004,38025.380000000005,26380.75,20575.13,16619.740000000002]
[74,"74",null,53418.170000000006,41482.57,28781.120000000003,22449.74,18135.54]
[75,"75+",null,58434.090000000004,46258.400000000001,33012.11,24577.690000000002,20808.86]
[1,"1 Child",null,2654.77,1893.16,1390.72,1208.93,877.68000000000006]
[2,"2 Children",null,4335.93,2986.02,2197.38,1918.6000000000001,1292.1400000000001]
[3,"3+ Children",null,6342.51,4356.6000000000004,3210.21,2777.73,1955.7]
[1,"Rider Comp. Maternidad",null,0,0,0,0,0]
[1,"Transplante de organos",null,0,0,0,0,0]
[]
[]
[]
[]
["BUPA SECURE CARE"]
["TARIFAS ANUALES"]
["EDAD"]
[" "," ",null,"SE2","SE3","SE4","SE5","SE6"]
[18,"18-24",null,9383,7359,5035,4100,3115]
[25,"25-29",null,10356,8304,5618,4569,3466]
[30,"30-34",null,11866,9745,6522,5309,4010]
[35,"35-39",null,13067,10899,7260,5904,4440]
[40,"40-44",null,14646,12437,8199,6671,5019]
[45,"45-49",null,16855,14584,9549,7746,5823]
[50,"50-54",null,18398,16056,10468,8502,6371]
[55,"55-59",null,21617,19164,12412,10080,7532]
[60,"60",null,22630,20486,13135,10670,7980]
[61,"61",null,25486,23050,14793,12013,8985]
[62,"62",null,28327,25628,16465,13350,10002]
[63,"63",null,31158,28202,18106,14698,11007]
[64,"64",null,34018,30774,19764,16042,12015]
[65,"65",null,34042,31069,19879,16132,12056]
[66,"66",null,34076,31360,19988,16216,12094]
[67,"67",null,37889,34858,22222,18033,13452]
[68,"68",null,41681,38336,24458,19847,14813]
[69,"69",null,43588,40076,25571,20736,15496]
[70,"70",null,43659,40766,25831,20944,15567]
[71,"71",null,49126,45874,29078,23574,17529]
[72,"72",null,54612,50992,32325,26203,19485]
[73,"73",null,60078,56083,35562,28832,21434]
[74,"74",null,65549,61199,38805,31464,23399]
[75,"75+",null,71437,67128,42431,34413,25571]
[1,"1 Child",null,4531,2664,2037,1647,1208]
[2,"2 Children",null,7634,3989,3199,2594,1925]
[3,"3+ Children",null,11209,5720,4645,3760,2789]
[1,"Rider Comp. Maternidad",null,225,225,225,225,225]
[1,"Transplante de organos",null,300,300,300,300,300]
[]
[]
[]
[]
["TARIFAS SEMESTRALES "]
["EDAD"]
[" "," ",null,"SE2","SE3","SE4","SE5","SE6"]
[18,"18-24",null,{"$f":"+D440*$G$2","v":4972.9900000000007},3900.27,2668.55,2173,1650.95]
[25,"25-29",null,5488.68,4401.12,2977.54,2421.5700000000002,1836.98]
[30,"30-34",null,6288.9800000000005,5164.8500000000004,3456.6600000000003,2813.77,2125.3000000000002]
[35,"35-39",null,6925.51,5776.47,3847.8,3129.1200000000003,2353.2000000000003]
[40,"40-44",null,7762.38,6591.6100000000006,4345.47,3535.63,2660.07]
[45,"45-49",null,8933.15,7729.52,5060.97,4105.38,3086.19]
[50,"50-54",null,9750.94,8509.68,5548.04,4506.0600000000004,3376.63]
[55,"55-59",null,11457.01,10156.92,6578.3600000000006,5342.4000000000005,3991.96]
[60,"60",null,11993.900000000001,10857.58,6961.55,5655.1,4229.4000000000005]
[61,"61",null,13507.58,12216.5,7840.29,6366.89,4762.05]
[62,"62",null,15013.310000000001,13582.84,8726.4500000000007,7075.5,5301.06]
[63,"63",null,16513.740000000002,14947.060000000001,9596.18,7789.9400000000005,5833.71]
[64,"64",null,18029.54,16310.220000000001,10474.92,8502.26,6367.9500000000007]
[65,"65",null,18042.260000000002,16466.57,10535.87,8549.9600000000009,6389.68]
[66,"66",null,18060.280000000002,16620.8,10593.640000000001,8594.48,6409.8200000000006]
[67,"67",null,20081.170000000002,18474.740000000002,11777.66,9557.49,7129.56]
[68,"68",null,{"$f":"+D456*$G$2","v":22090.93},20318.080000000002,12962.74,10518.91,7850.89]
[69,"69",null,23101.64,21240.280000000002,13552.630000000001,10990.08,8212.880000000001]
[70,"70",null,23139.27,21605.98,13690.43,11100.32,8250.51]
[71,"71",null,26036.780000000002,24313.22,15411.34,12494.220000000001,9290.3700000000008]
[72,"72",null,28944.36,27025.760000000002,17132.25,13887.59,10327.050000000001]
[73,"73",null,31841.34,29723.99,18847.86,15280.960000000001,11360.02]
[74,"74",null,34740.97,32435.47,20566.650000000001,16675.920000000002,12401.470000000001]
[75,"75+",null,37861.61,35577.840000000004,22488.43,18238.89,13552.630000000001]
[1,"1 Child",null,2401.4300000000003,1411.92,1079.6100000000001,872.91000000000008,640.24]
[2,"2 Children",null,4046.02,2114.17,1695.47,1374.8200000000002,1020.25]
[3,"3+ Children",null,5940.77,3031.6000000000004,2461.85,1992.8000000000002,1478.17]
[1,"Rider Comp. Maternidad",null,119.25,119.25,119.25,119.25,119.25]
[1,"Transplante de organos",null,159,159,159,159,159]
[]
[]
[]
[]
["ESSENTIAL"]
["TARIFAS ANUALES"]
["EDAD"]
[" "," ",null,"ET2","ET3","ET4","ET5","ET6"]
[18,"18-24",null,7758,6084,4157,3382,2568]
[25,"25-29",null,8556,6853,4641,3780,2857]
[30,"30-34",null,9806,8048,5390,4382,3299]
[35,"35-39",null,10810,9024,5991,4872,3673]
[40,"40-44",null,12115,10293,6771,5510,4147]
[45,"45-49",null,13949,12064,7905,6414,4814]
[50,"50-54",null,15231,13293,8660,7043,5264]
[55,"55-59",null,17885,15876,10267,8329,6236]
[60,"60",null,18725,16960,10878,8825,6595]
[61,"61",null,21088,19093,12245,9937,7435]
[62,"62",null,23455,21218,13617,11050,8272]
[63,"63",null,25817,23352,14984,12165,9101]
[64,"64",null,28157,25480,16361,13280,9941]
[65,"65",null,28190,25734,16468,13351,9972]
[66,"66",null,28218,25976,16566,13419,10018]
[67,"67",null,31378,28865,18409,14926,11138]
[68,"68",null,34516,31775,20253,16422,12263]
[69,"69",null,36097,33210,21183,17177,12823]
[70,"70",null,36156,33779,21405,17336,12891]
[71,"71",null,40685,38015,24085,19528,14523]
[72,"72",null,45236,42237,26771,21709,16121]
[73,"73",null,49757,46471,29456,23877,17750]
[74,"74",null,54313,50711,32145,26061,19370]
[75,"75+",null,59178,55616,35161,28498,21172]
[1,"1 Child",null,3756,2226,1691,1365,1006]
[2,"2 Children",null,6327,3301,2647,2145,1594]
[3,"3+ Children",null,9292,4737,3858,3115,2304]
[1,"Rider Comp. Maternidad",null,225,225,225,225,225]
[1,"Transplante de organos",null,300,300,300,300,300]
[]
[]
[]
["TARIFAS SEMESTRALES "]
["EDAD"]
[" "," ",null,"ET2","ET3","ET4","ET5","ET6"]
[18,"18-24",null,{"$f":"+D513*$G$2","v":4111.74},3224.52,2203.21,1792.46,1361.04]
[25,"25-29",null,4534.68,3632.09,2459.73,2003.4,1514.21]
[30,"30-34",null,5197.18,4265.4400000000005,2856.7000000000003,2322.46,1748.47]
[35,"35-39",null,5729.3,4782.72,3175.23,2582.1600000000003,1946.69]
[40,"40-44",null,6420.9500000000007,5455.29,3588.63,2920.3,2197.9100000000003]
[45,"45-49",null,7392.97,6393.92,4189.6500000000005,3399.42,2551.42]
[50,"50-54",null,8072.43,7045.29,4589.8,3732.79,2789.92]
[55,"55-59",null,9479.0500000000011,8414.2800000000007,5441.51,4414.37,3305.0800000000004]
[60,"60",null,9924.25,8988.8000000000011,5765.34,4677.25,3495.3500000000004]
[61,"61",null,11176.640000000001,10119.290000000001,6489.85,5266.6100000000006,3940.55]
[62,"62",null,12431.150000000001,11245.54,7217.01,5856.5,4384.16]
[63,"63",null,13683.01,12376.560000000001,7941.52,6447.4500000000007,4823.5300000000007]
[64,"64",null,14923.210000000001,13504.400000000001,8671.33,7038.4000000000005,5268.7300000000005]
[65,"65",null,14940.7,13639.02,8728.0400000000009,7076.0300000000007,5285.16]
[66,"66",null,14955.54,13767.28,8779.98,7112.0700000000006,5309.54]
[67,"67",null,16630.34,15298.45,9756.77,7910.7800000000007,5903.14]
[68,"68",null,{"$f":"+D529*$G$2","v":18293.48},16840.75,10734.09,8703.66,6499.39]
[69,"69",null,19131.41,17601.3,11226.99,9103.8100000000013,6796.1900000000005]
[70,"70",null,19162.68,17902.870000000003,11344.650000000001,9188.08,6832.2300000000005]
[71,"71",null,21563.05,20147.95,12765.050000000001,10349.84,7697.1900000000005]
[72,"72",null,23975.08,22385.61,14188.630000000001,11505.77,8544.130000000001]
[73,"73",null,26371.210000000003,24629.63,15611.68,12654.810000000001,9407.5]
[74,"74",null,28785.890000000003,26876.83,17036.850000000002,13812.33,10266.1]
[75,"75+",null,31364.34,29476.480000000003,18635.330000000002,15103.94,11221.16]
[1,"1 Child",null,1990.68,1179.78,896.23,723.45,533.18000000000006]
[2,"2 Children",null,3353.31,1749.5300000000002,1402.91,1136.8500000000001,844.82]
[3,"3+ Children",null,4924.76,2510.61,2044.74,1650.95,1221.1200000000001]
[1,"Rider Comp. Maternidad",null,119.25,119.25,119.25,119.25,119.25]
[1,"Transplante de organos",null,159,159,159,159,159]
[]
[]
[]
[]
[]
["CRITICAL"]
["TARIFAS ANUALES"]
["EDAD"]
[" "," ","CR1",null,null,"CR2",null,null,"CR3",null,null,"CR4",null,null,"CR5",null,null,"CR6"]
[null,null,"INDIVIDUAL","2 PERSONAS","FAMILIAR","INDIVIDUAL","2 PERSONAS","FAMILIAR","INDIVIDUAL","2 PERSONAS","FAMILIAR","INDIVIDUAL","2 PERSONAS","FAMILIAR","INDIVIDUAL","2 PERSONAS","FAMILIAR","INDIVIDUAL","2 PERSONAS","FAMILIAR"]
[18,"-  49",4426,7783,11129,3576,6101,8631,3060,5261,7439,2432,4071,5707,1824,2940,4058,1144,1685,2237]
[50,"o más",5596,8947,12299,4517,7038,9549,3816,6027,8202,3000,4635,6289,2209,3323,4444,1336,1871,2427]
[]
[]
["TARIFAS SEMESTRALES "]
["EDAD"]
[" "," ","CR1",null,null,"CR2",null,null,"CR3",null,null,"CR4",null,null,"CR5"]
[null,null,"INDIVIDUAL","2 PERSONAS","FAMILIAR","INDIVIDUAL","2 PERSONAS","FAMILIAR","INDIVIDUAL","2 PERSONAS","FAMILIAR","INDIVIDUAL","2 PERSONAS","FAMILIAR","INDIVIDUAL","2 PERSONAS","FAMILIAR"]
[18,"-  25",{"$f":"AO595","v":0},{"$f":"AP595","v":0},0,0,0,0,0,0,0,0,0,0,0,0,0]
[75,"o más",{"$f":"AO596","v":0},0,0,0,0,0,0,0,0,0,0,0,0,0,0]